BEGIN:VCALENDAR
VERSION:2.0
PRODID:-//Cafebrería ad Hoc - ECPv6.15.13.1//NONSGML v1.0//EN
CALSCALE:GREGORIAN
METHOD:PUBLISH
X-WR-CALNAME:Cafebrería ad Hoc
X-ORIGINAL-URL:https://cafebreriaadhoc.com
X-WR-CALDESC:Eventos para Cafebrería ad Hoc
REFRESH-INTERVAL;VALUE=DURATION:PT1H
X-Robots-Tag:noindex
X-PUBLISHED-TTL:PT1H
BEGIN:VTIMEZONE
TZID:Europe/Madrid
BEGIN:DAYLIGHT
TZOFFSETFROM:+0100
TZOFFSETTO:+0200
TZNAME:CEST
DTSTART:20250330T010000
END:DAYLIGHT
BEGIN:STANDARD
TZOFFSETFROM:+0200
TZOFFSETTO:+0100
TZNAME:CET
DTSTART:20251026T010000
END:STANDARD
BEGIN:DAYLIGHT
TZOFFSETFROM:+0100
TZOFFSETTO:+0200
TZNAME:CEST
DTSTART:20260329T010000
END:DAYLIGHT
BEGIN:STANDARD
TZOFFSETFROM:+0200
TZOFFSETTO:+0100
TZNAME:CET
DTSTART:20261025T010000
END:STANDARD
BEGIN:DAYLIGHT
TZOFFSETFROM:+0100
TZOFFSETTO:+0200
TZNAME:CEST
DTSTART:20270328T010000
END:DAYLIGHT
BEGIN:STANDARD
TZOFFSETFROM:+0200
TZOFFSETTO:+0100
TZNAME:CET
DTSTART:20271031T010000
END:STANDARD
END:VTIMEZONE
BEGIN:VEVENT
DTSTART;TZID=Europe/Madrid:20260218T193000
DTEND;TZID=Europe/Madrid:20260218T220000
DTSTAMP:20260422T133718
CREATED:20260212T105347Z
LAST-MODIFIED:20260213T162715Z
UID:16986-1771443000-1771452000@cafebreriaadhoc.com
SUMMARY:Tres Mujeres: Conversatorio en torno a la exposición actual comisariada por José Tono Martínez.
DESCRIPTION:Además del comisario\, participan en la charla las artistas Noni Benegas\, Verónica Jaffé y Ana Pérez Pereda.\n\n\n\n\n\n\n\n\n\n\n\n\n\n\n\nLa idea de este encuentro sobre poesía\, arte y memoria\, parte de una relectura de un libro de la etapa intermedia del escritor austriaco Robert Musil\, Tres Mujeres\, publicado entre Las tribulaciones del estudiante Törless (1906; Esp. 1969) y la saga magistral que es\, para quien esto firma\, El Hombre sin atributos (1942; Esp. 1970). \n\n\n\nAllí\, por boca de Ulrich\, en sus diálogo con Diotima\, organizadora de la extraña conmemoración que es la Acción Paralela del Estado de Kakania (remedo del antiguo Imperio Austro-Húngaro)\, se nos dice «la verdad no es\, claro está\, ningún cristal que se puede meter en el bolsillo\, sino un líquido ilimitado en el que uno cae». ¿Anticipo de Zigmunt Bauman? \n\n\n\nEl líquido ilimitado de Tres Mujeres\, que\, en su época suscitó una mezcla de pasmo\, y hasta escándalo\, por la libertad con la que se abordaba la psicología y la sexualidad de las protagonistas de esos relatos\, presenta tres tipologías de mujer que esperan\, es decir\, que su accionar vital y narrativo se pone en marcha una vez que aparecen en escena caballeros\, jóvenes señoros burgueses\, que representan el mundo de la acción y el cambio. Grigia\, idílica labradora montañesa que “se deja llevar” al huerto\, al henar\, por un geólogo desencantado; La Portuguesa\, enigmática y misteriosa dama\, casada con Von Ketten\, un excéntrico y aristócrata guerrero; y Tonka\, pobre tendera que mantiene una relación con un joven estudiante\, protector enamorado de su aparente simpleza. \n\n\n\n\n\nRevisar y deconstruir estos modelos de dependencia\, aureolados de romanticismo y hasta de magia\, en el caso de La Portuguesa\, nos permite convocar a Tres Mujeres de nuestro tiempo cuya obra representa indagaciones\, valores y descripciones que desmontan\, retuercen y dan la vuelta al élan vital que mueve a las protagonistas de Musil\, que ahora pasan de ser sujeto/objeto paciente a sujeto actuante. \n\n\n\nAna Pérez Pereda\, reflexiona en su última obra sobre un paisaje entrevisto desde la línea de un horizonte que redibuja el propio paisaje\, anticipando y sugiriendo otros nuevos paisajes\, a veces\, en la carretera\, paisajes intermedios que se crean y acotan mientras nos desplazamos\, como en un sueño\, en la duermevela. Para ciertos visionarios\, las intuiciones más profundas se producen en esos estadios intermedios\, entre el alba y el ocaso\, entre la partida y el regreso\, intuición que lleva a Ana\, en ese caso\, a desmontar literalmente el citado libro de Musil en un paisaje/secuencia/corrido de frases que exponen las vergüenzas de un tiempo que aquí se nos presenta como vindicación\, como pasos perdidos que ahora nos reconducen/reorientan. \n\n\n\nVerónica Jaffé reflexiona sobre los bosques blancos\, y nos traduce el lenguaje de los bosques\, el silencio sólo aparente de los paisajes misteriosos cubiertos por la nieve\, ese inmaculado meteoro que desdibuja la formas para crear rumores plisados\, conjuros desnudos sobre troncos reescritos\, rehabitados\, interpretados. Los bosques animados de VF\, poblados de criaturas y seres extraños tienen una cierta condición feérica\, y nos recuerdan ese principio del budismo Zen que trata de alcanzar lo simple desde lo sofisticado\, como sofisticada era la Sei Shônagon que en su Libro de la Almohada nos habla de aquellos que competían por escribir un poema que describiera el efecto de la primera nieve caída. \n\n\n\nNoni Benegas se remonta a los paisajes no verbales\, a los paisajes interiores que se producen a modo de eco\, antes de presentarse ante nosotros\, en su materialidad. Son paisajes surrealistas\, de alucinadas formas\, pues\, ¿cómo puede el eco darse antes que la voz que lo señala\, anota y determina? NB nos invita a experimentar un paisaje sonoro de ausencias\, pero que no está vacío\, un paisaje anterior a la palabra pronunciada\, un paisaje interior primigenio\, que en el origen tal vez busca la unión de los opuestos\, la androginia del dios o diosa que a sí mismo se desconoce\, porque no se ha pronunciado: el “pájaro solitario en su cumbre” que pugna hoy por hacerse\, entre re/velados pulsos\, sujeto de su propia historia. \n\n\n\nPor último\, he de decir que evocando a la Shônagon\, un tokonoma o espacio del vacío recoge algunos símbolos alusivos al proceso de creación de nuestras Tres Mujeres emplazadas. \n\n\n\nJosé Tono Martínez\, comisario. \n\n\n\n\n\n\n\n\n\n\n\n\n	\n		Comparte este evento\n		FacebookTwitterRedditLinkedInWhatsAppPinterestCorreo electrónico
URL:https://cafebreriaadhoc.com/evento/tres-mujeres-conversatorio-en-torno-a-la-exposicion-actual-comisariada-por-jose-tono-martinez/
CATEGORIES:Presentación literaria
ATTACH;FMTTYPE=image/png:https://cafebreriaadhoc.com/wp-content/uploads/2026/02/image-4.png
END:VEVENT
BEGIN:VEVENT
DTSTART;TZID=Europe/Madrid:20260219T190000
DTEND;TZID=Europe/Madrid:20260219T220000
DTSTAMP:20260422T133718
CREATED:20260206T085904Z
LAST-MODIFIED:20260206T125343Z
UID:16973-1771527600-1771538400@cafebreriaadhoc.com
SUMMARY:Presentación de Temblor de no ver más (Ed. Joaquín Gallego)\, de Anne Louyot.
DESCRIPTION:Junto a la autora presentará el libro Carlos García-Alíx. Se expondrán cuatro fotografías originales.\n\n\n\n\n\n\n\n\n\n\n\n\n\n\n\nSinopsis: \n\n\n\nEnsayo literario y fotográfico sobre los búnkeres del Parque del Oeste de Madrid construidos en la Guerra Civil.  \n\n\n\nEdición compuesta por 45 fotografías de la autora\, 10 fotografías de archivos históricos y 4 reproducciones de las obras de los artistas colaboradores Carlos García-Alix\, Kika Levy\, Ernesto Bonato y Florence Grundeler; además de textos y poemas de Philippe Jaccottet\, Jacinto M. Arévalo\,  Yves Bonnefoy\, René Char\, Jean Tardieu\, José Moreno Villa\, José Antonio Zarza\, Robert Desnos\, Guillaume Apollinaire\, Anna Ajmátova\, Pierre Reverdy\, Joë Bousquet\, Carlos García-Alix\, André du Bouchet\, Jean Follain\, Henri Michaux\, ÁngelGonzález\, Emily Dickinson\, Eugène Guillevic\, Raymond Queneau\, Olivier Barbarant\, João Cabral de Melo\, Paul Eluard\, Alejandra Pizarnik\, Louise de Vilmorin\, Michel Louyot\, Jean Folain\, Rainer Maria Rilke\, Paul Celan e Ingeborg Bachmann. \n\n\n\n\n\n\n\n\n\n\n\nAnne Louyot\n\n\n\nAnne Louyot es diplomática\, fotógrafa y escritora. Ha expuesto y publicado sus trabajos en Caracas\, Maracaibo\, Bogotá\, San Paulo\, París y Marcigny. Ha trabajado en Brasilia y Moscú y ha sido comisaria del Año de Francia en Brasil y del Año Colombia-Francia. Entre 2018 y 2021 ha sido consejera cultural en la embajada de Francia en España. \n\n\n\n\n\n\n\n\n\n\n\n \n\n\n\n\n\n\n\n\n	\n		Comparte este evento\n		FacebookTwitterRedditLinkedInWhatsAppPinterestCorreo electrónico
URL:https://cafebreriaadhoc.com/evento/presentacion-de-temblor-de-no-ver-mas-ed-joaquin-gallego-de-anne-louyot/
CATEGORIES:Presentación literaria
ATTACH;FMTTYPE=image/png:https://cafebreriaadhoc.com/wp-content/uploads/2026/02/image.png
END:VEVENT
BEGIN:VEVENT
DTSTART;TZID=Europe/Madrid:20260225T190000
DTEND;TZID=Europe/Madrid:20260225T220000
DTSTAMP:20260422T133718
CREATED:20260206T173242Z
LAST-MODIFIED:20260211T103751Z
UID:16980-1772046000-1772056800@cafebreriaadhoc.com
SUMMARY:Presentación de Limones en el balcón (Ed. Orígenes)\, de Pilar Mañas.
DESCRIPTION:Junto a la autora presentará el libro Luis García Montero\, escritor y director del Instituto Cervantes.\n\n\n\n\n\n\n\n\n\n\n\n\n\n\n\nSinopsis: \n\n\n\nLimones en el balcón reúne veinte textos a medio camino entre el ensayo y la ficción de tema diverso y en los que predomina la mirada de la mujer actual sobre las relaciones amorosas\, afectivas y familiares. Es una mirada comprometida con el tiempo que fue el principio de la democracia y la ruptura con los modelos tradicionales y conservadores de la época. Una mirada que indaga en el misterio del paso del tiempo y lucha para no dejarse arrastrar por la melancolía de lo que fue y busca puntos de fuga como el amor tras la ausencia o los proyectos que puedan tejer nuevos sueños. Los lectores encontrarán en estos textos\, si se deciden a ser recibidos en sus páginas\, destellos de la literatura escrita por autoras del siglo XX. Maestras en el arte narrativo comprometido y reflexivo como Natalia Ginzburg\, Elizabeth Strout o Virginia Woolf\, autoras que han servido de guía ética y estética a la autora. \n\n\n\n\n\n\n\n\n\n\n\nPilar Mañas\n\n\n\nEs escritora y traductora. Miembro de la Academia de Buenas Letras de Granada. Licenciada en Filología Inglesa por la Universidad Complutense de Madrid (1979) y doctora por la Universidad de Granada (1989)\, donde ejerció la docencia hasta el año 2000. \n\n\n\nHa publicado las novelas Como ángeles de otros (Comares\, Granada\, 2000)\, Mujer en la atalaya (Renacimiento\, Sevilla\, 2012) y cuatro libros de relatos: El salario de seda (Diputación Provincial Granada\, 1996)\, La piel del frío (Pretextos\, 2001)\, Cuevas (Renacimiento\, Sevilla\, 2007) y Cuarto interior (Renacimiento\, Sevilla\, 2016).  \n\n\n\n\n\n\n\n\n\n\n\nReunió sus poemas escritos a lo largo de una década en su libro Arte de temblar (Mirto Academia\, Editorial Alhulia)\, 2016. Es\, autora de traducciones como Heroínas modernas (Celeste Ediciones\, Madrid\, 2001)\, Tú me acariciaste y otros relatos de D. H. Lawrence (Editorial Mondadori\, 2007) y La educación de Oscar Fairfax (Libros del Asteroide\, Barcelona\, 2008).Actualmente imparte talleres de escritura creativa. \n\n\n\n\n\n\n\n\n	\n		Comparte este evento\n		FacebookTwitterRedditLinkedInWhatsAppPinterestCorreo electrónico
URL:https://cafebreriaadhoc.com/evento/presentacion-de-limones-en-el-balcon-ed-origenes-de-pilar-manas/
CATEGORIES:Presentación literaria
ATTACH;FMTTYPE=image/png:https://cafebreriaadhoc.com/wp-content/uploads/2026/02/image-2.png
END:VEVENT
END:VCALENDAR