BEGIN:VCALENDAR
VERSION:2.0
PRODID:-//Cafebrería ad Hoc - ECPv6.15.13.1//NONSGML v1.0//EN
CALSCALE:GREGORIAN
METHOD:PUBLISH
X-ORIGINAL-URL:https://cafebreriaadhoc.com
X-WR-CALDESC:Eventos para Cafebrería ad Hoc
REFRESH-INTERVAL;VALUE=DURATION:PT1H
X-Robots-Tag:noindex
X-PUBLISHED-TTL:PT1H
BEGIN:VTIMEZONE
TZID:Europe/Madrid
BEGIN:DAYLIGHT
TZOFFSETFROM:+0100
TZOFFSETTO:+0200
TZNAME:CEST
DTSTART:20210328T010000
END:DAYLIGHT
BEGIN:STANDARD
TZOFFSETFROM:+0200
TZOFFSETTO:+0100
TZNAME:CET
DTSTART:20211031T010000
END:STANDARD
BEGIN:DAYLIGHT
TZOFFSETFROM:+0100
TZOFFSETTO:+0200
TZNAME:CEST
DTSTART:20220327T010000
END:DAYLIGHT
BEGIN:STANDARD
TZOFFSETFROM:+0200
TZOFFSETTO:+0100
TZNAME:CET
DTSTART:20221030T010000
END:STANDARD
BEGIN:DAYLIGHT
TZOFFSETFROM:+0100
TZOFFSETTO:+0200
TZNAME:CEST
DTSTART:20230326T010000
END:DAYLIGHT
BEGIN:STANDARD
TZOFFSETFROM:+0200
TZOFFSETTO:+0100
TZNAME:CET
DTSTART:20231029T010000
END:STANDARD
END:VTIMEZONE
BEGIN:VEVENT
DTSTART;TZID=Europe/Madrid:20220305T120000
DTEND;TZID=Europe/Madrid:20220305T133000
DTSTAMP:20260423T220944
CREATED:20220301T124647Z
LAST-MODIFIED:20220301T124649Z
UID:11221-1646481600-1646487000@cafebreriaadhoc.com
SUMMARY:Presentación de Mensaje en un jersey a rayas (Adeshoras)\, de Bego Torregrosa
DESCRIPTION:Los trece relatos que componen este libro de Bego Torregrosa\, Mensaje en un jersey de rayas\, están dedicados a todas aquellas personas que alguna vez han sentido que estaban dentro de una jaula. Para quienes no encuentran su nido o a quienes cortaron las alas. No son\, ni pretenden ser\, sin embargo\, una respuesta a nada. Son solo juegos con palabras\, o quizá solo sean una forma de volar.  \n\n\n\n\n\n\n\nPortada del libro de Bego Torregrosa\, ilustrada por Raquel F. Sáez\n\n\n\n\n\n\n\nUn padre de familia que tiene que tomar una importante decisión laboral\, un matrimonio devorado por la rutina\, una mujer que se muestra impasible cuando su marido le confiesa que le ha sido infiel\, un joven que acude al psicoanalista para superar su fobia a entablar relaciones y un empleado de banca exalcohólico social\, son algunos de los personajes que pueblan este libro. \n\n\n\nMensaje en un jersey de rayas: la sensación de estar dentro de una jaula\n\n\n\nLos trece relatos que componen Mensaje en un jersey de rayas están dedicados a todas aquellas personas que alguna vez han sentido que estaban dentro de una jaula. Para quienes no encuentran su nido o a quienes cortaron las alas. No son\, ni pretenden ser\, sin embargo\, una respuesta a nada. Son solo juegos con palabras\, o quizá solo sean una forma de volar. \n\n\n\n\n\n\n\n\n\n\n\n\n\n\n\n\n\n\n\n\n\n\n\nBego Torregrosa (Alicante\, 1971)\, es arquitecta y escritora. En la actualidad\, se dedica a construir historias. \n\n\n\nDirige la Escuela de escritura creativa\, donde también imparte cursos de relato\, autobiografía y novela.  \n\n\n\nPor sus cuentos\, ha recibido reconocimientos como el primer premio en el Concurso de Cuentos Gabriel Aresti del Ayuntamiento de Bilbao\, accésit en el Certamen Literario José Mª Franco Delgado de Cádiz y accésit del Certamen Arte Joven Latina de Madrid\, además de quedar finalista en otros certámenes de relato y microrrelato. \n\n\n\nSu trabajo ha sido incluido en varias antologías. Mensaje en un jersey de rayas es su primer libro en solitario. \n\n\n\n\n\n\n\n\n\n\n\nLa imagen que ilustra la cubierta del libro es obra de Raquel F. Sáez (Madrid\, 1982). Es licenciada en Bellas Artes\, diplomada en Ilustración y experimentada en docencia. Entre acuarelas\, píxeles\, grafitos y tinta de tatuaje\, esta artista plástica desarrolla su obra abarcando temáticas y públicos muy diferentes: sostenibilidad\, crítica social\, terror\, cuentos\, animales\, cómic\, targets en comercio…  \n\n\n\nHa participado en exposiciones individuales y colectivas\, y ha ilustrado para distintas editoriales. Para Adeshoras ha ilustrado los poemarios Farewell (2014)\, Nada más necesito (2017) y Pangea (2020)\, así como la cubierta del libro de relatos Els amics muts/Los amigos mudos (2019) y de la novela Baruc (2019). \n\n\n\n\n\n\n\n\n\n\n\n\n\n\n\n\n	\n		Comparte este evento\n		FacebookTwitterRedditLinkedInWhatsAppPinterestCorreo electrónico
URL:https://cafebreriaadhoc.com/evento/presentacion-dmensaje-en-un-jersey-a-rayas-de-bego-torregrosa-3/
CATEGORIES:Charla-coloquio,Firma,INDEPRESENTES,Presentación literaria
ATTACH;FMTTYPE=image/jpeg:https://cafebreriaadhoc.com/wp-content/uploads/2022/02/Portada_Mensaje-en-un-jersey-a-rayas_baja.jpg
END:VEVENT
END:VCALENDAR