BEGIN:VCALENDAR
VERSION:2.0
PRODID:-//Cafebrería ad Hoc - ECPv6.15.13.1//NONSGML v1.0//EN
CALSCALE:GREGORIAN
METHOD:PUBLISH
X-WR-CALNAME:Cafebrería ad Hoc
X-ORIGINAL-URL:https://cafebreriaadhoc.com
X-WR-CALDESC:Eventos para Cafebrería ad Hoc
REFRESH-INTERVAL;VALUE=DURATION:PT1H
X-Robots-Tag:noindex
X-PUBLISHED-TTL:PT1H
BEGIN:VTIMEZONE
TZID:Europe/Madrid
BEGIN:DAYLIGHT
TZOFFSETFROM:+0100
TZOFFSETTO:+0200
TZNAME:CEST
DTSTART:20210328T010000
END:DAYLIGHT
BEGIN:STANDARD
TZOFFSETFROM:+0200
TZOFFSETTO:+0100
TZNAME:CET
DTSTART:20211031T010000
END:STANDARD
BEGIN:DAYLIGHT
TZOFFSETFROM:+0100
TZOFFSETTO:+0200
TZNAME:CEST
DTSTART:20220327T010000
END:DAYLIGHT
BEGIN:STANDARD
TZOFFSETFROM:+0200
TZOFFSETTO:+0100
TZNAME:CET
DTSTART:20221030T010000
END:STANDARD
BEGIN:DAYLIGHT
TZOFFSETFROM:+0100
TZOFFSETTO:+0200
TZNAME:CEST
DTSTART:20230326T010000
END:DAYLIGHT
BEGIN:STANDARD
TZOFFSETFROM:+0200
TZOFFSETTO:+0100
TZNAME:CET
DTSTART:20231029T010000
END:STANDARD
END:VTIMEZONE
BEGIN:VEVENT
DTSTART;TZID=Europe/Madrid:20221215T200000
DTEND;TZID=Europe/Madrid:20221215T213000
DTSTAMP:20260423T074859
CREATED:20221125T103226Z
LAST-MODIFIED:20221125T104858Z
UID:12475-1671134400-1671139800@cafebreriaadhoc.com
SUMMARY:Presentación de La identidad de las noches (Adeshoras)\, de Julio Monteverde
DESCRIPTION:Acompañarán al autor la escritora Tere Susmozas y la poeta y periodista Esther Peñas.\n\n\n\n\n\n\n\nEste libro discurre allí donde las correspondencias abren el surco del que brota el prodigio\, allí donde lo maravilloso se manifiesta hasta estremecernos\, allí donde el fulgor de lo auténtico ensancha la vida. Lo que sucede en estas páginas es la posibilidad del vínculo íntimo entre sueño y vigilia\, manteniendo la temperatura del asombro. \n\n\n\n\n\n\n\nPortada de La identidad de las noches\, diseñada a partir de un objeto de Noé Ortega y el propio Julio Monteverde\n\n\nLa identidad de las noches resulta una suerte de vocativo esencial entre dos territorios (en uno los ojos ven\, en el otro\, recuerdan) de cuya intersección emerge el hallazgo\, la lucidez del encuentro\, el sentido\, siempre lábil e inexplicable\, de la certeza cósmica. \n\n\n\n(Textos: Esther Peñas) \n\n\n\n\n\n\n\n\n\n\n\n\n\n\n\n\n\n\n\n\n\n\n\nJulio Monteverde es poeta. Ha publicado varios los libros de poemas\, entres ellos El pasillo de espejos (Ártese quien pueda\, 2017) y Las hojas rojas (La estética del fracaso\, 2021).\n\n\n\nComo ensayista publicó el trabajo De la materia del sueño (Pepitas\, 2012)\, dedicado a profundizar en las relaciones entre el sueño y la vida cotidiana a través de la poesía. Como traductor ha realizado ediciones de Shelley\, el grupo poético «El Gran Juego»\, André Breton y Lewis Mumford\, entre otros. Ha impartido cursos y talleres en librerías como Enclave o Libros para un mundo mejor\, y en la Fundación Fuentetaja. \n\n\n\nSu último trabajo es el ensayo Materialismo poético (Pepitas\, 2021). \n\n\n\n\n\n\n\n\n\n\n\n\n	\n		Comparte este evento\n		FacebookTwitterRedditLinkedInWhatsAppPinterestCorreo electrónico
URL:https://cafebreriaadhoc.com/evento/presentacion-de-la-identidad-de-las-noches-adeshoras-de-julio-monteverde/
CATEGORIES:Charla-coloquio,Firma,INDEPRESENTES,Poesía,Presentación literaria
ATTACH;FMTTYPE=image/jpeg:https://cafebreriaadhoc.com/wp-content/uploads/2022/11/La_identidad_de_las_noches.jpg
END:VEVENT
END:VCALENDAR