BEGIN:VCALENDAR
VERSION:2.0
PRODID:-//Cafebrería ad Hoc - ECPv6.15.13.1//NONSGML v1.0//EN
CALSCALE:GREGORIAN
METHOD:PUBLISH
X-ORIGINAL-URL:https://cafebreriaadhoc.com
X-WR-CALDESC:Eventos para Cafebrería ad Hoc
REFRESH-INTERVAL;VALUE=DURATION:PT1H
X-Robots-Tag:noindex
X-PUBLISHED-TTL:PT1H
BEGIN:VTIMEZONE
TZID:Europe/Madrid
BEGIN:DAYLIGHT
TZOFFSETFROM:+0100
TZOFFSETTO:+0200
TZNAME:CEST
DTSTART:20210328T010000
END:DAYLIGHT
BEGIN:STANDARD
TZOFFSETFROM:+0200
TZOFFSETTO:+0100
TZNAME:CET
DTSTART:20211031T010000
END:STANDARD
BEGIN:DAYLIGHT
TZOFFSETFROM:+0100
TZOFFSETTO:+0200
TZNAME:CEST
DTSTART:20220327T010000
END:DAYLIGHT
BEGIN:STANDARD
TZOFFSETFROM:+0200
TZOFFSETTO:+0100
TZNAME:CET
DTSTART:20221030T010000
END:STANDARD
BEGIN:DAYLIGHT
TZOFFSETFROM:+0100
TZOFFSETTO:+0200
TZNAME:CEST
DTSTART:20230326T010000
END:DAYLIGHT
BEGIN:STANDARD
TZOFFSETFROM:+0200
TZOFFSETTO:+0100
TZNAME:CET
DTSTART:20231029T010000
END:STANDARD
END:VTIMEZONE
BEGIN:VEVENT
DTSTART;TZID=Europe/Madrid:20220623T193000
DTEND;TZID=Europe/Madrid:20220623T210000
DTSTAMP:20260422T114647
CREATED:20220602T061302Z
LAST-MODIFIED:20220603T064252Z
UID:11705-1656012600-1656018000@cafebreriaadhoc.com
SUMMARY:Presentación de Parliament Hill (Vaso Roto) de Emily Roberts
DESCRIPTION:Junto a la autora estará Curtis Bauer.\n\n\n\nEmily Roberts es una joven promesa de la poesía en castellano que comparte en su nuevo poemario su visión del paso a la vida adulta. \n\n\n\n«Roberts da una lección de empatía y de su envés\, la extrañeza\, ante el hogar transitorio. Es una experiencia que habrán experimentado millones de personas en algún momento\, pero que ella ha sabido dejar hermosamente por escrito». Antonio Rivero Taravillo\, poeta. «No hay tabús en su lenguaje\, no hay eufemismos ni grandes circunloquios adornados que nos despisten de la historia que se nos está contando. Sin duda alguna\, una virtud es que prevalezca la calidad a la cantidad y eso para el lector es absolutamente impagable».El Imparcial. \n\n\n\n\n\n\n\nEl viaje infinito\, el miedo\, la soledad\, el valor de los recuerdos y la atracción por lo extraño son solo algunos de los lugares comunes en la transición a la adultez. Pero desde el mirador mental de Emily Roberts lo corriente parece extraordinario. Una visión privilegiada que la poeta abulense comparte en Parliament Hill\, su tercer poemario\, en el que habla con transparencia del rito de formación\, de los temores y esperanzas de quien ha terminado de descubrir el mundo como niña y ahora se enfrenta a la tarea como adulta. \n\n\n\nUna nueva voz en el panorama poético de nuestro país\n\n\n\nCon un lenguaje referencial sencillo y nítido\, alejado de cualquier rebuscamiento vano\, Roberts nos invita a la introspección para intentar comprender el mundo que nos rodea. Estructurada en cuatro partes (Versión de invierno\, Un tren atraviesa el Danubio\, Volver desde la memoria: un recorrido y Habitar un jardín) su voz poética\, intensa y honesta\, se convierte en testigo del asombro ante el reconocimiento de lo desconocido. \n\n\n\n \n\n\n\n\n\n\n\n\n\n\n\n\n\n\n\n\n\nLa autora es es Laura de la Parra (Ávila\, 1991). Es Doctora en Estudios Literarios por la Universidad Complutense de Madrid\, donde trabaja como profesora de literatura inglesa y norteamericana. Ha publicado los poemarios (2013) y (2016)\, la novela (2016) y un libro de cuentos\, (2020). Resultó finalista del Certamen de Relato Breve «Cosecha Eñe» 2015 y sus textos han aparecido en antologías como (2011) o (2017). Ha recibido tres veces consecutivas el primer premio de Narrativa Corta del certamen Jóvenes Creadores de Ávila\, ha sido becaria de excelencia del grupo de investigación LEETHI de la UCM y es una presencia habitual en festivales literarios como Fàcyl (Salamanca)\, Voix Vives (Toledo)\, Poetas en mayo (Vitoria) y Eñe (Madrid). \n\n\n\n\n\n\n\n\n\n\n\n\n\n\n\n\n\n\n	\n		Comparte este evento\n		FacebookTwitterRedditLinkedInWhatsAppPinterestCorreo electrónico
URL:https://cafebreriaadhoc.com/evento/presentacion-de-parliament-hill-vaso-roto-de-emily-roberts/
CATEGORIES:Charla-coloquio,Firma,INDEPRESENTES
ATTACH;FMTTYPE=image/jpeg:https://cafebreriaadhoc.com/wp-content/uploads/2022/06/ParliamentHill_cubierta.jpeg
END:VEVENT
END:VCALENDAR