BEGIN:VCALENDAR
VERSION:2.0
PRODID:-//Cafebrería ad Hoc - ECPv6.15.13.1//NONSGML v1.0//EN
CALSCALE:GREGORIAN
METHOD:PUBLISH
X-WR-CALNAME:Cafebrería ad Hoc
X-ORIGINAL-URL:https://cafebreriaadhoc.com
X-WR-CALDESC:Eventos para Cafebrería ad Hoc
REFRESH-INTERVAL;VALUE=DURATION:PT1H
X-Robots-Tag:noindex
X-PUBLISHED-TTL:PT1H
BEGIN:VTIMEZONE
TZID:Europe/Madrid
BEGIN:DAYLIGHT
TZOFFSETFROM:+0100
TZOFFSETTO:+0200
TZNAME:CEST
DTSTART:20210328T010000
END:DAYLIGHT
BEGIN:STANDARD
TZOFFSETFROM:+0200
TZOFFSETTO:+0100
TZNAME:CET
DTSTART:20211031T010000
END:STANDARD
BEGIN:DAYLIGHT
TZOFFSETFROM:+0100
TZOFFSETTO:+0200
TZNAME:CEST
DTSTART:20220327T010000
END:DAYLIGHT
BEGIN:STANDARD
TZOFFSETFROM:+0200
TZOFFSETTO:+0100
TZNAME:CET
DTSTART:20221030T010000
END:STANDARD
BEGIN:DAYLIGHT
TZOFFSETFROM:+0100
TZOFFSETTO:+0200
TZNAME:CEST
DTSTART:20230326T010000
END:DAYLIGHT
BEGIN:STANDARD
TZOFFSETFROM:+0200
TZOFFSETTO:+0100
TZNAME:CET
DTSTART:20231029T010000
END:STANDARD
END:VTIMEZONE
BEGIN:VEVENT
DTSTART;TZID=Europe/Madrid:20220112T190000
DTEND;TZID=Europe/Madrid:20220112T210000
DTSTAMP:20260425T215931
CREATED:20211227T190850Z
LAST-MODIFIED:20211228T095341Z
UID:10796-1642014000-1642021200@cafebreriaadhoc.com
SUMMARY:Taller abierto de lectura «De la estirpe de las amazonas» (Wunderkammer)\, de Esther Peñas
DESCRIPTION:Junto a la autora moderará el evento Lorena Briedis y Patricia Arenillas.\n\n\n\nEl formato de Taller abierto de lectura ofrece la (poco común) posibilidad de expandir un texto a través de la lectura directa de sus páginas. En esta ocasión vamos a tener a la autora de De la estirpe de las amazonas\, la periodista\, poeta y escritora Esther Peñas. \n\n\n\n\n\n\n\nDe la estirpe de las amazonas\, ensayo en el que Esther Peñas reconstruye el origen y legado inmortal de las amazonas\, desde sus fuentes más remotas hasta las apariciones en el arte\, la literatura o el cine\, y su perpetuación en mujeres que\, desde diversas disciplinas\, pueden considerarse continuadoras de su estirpe hoy. \n\n\n\nLa autora justifica la validez y el interés de este tipo de visiones: Todo aquello que nos recuerda que la vida puede ser vivida de otro modo\, más pleno y auténtico\, sigue interpelándonos. Hasta que la mujer\, en cualquier lugar del mundo\, pueda darse a sí autogobierno\, ser plenamente libre\, el mito de las amazonas seguirá encendido\, iluminándonos (Leer la entrevista AQUÍ). \n\n\n\nPortada del libro de Esther Peñas\, «De la estirpe de las amazonas»\n\n\n\nDe lo que hemos leído sobre esta obra\, nos ha gustado mucho este párrafo que publicó la propia autora en Ethic:  Una mujer con poder o una mujer que pudiera tornarse poderosa era un riesgo que masculinamente había que atajar. Las amazonas\, como ejemplo de gobernanza al margen del sistema imperial\, nómadas\, libres\, soberanas\, sin necesidad de encadenarse a nada ni a nadie\, constituían un peligro explícito: cuanto no esté sujeto a norma la cuestiona. \n\n\n\nUn evento muy sugerente al que estáis to@s invitad@s. \n\n\n\n\n\n\n\n \n\n\n\n\n\nEsther Peñas es periodista y poeta. Ha publicado los poemarios “El paso que se habita(Chamán)\, “De este ungido modo” y “Penumbra”(ambos en Devenir) y “Hazversidades poéticas” (Cuadernos del Laberinto). Su poesía ha sido traducida al portugués\, árabe e inglés. Su última novela es “La vida\, contigo”(Adeshoras) y recientemente\, ha publicado el ensayo “De la estirpe de las amazonas” (Wunderkammer). \n\n\n\n\n\n\n\n\n\n\n\n\n\n\n\n\n\n\n	\n		Comparte este evento\n		FacebookTwitterRedditLinkedInWhatsAppPinterestCorreo electrónico
URL:https://cafebreriaadhoc.com/evento/taller-abierto-de-lectura-de-la-estirpe-de-las-amazonas-wunderkammer-de-esther-penas/
CATEGORIES:Charla-coloquio,INDEPRESENTES,Presentación literaria
ATTACH;FMTTYPE=image/jpeg:https://cafebreriaadhoc.com/wp-content/uploads/2021/12/De_la_estirpe_de_las_amazonas_esther_penas.jpg
END:VEVENT
END:VCALENDAR