BEGIN:VCALENDAR
VERSION:2.0
PRODID:-//Cafebrería ad Hoc - ECPv6.15.13.1//NONSGML v1.0//EN
CALSCALE:GREGORIAN
METHOD:PUBLISH
X-WR-CALNAME:Cafebrería ad Hoc
X-ORIGINAL-URL:https://cafebreriaadhoc.com
X-WR-CALDESC:Eventos para Cafebrería ad Hoc
REFRESH-INTERVAL;VALUE=DURATION:PT1H
X-Robots-Tag:noindex
X-PUBLISHED-TTL:PT1H
BEGIN:VTIMEZONE
TZID:Europe/Madrid
BEGIN:DAYLIGHT
TZOFFSETFROM:+0100
TZOFFSETTO:+0200
TZNAME:CEST
DTSTART:20210328T010000
END:DAYLIGHT
BEGIN:STANDARD
TZOFFSETFROM:+0200
TZOFFSETTO:+0100
TZNAME:CET
DTSTART:20211031T010000
END:STANDARD
BEGIN:DAYLIGHT
TZOFFSETFROM:+0100
TZOFFSETTO:+0200
TZNAME:CEST
DTSTART:20220327T010000
END:DAYLIGHT
BEGIN:STANDARD
TZOFFSETFROM:+0200
TZOFFSETTO:+0100
TZNAME:CET
DTSTART:20221030T010000
END:STANDARD
BEGIN:DAYLIGHT
TZOFFSETFROM:+0100
TZOFFSETTO:+0200
TZNAME:CEST
DTSTART:20230326T010000
END:DAYLIGHT
BEGIN:STANDARD
TZOFFSETFROM:+0200
TZOFFSETTO:+0100
TZNAME:CET
DTSTART:20231029T010000
END:STANDARD
END:VTIMEZONE
BEGIN:VEVENT
DTSTART;TZID=Europe/Madrid:20220407T193000
DTEND;TZID=Europe/Madrid:20220407T203000
DTSTAMP:20260425T165829
CREATED:20220324T071638Z
LAST-MODIFIED:20220324T071641Z
UID:11350-1649359800-1649363400@cafebreriaadhoc.com
SUMMARY:Presentación de HAIKUS COMPLETOS\, 2ª edición corregida y ampliada (Los Libros del Mississippi)\, de Luis Alberto de Cuenca
DESCRIPTION:En este libro se reúnen por primera vez todos los haikus que ha escrito\, muchos de ellos inéditos. Junto al autor estarán la periodista y poeta Esther Peñas y el editor Antonio Benicio Huerga.\n\n\n\n\n\n\n\n\n\n\n\n\n\n\n\n«Esta recopilación de mis haikus publicados y de algunos haikus inéditos se debe al empeño personal de mi amigo y editor Antonio Benicio Huerga\, que fue quien\, a finales de 2018\, tuvo la idea de agruparlos y de inaugurar con ellos una colección dentro de su jovencísima y coqueta editorial Los Libros del Mississippi. La primera edición\, prologada por el filólogo y poeta Ricardo Virtanen\, se agotó\, y Antonio Benicio y yo hemos urdido una segunda\, enriquecida con los haikus posteriores a 2018. Entre una y otra edición se nos fue a las estrellas Manuel Lara Cantizani\, el Tigre Impar (véanse páginas 105-110 y 125 de este libro). Tanto él como mi querido amigo de la infancia José Luis Chousa tendrán que leer mis ‘Haikus completos’ desde el cielo. Pueden estar seguros de que no los olvido y de que los recuerdo a diario. Tanto es así\, que ya estoy echando de menos nuestro encuentro en el paraíso». \n\n\n\n\n\n\n\n\n\n\n\n\n\n\n\n\n\n\n\n\n\n\n\nLUIS ALBERTO DE CUENCA Y PRADO nació en Madrid el 29 de diciembre de 1950. Es Profesor de Investigación del CSIC y Académico de número en la Real Academia de la Historia. Licenciado y doctor en Filología Clásica por la Universidad Autónoma de Madrid\, dirigió la Biblioteca Nacional entre 1996 y 2000 y fue Presidente del Real Patronato de dicha B. N. entre 2015 y 2018. En 1989 obtuvo el Premio Nacional de Traducción por su versión del anónimo Cantar de Valtario (siglo X); en 2015 el Premio Nacional de Poesía por Cuaderno de vacaciones (Visor) y en 2021 recibe el Premio Internacional de Poesía Federico García Lorca. \n\n\n\n\n\n\n\n\n\n\n\n\n	\n		Comparte este evento\n		FacebookTwitterRedditLinkedInWhatsAppPinterestCorreo electrónico
URL:https://cafebreriaadhoc.com/evento/presentacion-de-haikus-completos-2a-edicion-corregida-y-ampliada-los-libros-del-mississippi-de-luis-alberto-de-cuenca-2/
CATEGORIES:Charla-coloquio,INDEPRESENTES,Presentación literaria
ATTACH;FMTTYPE=image/jpeg:https://cafebreriaadhoc.com/wp-content/uploads/2021/12/haikus-completos-segunda-edicion.jpg
END:VEVENT
BEGIN:VEVENT
DTSTART;TZID=Europe/Madrid:20220409T190000
DTEND;TZID=Europe/Madrid:20220409T203000
DTSTAMP:20260425T165829
CREATED:20220316T101734Z
LAST-MODIFIED:20220316T105512Z
UID:11306-1649530800-1649536200@cafebreriaadhoc.com
SUMMARY:Hubo un jardín: entrevista con público a Valeria Correa Fiz
DESCRIPTION:La plataforma Altavoz Cultural entrevista a la escritora Valeria Correa Fiz en torno a su última obra Hubo un jardín (Páginas de Espuma). Rut Alameda y Ferki López conversarán con la autora en una entrevista con público. Este formato consiste en una charla-café entre sus amigos\, con el resultado de un ambiente más natural y espontáneo que el de una presentación tradicional. El público asistente podrá sumarse a los participantes aportando cuestiones y preguntas a nuestra protagonista.\n\n\n\nPortada de «Hubo un jardín» (Páginas de Espuma)\, de Valeria Correa Fiz\n\n\n\n\n\n\n\n\n\n\n\n\n\n\n\n\n\n\n\n\n\n\n\nValeria Correa Fiz nació y creció en Rosario (Argentina\, ese jardín) y vive en Madrid. Es autora del libro de relatos La condición animal (Páginas de Espuma\, 2016)\, que fue seleccionado para el IV Premio Hispanoamericano de Cuento «Gabriel García Márquez» y el Premio Setenil 2017. También es autora de los poemarios El álbum oscuro\, distinguido como finalista del I Premio de Poesía Manuel del Cabral (2016)\, El invierno a deshoras (2017)\, merecedor del XI Premio Internacional de Poesía Claudio Rodríguez\, Museo de pérdidas (2020) y Así el deseo(plaquette\, 2021). Algunos de sus relatos y poemas han sido recogidos en diversas antologías y traducidos al inglés\, italiano\, hebreo y rumano. \n\n\n\nCoordina el Club de Lectura del Instituto Cervantes de Milán. También imparte talleres de escritura creativa en Milán y Madrid. \n\n\n\n\n\n\n\n\n\n\n\n\n	\n		Comparte este evento\n		FacebookTwitterRedditLinkedInWhatsAppPinterestCorreo electrónico
URL:https://cafebreriaadhoc.com/evento/hubo-un-jardin-entrevista-con-publico-a-valeria-correa-fiz-2/
CATEGORIES:Charla-coloquio,Firma,INDEPRESENTES,Presentación literaria
ATTACH;FMTTYPE=image/jpeg:https://cafebreriaadhoc.com/wp-content/uploads/2022/03/Hubo_un_jardin.jpg
END:VEVENT
BEGIN:VEVENT
DTSTART;TZID=Europe/Madrid:20220423T190000
DTEND;TZID=Europe/Madrid:20220423T210000
DTSTAMP:20260425T165829
CREATED:20220414T114427Z
LAST-MODIFIED:20220417T224137Z
UID:11400-1650740400-1650747600@cafebreriaadhoc.com
SUMMARY:Celebramos el DÍA DEL LIBRO presentando una nueva editorial: AVIZOR Ediciones
DESCRIPTION:Ya estamos de celebración del Día del libro en Cafebrería ad Hoc\, más que una librería\, un espacio de cultura para los amantes de los libros\, la música y los grandes reencuentros…\n\n\n\nLa presentación estará a cargo de Miguel Fortea y José Manuel Cajigas.\n\n\n\nEste año presentamos un nuevo sello: Avizor Ediciones. Inspirados en las palabras de Miguel de Cervantes\, las cuales han hecho su lema: “El ver mucho y el leer mucho aviva los ingenios de los hombres”. Avizor Ediciones es la creación de un grupo de antiguos alumnos del Colegio Estudio\, a los que se han unido algunos buenos amigos. El objetivo principal es el de sacar a la luz nuevos autores de literatura española\, recuperar obras clásicas merecedoras de ser rescatadas del olvido\, así como editar en castellano autores extranjeros que no han sido aún traducidos o que merecen una nueva o mejor traducción. La editorial presenta también su iniciativa\, el Club de Lectores Avizor\, que permitirá a todos los aficionados a los libros compartir\, comentar\, criticar y\, en definitiva\, disfrutar de pertenecer a una comunidad con una pasión común: la lectura. \n\n\n\nEn la imagen\, el equipo constituyente de AVIZOR Ediciones\n\n\n\n\n\n\n\nHasta el momento\, Avizor ha publicado dos libros: \n\n\n\n\n\n\n\n\n\n\n\n\n\n\n\nDE DEUDAS Y MUERTOS de Miguel Fortea. Esta es la segunda novela detectivesca de la serie José Dalmau. De nuevo se conjugan la tensión y el misterio con el retrato de una época dura\, los estertores de la Guerra Civil\, sin renunciar al sentido del humor. \n\n\n\n\n\n\n\nLA ALEGRÍA DEL CAPITÁN RIBOT de Armando Palacio Valdés. Se trata de una novela clásica recuperada\, situada en la Valencia del final del siglo XIX\, en la que el protagonista con arraigados valores individuales se ve envuelto en un triángulo amoroso\, en una familia de la burguesía de Valencia. La pasión\, el engaño\, los celos\, la amistad traicionada\, el deseo sexual o la ruina económica revolucionan la plácida vida cotidiana de los protagonistas. La huerta y la alquería de El Cabañal cobran vida y se convierten en un personaje más. \n\n\n\n\n\n\n\n\n\n\n\n \n\n\n\n\n\n\n\n\n\n\n	\n		Comparte este evento\n		FacebookTwitterRedditLinkedInWhatsAppPinterestCorreo electrónico
URL:https://cafebreriaadhoc.com/evento/celebramos-el-dia-del-libro-presentando-una-nueva-editorial-avizor-ediciones/
CATEGORIES:INDEPRESENTES,Presentación literaria
ATTACH;FMTTYPE=image/jpeg:https://cafebreriaadhoc.com/wp-content/uploads/2022/04/Avizor-ediciones.jpg
END:VEVENT
BEGIN:VEVENT
DTSTART;TZID=Europe/Madrid:20220425T193000
DTEND;TZID=Europe/Madrid:20220425T210000
DTSTAMP:20260425T165829
CREATED:20220422T063251Z
LAST-MODIFIED:20220424T071147Z
UID:11440-1650915000-1650920400@cafebreriaadhoc.com
SUMMARY:Universo Trieste. Pinturas\, libros y otras maravillas. Con Juan Manuel Bonet\, Javier Jiménez y Alvar Haro.
DESCRIPTION:Jan Morris\, la gran autora británica\, fue quien hablo de la ciudad de Trieste como el «no lugar»\, encarnando en dicha descripción la encarnación de la utopía: un país alejado de la propia idea de país\, fiel por un lado a la Casa de Habsburgo a pesar de las ocupaciones napoleónicas\, único puerto del Imperio austrohúngaro y anexionada a Italia tras su caída. Un «no lugar» de leyenda bañado por el Adriático al que fueron a parar almas errantes. \n\n\n\nEscritores de la talla de Claudio Magris\, Italo Svevo\, James Joyce o Rilke –quien dejó a su paso por el castillo las bellísimas Elegías de Duino–\, disfrutaron de paseos por sus muelles o de tertulias de espejismo al abrigo del sueño Freud.El lunes 25 a las 19:30 h.\, en Cafebrería ad Hoc\, hablaremos de todo esto y mucho más. Del Universo Trieste. Os esperamos. \n\n\n\n\n\n\n\n\n\n\n\n\n\n\n\n\n\n \n	\n		Comparte este evento\n		FacebookTwitterRedditLinkedInWhatsAppPinterestCorreo electrónico
URL:https://cafebreriaadhoc.com/evento/universo-trieste/
CATEGORIES:Arte,Charla-coloquio
ATTACH;FMTTYPE=image/jpeg:https://cafebreriaadhoc.com/wp-content/uploads/2022/04/Universo_Trieste.jpg
END:VEVENT
END:VCALENDAR