BEGIN:VCALENDAR
VERSION:2.0
PRODID:-//Cafebrería ad Hoc - ECPv6.15.13.1//NONSGML v1.0//EN
CALSCALE:GREGORIAN
METHOD:PUBLISH
X-WR-CALNAME:Cafebrería ad Hoc
X-ORIGINAL-URL:https://cafebreriaadhoc.com
X-WR-CALDESC:Eventos para Cafebrería ad Hoc
REFRESH-INTERVAL;VALUE=DURATION:PT1H
X-Robots-Tag:noindex
X-PUBLISHED-TTL:PT1H
BEGIN:VTIMEZONE
TZID:Europe/Madrid
BEGIN:DAYLIGHT
TZOFFSETFROM:+0100
TZOFFSETTO:+0200
TZNAME:CEST
DTSTART:20210328T010000
END:DAYLIGHT
BEGIN:STANDARD
TZOFFSETFROM:+0200
TZOFFSETTO:+0100
TZNAME:CET
DTSTART:20211031T010000
END:STANDARD
BEGIN:DAYLIGHT
TZOFFSETFROM:+0100
TZOFFSETTO:+0200
TZNAME:CEST
DTSTART:20220327T010000
END:DAYLIGHT
BEGIN:STANDARD
TZOFFSETFROM:+0200
TZOFFSETTO:+0100
TZNAME:CET
DTSTART:20221030T010000
END:STANDARD
BEGIN:DAYLIGHT
TZOFFSETFROM:+0100
TZOFFSETTO:+0200
TZNAME:CEST
DTSTART:20230326T010000
END:DAYLIGHT
BEGIN:STANDARD
TZOFFSETFROM:+0200
TZOFFSETTO:+0100
TZNAME:CET
DTSTART:20231029T010000
END:STANDARD
END:VTIMEZONE
BEGIN:VEVENT
DTSTART;TZID=Europe/Madrid:20221103T193000
DTEND;TZID=Europe/Madrid:20221103T210000
DTSTAMP:20260425T044841
CREATED:20221023T104752Z
LAST-MODIFIED:20221023T115052Z
UID:12233-1667503800-1667509200@cafebreriaadhoc.com
SUMMARY:Charla y coloquio: Memoria de Amalia Avia. Vida\, pintura y escritura
DESCRIPTION:Coincidiendo con la exposición de Amalia Avia en la sala Alcalá 31 de la Comunidad de Madrid nos acercamos a su figura más allá de sus cuadros. Un recorrido íntimo por el perfil de la artista a través de los recuerdos de sus hijos. Un complemento a la exposición «El Japón en los Ángeles» bajo la emocionada mirada de sus amigos y familia\, que nos permitirán ver mucho más de lo que se percibe en la obra de Amalia. Su casa\, sus libros\, su tertulia\, anécdotas\, citas y curiosidades alrededor de esta gran pintora.\n\n\n\n\n\n\n\n\n\n\n\n\n\n\n\n\n\n\n\n\n\n\n\n\n\n\n\n\nEl escritor e hijo de Amalia\, Rodrigo Muñoz Avia\n\n\n\n\n\n\n\n\n\n\n\n\nParticiparán en la mesa redonda Marie Claire Decay (viuda de Salvador Victoria)\, Esperanza López Parada\, Arabella Villalobos\, José Manuel Avia y sus hijos Diego\, Nicolás y Rodrigo Muñoz Avia. \n\n\n\n\n\n\n\n\n\n\n\n\n	\n		Comparte este evento\n		FacebookTwitterRedditLinkedInWhatsAppPinterestCorreo electrónico
URL:https://cafebreriaadhoc.com/evento/charla-y-coloquio-memoria-de-amalia-avia-vida-pintura-y-escritura/
CATEGORIES:Arte,Charla-coloquio
ATTACH;FMTTYPE=image/jpeg:https://cafebreriaadhoc.com/wp-content/uploads/2022/10/Retrato_A-Avia.jpg
END:VEVENT
BEGIN:VEVENT
DTSTART;TZID=Europe/Madrid:20221104T193000
DTEND;TZID=Europe/Madrid:20221104T210000
DTSTAMP:20260425T044841
CREATED:20221012T105023Z
LAST-MODIFIED:20221012T114901Z
UID:12195-1667590200-1667595600@cafebreriaadhoc.com
SUMMARY:Presentación de Folklore (Baker ST ediciones) de Aitor Díaz
DESCRIPTION:Acompañará al autor el escritor Alejandro Marcos.\n\n\n\n \n\n\n\n\n\n\n\nPortada de Folklore\, de Aitor Díaz\n\n\n\n\n\n\nLa colección de relatos incluida en Folklore se articula en torno a algunos seres mitológicos del imaginario popular europeo (y japonés)\, pero con una vuelta de tuerca contemporánea que va más allá de sus maldiciones o metamorfosis\, y se centra en el verdadero conflicto que aflige a estas criaturas. La idea fundamental que recorre la obra es la necesidad de transformación que sentimos a lo largo de nuestras vidas\, y como estas transmutaciones pueden verse reflejadas metafóricamente en criaturas de leyenda. Algunos relatos hablan de los sacrificios familiares. Otros del amor y la pérdida\, la soledad y el miedo. Y\, por supuesto\, de la lucha contra nosotros mismos y la naturaleza de aquello que nos amenaza.  \n\n\n\n\n\n\n\n\n\n\n\n\n\n\n\n\n\n\n\n\n\n\n\nAitor Díaz (1979) es ingeniero y escritor. Aúna ambas facetas en la creación literaria a través de cuentos y novelas de género fantástico. Forma parte de la décima promoción del Máster de Narrativa de la Escuela de Escritores (2018-2020) y de la primera promoción del Curso de Especialización en la Enseñanza de la Escritura Creativa (2020-2021)\, impartido por la Escuela de Escritores y la Universidad de Alcalá. En la actualidad es profesor de esa misma escuela\, donde imparte cursos avanzados de literatura fantástica y técnicas narrativas. Entusiasta de la literatura\, el cine y los cómics. Y apasionado\, aún más\, de la enseñanza creativa. \n\n\n\n\n\n\n\n\n\n\n\n\n	\n		Comparte este evento\n		FacebookTwitterRedditLinkedInWhatsAppPinterestCorreo electrónico
URL:https://cafebreriaadhoc.com/evento/presentacion-de-folklore-baker-st-ediciones-de-aitor-diaz/
ATTACH;FMTTYPE=image/jpeg:https://cafebreriaadhoc.com/wp-content/uploads/2022/10/Portada_Folklore.jpg
END:VEVENT
BEGIN:VEVENT
DTSTART;TZID=Europe/Madrid:20221107T193000
DTEND;TZID=Europe/Madrid:20221107T210000
DTSTAMP:20260425T044841
CREATED:20221028T080429Z
LAST-MODIFIED:20221029T193830Z
UID:12255-1667849400-1667854800@cafebreriaadhoc.com
SUMMARY:Presentación II Premio Poesía Fundación Antonio Ródenas García-Nieto Un amor para después (Pre-textos)\, de Juan Almagro
DESCRIPTION:Juan Almagro\, autor y ganador del premio\, estará acompañado por Manuel Borrás\, editor de Pre-textos\, Juan Marqués\, poeta y crítico literario\, Mariano Peyrou\, poeta\, y Alvar Haro\, artista plástico.\n\n\n\n\n\n\n\nPortada de «Un amor para después»\, de Juan Almagro\n\n\n\n\n\n\nCumpliendo la voluntad testamentaria de Antonio Ródenas García-Nieto (Madrid 1922- 1997)\, la fundación sin ánimo de lucro que lleva su nombre se constituye en Septiembre de 2000 en Madrid. La sede está en uno de los pisos que habitó en la calle O´Donnell\, conservándose la misma decoración y espíritu que entonces. Antonio Ródenas fue un empresario de éxito. Entre otras actividades\, fue fundador y principal accionista de la compañía discográfica HISPAVOX para la que idea el nombre. Pero fue muy discreto en lo social y celoso de su intimidad. Delegó pronto los negocios y se dedicó con pasión casi de ermitaño a la escritura y al coleccionismo de arte. \n\n\n\nLa Fundación custodia\, cataloga\, restaura y divulga su colección tanto en publicaciones y catálogos razonados como en préstamos a exposiciones institucionales que lo solicitan. La colección consta de doscientas cincuenta obras de arte. Pinturas\, esculturas\, dibujos y grabados que van del tardo-gótico catalán y tablas flamencas hasta el siglo XX\, la parte fundamental y de mayor peso. A ello se añaden la colección de artes decorativas\, más de doscientas cerámicas\, y una extensa biblioteca con más de 9.700 tomos. \n\n\n\nEn 2006 la Fundación publicó el catálogo de pintura\, escultura\, dibujo y grabado con estudio crítico de José Marín Medina y en 2021 el catálogo de las cerámicas\, por Alfonso Pleguezuelo. \n\n\n\nSe han realizado préstamos para muestras antológicas de Benjamín Palencia\, Darío de Regoyos\, Echevarría\, Andrés Conejo… a centros como la Caixa (hoy Caixafórum) Centro Conde Duque de Madrid\, CajaÁvila\, Fundación Mapfre y a muestras temáticas recientes como «Solana y Romero de Torres. Una historia del arte español en negro» en el Centro Cultural Fundación Unicaja de Málaga en 2021. \n\n\n\nDe los fondos de la colección se han realizado dos exposiciones: \n\n\n\n“Arte del siglo XX en la colección de Antonio Ródenas” en el Centro Conde Duque de Madrid en 2008. Y la más extensa y completa “Rodearse se arte” en el Centro Caja Burgos en 2022\, con obras de todas las épocas. \n\n\n\nLos fines de la Fundación son:\n\n\n\n\nPublicar y divulgar las creaciones literarias de Antonio Ródenas (labor completada en 2010 con los diarios).\n\n\n\nConservar y difundir la colección de obras arte\, a través del préstamo\, realización de exposiciones y publicaciones.\n\n\n\nAlentar el trabajo de escritores\, poetas\, pintores y escultores mediante la concesión de becas o premios.\n\n\n\n\nHoy en día siguen apareciendo escritos tanto literarios\, críticos y personales que se van publicando poco a poco.  \n\n\n\nEstán en su fase final varios estudios biográficos sobre el fundador y en preparación la edición de la correspondencia con autores señalados y gente de la cultura con los que tuvo y\, a menudo\, mantuvo amistad. \n\n\n\nEn el cumplimiento de este tercer fin fundacional\, se han otorgado becas de creación literaria a Remo Ruiz\, Eloy Tizón y Pablo Escudero Abenza que además de dotación económica implicaban la publicación de los textos. \n\n\n\nEn un firme compromiso con el apoyo a la literatura y en especial a la poesía\, —génesis esencial y final de todo recorrido literario y creativo\, se decidió establecer este premio anual. \n\n\n\nAsí pues\, en 2021 se otorgó el Primer Premio de Poesía Fundación Antonio Ródenas García-Nieto de ámbito hispanoamericano. La dotación económica es de seis mil euros y publicación en la editorial PreTextos. Recayó en el poemario Todas las islas del mundo del autor porteño Julio César Torres. \n\n\n\nEn 2022\, el premio en su segunda edición ha sido para Un amor para después\, del madrileño Juan Almagro. El jurado estuvo integrado por Abraham Gragera\, Mariano Peyrou\, Juan Marqués\, Manuel Borrás  y Alvar Haro. \n\n\n\nEste otoño traemos un nuevo libro de poesía en su primera presentación pública\, en la exquisita edición de PreTextos\, a la Cafebrería Ad Hoc de Madrid. Este acogedor local hibrida con sumo gusto y talento para la selección y disposición de títulos en mesas y estanterías\, librería\, cafetería\, sala de eventos y de exposiciones. Llevados de la mano por su dueña\, la entrañable Lola Vivas\, nos dejaremos arropar por su calor –y\, quizás\, de un café vienés. Cumpliremos así\, una vez más\, nuestro compromiso con la divulgación y ayuda a la cultura y con el deseo de Antonio Ródenas\, apasionado hasta el extremo de la literatura y el arte. A buen seguro disfrutaría como pocos de la velada. \n\n\n\n\n\n\n\n\n\n\n\n\n\n\n\n\n\n\n\n\n\n\n\nJuan Almagro (Madrid\, 1966) es profesor de inglés de la Escuela Oficial de Idiomas. Sus primeros versos vieron la luz en 2003 en la revista universitaria de la Universidad de Edimburgo\, «A Word in Your Shell-Like». En esta misma editorial publicó su primer libro de poemas en español («El hombre bañera»\, 2007). Fue galardonado con el Premio de Poesía Universidad Complutense de Madrid en 2012. \n\n\n\n\n\n\n\n\n\n\n\n\n\n\n	\n		Comparte este evento\n		FacebookTwitterRedditLinkedInWhatsAppPinterestCorreo electrónico
URL:https://cafebreriaadhoc.com/evento/ii-premio-poesia-fund-antonio-rodenas-garcia-nieto-un-amor-para-despues-juan-almagro/
CATEGORIES:Charla-coloquio,INDEPRESENTES,Poesía,Presentación literaria
ATTACH;FMTTYPE=image/jpeg:https://cafebreriaadhoc.com/wp-content/uploads/2022/10/Portada_Un-amor-para-despues.jpg
END:VEVENT
BEGIN:VEVENT
DTSTART;TZID=Europe/Madrid:20221115T193000
DTEND;TZID=Europe/Madrid:20221115T210000
DTSTAMP:20260425T044841
CREATED:20221030T205917Z
LAST-MODIFIED:20221031T071211Z
UID:12323-1668540600-1668546000@cafebreriaadhoc.com
SUMMARY:El camino del escritor\, con Andrés Neuman. Festival Eñe
DESCRIPTION:Con motivo del Festival Eñe 2022 que tendrá lugar del 11 al 27 de noviembre\, acogemos en Cafebrería ad Hoc un encuentro con el escritor argentino Andrés Neuman. La charla\, bajo el título «El camino del escritor» girará en torno a la evolución de su trayectoria\, su paso por el relato breve\, la novela y la poesía y la relación fundamental que en dicho crecimiento tiene el papel del editor. Junto al autor\, estarán Lola Vivas\, directora de la librería y Juan Casamayor\, editor de Páginas de Espuma.\n\n\n\n\n\n\n\n\n\n\n\n\n\n\n\n\n\n\n\n\n\n\nAndrés Neuman (1977) nació y pasó su infancia en Buenos Aires. Hijo de músicos argentinos exiliados\, terminó de crecer en Granada\, en cuya universidad fue profesor de literatura latinoamericana. Formó parte de la primera lista Bogotá 39 y fue seleccionado por la revista británica Granta entre los mejores nuevos narradores en español. Recibió el Premio de la Crítica\, el Premio Alfaguara\, el Premio Hiperión y el Firecracker Award\, otorgado por la comunidad de revistas\, editoriales independientes y libreros de EE.UU.  \n\n\n\n\n\nResultó Finalista del Premio Herralde\, alcanzó la shortlist del IMPAC Dublin Literary Award. Obtuvo una Mención Especial del jurado del Independent Foreign Fiction Prize. Es autor de novelas: Bariloche\, La vida en las ventanas\, Una vez Argentina\, El viajero del siglo\, Hablar solos\, Fractura y Umbilical; libros de cuentos: El que espera\, El último minuto\, Alumbramiento y Hacerse el muerto; poemarios: Métodos de la noche\, El jugador de billar\, El tobogán\, La canción del antílope\, Mística abajo\, No sé por qué\, Patio de locos y Vivir de oído; aforismos: El equilibrista y Caso de duda; del diccionario satírico Barbarismos; y del libro de viajes por Latinoamérica Cómo viajar sin ver. Sus libros están traducidos a más de veinte lenguas. \n\n\n\n\n\n\n\n\n\n\n\n\n\n\n\n\n\n\n\n\n\n\n\nJuan Casamayor (Madrid\, 1968) es licenciado en Filología Hispánica por la Facultad de Filosofía y Letras de la Universidad de Zaragoza. Allí realizó su doctorado en literatura española del siglo XVIII. En 1999 funda junto con Encarnación Molina Páginas de Espuma\, sello independiente de referencia en el género del cuento en castellano. En su catálogo se encuentran los principales escritores contemporáneos del cuento junto a los clásicos de la literatura universal. Además\, cuenta con una importante colección de ensayos de crítica literaria\, las memorias\, los diarios\, los libros de viajes o los epistolarios. Imparte clases en el Máster de Edición de la Universidad Autónoma de Madrid\, el Máster Online en Crítica y Comunicación Cultural\, organizado por El Cultural y la Universidad de Alcalá\, y el Máster de Narrativa de la Escuela de Escritores de Madrid. (Consultar fuente) \n\n\n\n\n\n\n\n\nLola Vivas es artista plástica\, escritora y fundadora/directora de  Cafebrería ad Hoc. Algunos de sus relatos han sido publicados en varias antologías (Diez relatos de mujeres\, de la editorial Torremozas\, y Queda la música y Tic Tac Tic Tac\, editados por la Escuela de Escritores)\, y en revistas literarias (Cuentos para el andén). Su última publicación es el libro de relatos Cachorros de arena\, editado por Torremozas en 2020. (Consultar fuente). \n\n\n\n\n\n\n\n\n\n\n\n\n\n\n\n\n\n\n\n\n\n	\n		Comparte este evento\n		FacebookTwitterRedditLinkedInWhatsAppPinterestCorreo electrónico
URL:https://cafebreriaadhoc.com/evento/el-camino-del-escritor-con-andres-neuman-festival-ene-2/
CATEGORIES:Charla-coloquio,INDEPRESENTES,Poesía
ATTACH;FMTTYPE=image/jpeg:https://cafebreriaadhoc.com/wp-content/uploads/2022/10/Retrato_A-Neuman.jpg
END:VEVENT
BEGIN:VEVENT
DTSTART;TZID=Europe/Madrid:20221118T193000
DTEND;TZID=Europe/Madrid:20221118T210000
DTSTAMP:20260425T044841
CREATED:20221030T080803Z
LAST-MODIFIED:20221106T191305Z
UID:12322-1668799800-1668805200@cafebreriaadhoc.com
SUMMARY:La posibilidad del lenguaje\, con María Negroni. Festival Eñe
DESCRIPTION:El Festival Eñe 2022 (del 11 al 27 de noviembre) tiene como país invitado a Argentina. En este entorno\, desde Cafebrería ad Hoc nos es muy grato anunciar un encuentro con la escritora María Negroni bajo el título «La posibilidad del lenguaje». Acompañarán a la autora Lola Vivas\, directora de Cafebrería ad Hoc y Esther Peñas\, poeta\, escritora y periodista.\n\n\n\n\n\n\n\n\n\n\n\n\n\n\n\n\n\n\n\n\n\n\nMaría Negroni nació en Argentina en 1951. Es Doctora por la Universidad de Columbia\, PhD en Literatura Latinoamericana. Vive en Nueva York. Obtuvo las becas Guggenheim\, Fundación Octavio Paz\, New York Foundation for the Arts y Civitella Ranieri. \n\n\n\nEn España ha publicado varios libros de poesía: La jaula bajo el trapo (1991); Islandia (1994); El viaje de la noche (1994); La ineptitud (2002); Arte y fuga (2004); Cantar la nada (2011); Elegía Joseph Cornell (2013)\, Interludio en Berlín (2014)\, Exilium (2016)\, Archivo Dickinson (2018)\, Oratorio (2021). Y las novelas El sueño de Úrsula (1998) y La anunciación (2007). \n\n\n\n  \n\n\n\n\n\nMaría también ha escritos los ensayos Ciudad gótica (1994)\, Museo negro (1998)\, Galería fantástica (2009)\, Pequeño mundo ilustrado (2011)\, Cartas extraordinarias (2014)\, La noche tiene mil ojos (2015)\, El arte del error (2016)\, Objeto Satie (2018) y Film Noir (2021). \n\n\n\nEl próximo enero verá luz en España su última novela\, El corazón del daño. \n\n\n\n\n\n\n\n\n\n\n\n\n\n\n\n\n\n\n\n\n\n\n\nEsther Peñas es periodista y poeta. Ha publicado los poemarios “El paso que se habita(Chamán)\, “De este ungido modo” y “Penumbra”(ambos en Devenir) y “Hazversidades poéticas” (Cuadernos del Laberinto). Su poesía ha sido traducida al portugués\, árabe e inglés. Su última novela es “La vida\, contigo”(Adeshoras) y recientemente\, ha publicado el ensayo “De la estirpe de las amazonas” (Wunderkammer). \n\n\n\n\n\n\n\n\nLola Vivas es artista plástica\, escritora y fundadora/directora de  Cafebrería ad Hoc. Algunos de sus relatos han sido publicados en varias antologías (Diez relatos de mujeres\, de la editorial Torremozas\, y Queda la música y Tic Tac Tic Tac\, editados por la Escuela de Escritores)\, y en revistas literarias (Cuentos para el andén). Su última publicación es el libro de relatos Cachorros de arena\, editado por Torremozas en 2020. (Consultar fuente) \n\n\n\n\n\n\n\n\n\n\n\n\n\n\n\n\n\n\n\n\n\n	\n		Comparte este evento\n		FacebookTwitterRedditLinkedInWhatsAppPinterestCorreo electrónico
URL:https://cafebreriaadhoc.com/evento/la-posibilidad-del-lenguaje-maria-negroni-festival-ene/
CATEGORIES:Charla-coloquio,INDEPRESENTES
ATTACH;FMTTYPE=image/jpeg:https://cafebreriaadhoc.com/wp-content/uploads/2022/10/Maria-Negroni.jpg
END:VEVENT
BEGIN:VEVENT
DTSTART;TZID=Europe/Madrid:20221125T190000
DTEND;TZID=Europe/Madrid:20221125T203000
DTSTAMP:20260425T044841
CREATED:20221006T065253Z
LAST-MODIFIED:20221008T101336Z
UID:12121-1669402800-1669408200@cafebreriaadhoc.com
SUMMARY:Presentación Leopoldo no es un topo (Bruño) de Mar del Rey
DESCRIPTION:Acompañará a la autora Estrella Escriña\, narradora oral y animadora a la lectura.\n\n\n\nHoy es un día especial\, no todos los días se celebra el nacimiento de un dragón\, y hoy celebramos el de Leopoldo que cuenta su historia\, una que puede servir para compartir en familia\, una historia de un viaje\, el de descubrirse a sí mismo.  \n\n\n\n\n\n\n\nPortada de Leopoldo no es un topo\, de Mar del Rey (Ed. Bruño)\n\n\n\n\n\n\nLeopoldo ha vivido bajo tierra desde que nació. Sin embargo\, la vida subterránea le resulta muy complicada. Al ser tan grandote\, se engancha por todas partes\, la humedad le hace estornudar sin parar y siempre tiene mucho frío. El pobre no entiende qué le pasa\, pero un día se encuentra con muchísimos libros y\, gracias a sus historias\, descubrirá quién es de verdad y logrará\, por fin\, ser feliz. \n\n\n\n\n\n\n\n\n\n\n\n\n\n\n\n\n\n\n\n\n\n\n\nA Mar del Rey le gusta compartir las buenas historias\, esas que emocionan\, dejan sus ondas en nuestra memoria como una melodía y no se olvidan. \n\n\n\nDe niña vivía en una casa repleta de libros\, había libros en la cocina\, en el pasillo\, en el salón\, en el dormitorio\, en el cuarto de estar\, libros en todas partes. No es de extrañar teniendo en cuenta que viene de familia de editoras. Su madre hacía libros\, su abuela hacía libros\, su tía abuela hacía libros y su bisabuelo hacía… ¡sorpresa!: Libros. \n\n\n\nHa escrito: Leopoldo no es un topo\, Las gallinas de Maitina\, Oyraborá\, Gato enamorado y colaborado en El dragón lector y sus amigos y Vitamina C. \n\n\n\nCada noche su madre le leía en voz alta imitando las voces de los personajes de los cuentos. Cuando se hizo mayor\, le recomendaba lecturas de esa biblioteca interminable. Los libros han sido para ella hermanos de vida\, compañeros\, abrigo\, descubridores de misterios. Los atesora\, los contempla\, los huele\, les dobla las esquinas a las páginas. Escribe mapas para volver a las partes que le gustan\, los comparte\, los reclama\, los aprende\, los pinta\, los cuenta\, los sueña. \n\n\n\nMar comenzó su labor profesional como terapeuta en oncología y después trabajó en mediación familiar donde sigue descubriendo el poder de las imágenes\, la metáfora y la palabra. Esto le reafirmó la importancia del lenguaje en la promoción de la salud como creador de nuevos escenarios. \n\n\n\nEn paralelo ha estado siempre vinculada con el mundo de la narración oral\, los relatos\, el escenario\, y el juego con el público. \n\n\n\nAhora está volcada en la creación de historias tanto orales como escritas. Relatos que despiertan esa curiosidad infantil y nos lleva a querer escuchar cuentos cada noche. \n\n\n\n\n\n\n\n\n\n\n\n\n	\n		Comparte este evento\n		FacebookTwitterRedditLinkedInWhatsAppPinterestCorreo electrónico
URL:https://cafebreriaadhoc.com/evento/presentacion-leopoldo-no-es-un-topo-de-mar-del-rey/
CATEGORIES:Charla-coloquio,Firma,INDEPRESENTES,Presentación literaria
ATTACH;FMTTYPE=image/jpeg:https://cafebreriaadhoc.com/wp-content/uploads/2022/10/leopoldo-no-es-un-topo-altamar.jpeg
END:VEVENT
BEGIN:VEVENT
DTSTART;TZID=Europe/Madrid:20221130T193000
DTEND;TZID=Europe/Madrid:20221130T210000
DTSTAMP:20260425T044841
CREATED:20221106T195150Z
LAST-MODIFIED:20221106T203228Z
UID:12386-1669836600-1669842000@cafebreriaadhoc.com
SUMMARY:Presentación de Se hacen siestas a domicilio (La única puerta a la izquierda L.U.P.I)\, de Jesús Alonso
DESCRIPTION:Acompañará al autor la artista performática y poeta visual Yolanda Pérez Herreras.\n\n\n\n\n\n\n\nNo escribir un libro que contenga todo lo no escrito\, esa ha sido siempre mi intención:la búsqueda de ese momento en que no puedas por menos de decirte a ti mismo “es imposible no escribir mejor”. La mayoría de las acciones poéticas que contienen este libro son distracciones para no escribir. No es fácil. Hay que ser muy valiente\, por ejemplo\, para ir de librería en librería preguntando por uno de los libros que no has escrito con la esperanza de que en una de ellas el librero te diga un momento\, aquí lo tiene”. Y tú puedas contestar “Envuélvalo para regalo\, por favor”. jesús alonso ovejero\n\n\n\n\n\n\nElegir siempre supone abandonar todas las posibilidades excepto UNA; y se elije desde las preferencias de las PROPIAS referencias. Cuando elegí a Jesús Alonso Ovejero elegí unos textos que son universales\, es decir\, su lectura es para todos los públicos: cualquiera puede aproximarse a este libro con la gran ventaja de apropiarse de los textos para interpretarlos a su manera; no es necesario conocer de antemano el Arte de Acción para involucrarse en las acciones que Jesús describe\, pudiendo disfrutar de la lectura como texto creativo así como de la posibilidad de recrear estas acciones cada lector a su manera… e incluso crear las propias utilizándolo como manual de inspiración. \n\n\n\nJesús Alonso Ovejero nos traslada con Se hacen siestas a domicilio a paisajes impresionistas\, cubistas\, dadaístas… a través de su manera personal de ver el entorno y de expresarlo\, encontrando en lo cotidiano modos de variar la perspectiva común y ofreciéndonos múltiples posibilidades para desenfocar y permitirnos observar y desplazarnos mediante elementos —mentales y físicos— no imaginadas por nosotros hasta ese momento. Jesús nos da la oportunidad de encontrar nuevos planteamientos para nuestra filosofía y nuestro comportamiento\, estimulándonos a abandonar tesis convencionales cuando nos muestra otras opciones de observar e interpretar el mundo. \n\n\n\nUna invitación a dejarse seducir por las palabras y las acciones de Jesús Alonso Ovejero porque nos haremos más libres. \n\n\n\n\n\nYolanda Pérez Herreras es la autora de este texto y la coordinadora de la Serie ACCIONATE! Colección biblioteca incÖmpleta\, Editorial L.U.P.I (La única Puerta a la Izquierda)\, Bilbao \n\n\n\n\n\n\n\n\n\n\n\n\n\n\n\n\n\n\n\n\n\n\n\n\n\n\n\n\n\n\n\nJESÚS ALONSO OVEJERO  \n\n\n\nBIOGRAFÍA (I)  \n\n\n\nDesde que conocí la obra de Joan Brossa me puse de vísperas. Vísperas de poeta y mago. Y ese sólo pensamiento me bastó durante mucho tiempo para dejar el mañana para mañana (también el escribir). ¿Hay mejor forma de vivir el presente que estando siempre en vísperas de Brossa?  \n\n\n\nConseguí que nadie notará que fui un niño superdotado. Y\, además\, en Salamanca. Luego\, he dedicado mucho tiempo a retrasar el momento de convertirme en un viejo prodigio. Esto ya en Madrid.   \n\n\n\n\n\nUn día me di cuenta de que hacer poemas visuales y performances es otra forma de escribir.   \n\n\n\nSoy poeta visual y performer por contagio. El constante tropiezo con los objetos y el frecuente trato por motivos laborales (trabajo de redactor de la 2 de RTVE) con otros poetas visuales y performáticos\, sin tener la precaución de guardar la adecuada distancia profiláctica\, acabaron por inocularme el virus.   \n\n\n\nAhora vivo siempre de vísperas de un poema que espero.  \n\n\n\nSe hacen siestas a domicilio es una de los proyectos de acciones que estoy poniendo en marcha. No hace falta explicarlo. Ofrezco el servicio a particulares e instituciones\,   \n\n\n\nSe hacen siestas a domicilio es también el título de este libro\, un catálogo de acciones poéticas\, algunas psicológicas.   \n\n\n\nHe donado mi cuerpo a las letras.    \n\n\n\n\n\nBIOGRAFÍA (2)  \n\n\n\nJesús Alonso Ovejero (Salamanca\, 1960) es poeta visual\, guionista y director de series documentales\, escritor de microrrelatos y aforismos y autor del blog El bolsillo del albornoz lleno de notas. Ha publicado en las antologías de relatos breves Quince líneas (Tusquets)\, Galería de hiperbreves (Tusquets) y Relatos de humor (Vicens Vives)\, El tiempo visible (Caravansari)\, Bares y cafés (revista Litoral) … \n\n\n\nEs redactor del programa de la 2 La Aventura del saber. Ha dirigido reportajes y documentales sobre arte contemporáneo y muy especialmente sobre poesía visual y experimental.   \n\n\n\nEs responsable\, junto a Eva Iglesias Bilbao y Edu Barbero\, del microespacio BOEK VISUAL que se emite los jueves en el programa La Aventura del Saber\, en la 2 de RTVE.  \n\n\n\n\n\n\n\n\n\n\n\n\n\n\n\n\n\n\n	\n		Comparte este evento\n		FacebookTwitterRedditLinkedInWhatsAppPinterestCorreo electrónico
URL:https://cafebreriaadhoc.com/evento/presentacion-de-se-hacen-siestas-a-domicilio-la-otra-puerta-a-la-izquierda-l-u-p-i-de-jesus-alonso/
CATEGORIES:Charla-coloquio,Firma,INDEPRESENTES,Performance,Poesía
ATTACH;FMTTYPE=image/jpeg:https://cafebreriaadhoc.com/wp-content/uploads/2022/11/se-hacen-siestas-a-domicilio_thumb.jpg
END:VEVENT
END:VCALENDAR