BEGIN:VCALENDAR
VERSION:2.0
PRODID:-//Cafebrería ad Hoc - ECPv6.15.13.1//NONSGML v1.0//EN
CALSCALE:GREGORIAN
METHOD:PUBLISH
X-WR-CALNAME:Cafebrería ad Hoc
X-ORIGINAL-URL:https://cafebreriaadhoc.com
X-WR-CALDESC:Eventos para Cafebrería ad Hoc
REFRESH-INTERVAL;VALUE=DURATION:PT1H
X-Robots-Tag:noindex
X-PUBLISHED-TTL:PT1H
BEGIN:VTIMEZONE
TZID:Europe/Madrid
BEGIN:DAYLIGHT
TZOFFSETFROM:+0100
TZOFFSETTO:+0200
TZNAME:CEST
DTSTART:20220327T010000
END:DAYLIGHT
BEGIN:STANDARD
TZOFFSETFROM:+0200
TZOFFSETTO:+0100
TZNAME:CET
DTSTART:20221030T010000
END:STANDARD
BEGIN:DAYLIGHT
TZOFFSETFROM:+0100
TZOFFSETTO:+0200
TZNAME:CEST
DTSTART:20230326T010000
END:DAYLIGHT
BEGIN:STANDARD
TZOFFSETFROM:+0200
TZOFFSETTO:+0100
TZNAME:CET
DTSTART:20231029T010000
END:STANDARD
BEGIN:DAYLIGHT
TZOFFSETFROM:+0100
TZOFFSETTO:+0200
TZNAME:CEST
DTSTART:20240331T010000
END:DAYLIGHT
BEGIN:STANDARD
TZOFFSETFROM:+0200
TZOFFSETTO:+0100
TZNAME:CET
DTSTART:20241027T010000
END:STANDARD
END:VTIMEZONE
BEGIN:VEVENT
DTSTART;TZID=Europe/Madrid:20230307T190000
DTEND;TZID=Europe/Madrid:20230307T210000
DTSTAMP:20260424T214058
CREATED:20230224T082433Z
LAST-MODIFIED:20230225T193138Z
UID:12772-1678215600-1678222800@cafebreriaadhoc.com
SUMMARY:Mesa redonda sobre Tiempo Roto\, del artista plástico Pedro Castrortega
DESCRIPTION:Participarán en la mesa: Pedro Castrortega\, Adrián Piera\, Miguel Cereceda\, Luis Francisco Pérez\, Tomás Paredes\, Jesús Cámara. Presentación: Lola Vivas\n\n\n\nSi algo caracteriza la obra de Pedro Castrortega\, en cualquier disciplina\, es su particularísima iconografía centrada en la presencia constante\, y casi totémica\, de extraños seres y de elementos de la naturaleza: animales\, lunas\, soles\, árboles\, ojos\, sombras\, agua… y los espíritus que ineludiblemente la conforman. \n\n\n\n\n\n\n\nPedro Castrortega ante una de las obras que componen Tiempo roto\n\n\n\nEsos seres que pueblan sus lienzos\,…\n\n\n\n no son sólo un recurso estético\, ni una solución expresiva. Son\, ante todo y después de todo\, los protagonistas de su propio universo y de\, un mundo creado por él muy pronto\, arraigado en él muy profundo. Con seis décadas de vida\, e intensas experiencias cosmopolitas\, en Nueva York\, Berlín\, o París\, Castrortega ante el lienzo\, vuelve a ser el niño nacido en un pueblo en las estribaciones de los Montes de Toledo. El hijo del llano implacable y de la sierra agreste\, donde todo es verdadero\, y sin embargo\, donde caben todos los sueños.El mundo del que viene\, y al que siempre vuelve\, es otro: el del aullido de los lobos rasgando la noche\, el grito ronco de la berrea retumbando en las sierras\, o el caliente jadeo de Linda\, la perrilla con la que aprendió a andar primero\, y a nadar luego en el río. Un mundo del color de la luz\, de la luna partiendo la noche\, del rojo de la sangre en su lucha por la vida\, del blanco resplandor de la jara en lo oscuro del monte\, el mundo de azules infinitos del agua flotando inmaculada sobre el lodo\, o el reino del violeta\, cuando atardecen los cerrillos de piedra que alguna vez fueron volcanes en el ignoto Campo de Calatrava.El suyo es el mundo de las sensaciones\, siempre habitado por sombras que crecen y se transforman. Según el momento o el lugar\, inquietan o dan cobijo; a veces son monstruos\, y otras\, manos amigas; sombras que son materia\, más que juegos de luz\, como las nubes que\, cuando están\, semejan algo diferente cada rato. Ese rato es la medida del tiempo para un hombre sin más reloj que el andar del sol por la cúpula celeste. Un tiempo que la distancia\, la pandemia y la muerte han roto. Este es el TIEMPO ROTO de Castrortega. Algo que como un vidrio caído\, ya no se puede recomponer\, pero que genera toda una galaxia de nuevas formas que ahora se plasman en sus lienzos. \n\n\n\nDe Piedrabuena a Manhattan\n\n\n\nTodo en la vida y en la obra de Pedro Castrortega es como un pequeño milagro\, un sueño hecho realidad\, como lo que se nos viene a la mente ante la primera apreciación de muchas de sus obras. En efecto\, es un pequeño milagro que aquel hijo de un perrero de reala saliera de Piedrabuena para conquistar Manhattan y lo consiguiera. Es igualmente\, un pequeño milagro que los recursos del expresionismo alemán\, o el lenguaje plástico de la transvanguardia italiana y los Caprichos y las Pinturas Negras de Goya\, converjan en los ojos de esas lechuzas\, que sin embargo son\, también\, las de los campos manchegos\, las de sus noches\, las de los miedos y las certezas de un niño en cuya casa no había un solo libro\, y en cuya pintura hay tanto de literario.A pesar de la pulsión creativa que empapa su obra\, nada es casual ni superfluo en el arte de Castrortega. Como si se tratase de un bestiario neo-románico todo tiene su símbolo y su referente. Lenguaje y mensaje\, significante y significado se funden en esa suerte de quimeras anfibias e imposibles\, figuras universales del mal\, la libertad\, o la lucha por la supervivencia. Castrortega\, más que nunca\, abre el corral del pudor y de la consciencia a todo un zoológico de seres míticos\, que frecuentemente sucumben a la tentación antropomórfica\, en el reflejo de la identidad de uno mismo. Hablo de esas caras sin rostro\, o de esos cuerpos sin carne\, que se mezclan con lobos de cabeza cuadrada\, de seres de niebla que suben al cielo como las almitas en los retablos góticos. Toda una recherche ontológica circundada de una charca donde toman vida sueños y obsesiones. \n\n\n\nEl zodíaco reinventado\n\n\n\nSu zodíaco reinventado en cada lienzo le convierte en un buscador de formas\, en un intérprete de la materia. Son bichos que flotan en un no-espacio sagrado\, ingrávidamente cósmico\, un magma cromático\, denso y atemperado como debió ser esa sopa primigenia de la que nació la vida. Todo ello trasladado al lienzo\, a veces muestra su trama desnuda\, apenas velada\, o al contrario\, cargado de materia que refuerza su contundencia expresiva.Tratar de taxonomizar su obra nos conduce a un divertido juego léxico-historiográfico en el que cabe todo\, desde la boutade a la herejía. Podríamos hablar de naturalismo onírico\, de abstracción mística\, de expresionismo psíquico o de posmodernidad poética. En su diversidad todo vale\, pero no existe movimiento\, tendencia o lenguaje en la que su alegoría plástica se sienta como en un traje a medida. \n\n\n\nSu universo\, nuestro universo\n\n\n\nEl suyo es un universo personal\, que sin embargo nos es cercano\, tal vez porque también son nuestros sus héroes y sus villanos\, quizá porque sus temores son los nuestros\, y seguramente porque nos inquietan las mismas amenazas y compartimos los mismos anhelos. La comunión de Castrortega va más allá del espectador de su obra\, del público o de la critica. Su mensaje\, caótico\, contenido y esperanzado alcanza al género humano; nos trasciende. \n\n\n\nJesús Cámara\, comisario de la exposición \n\n\n\n\n\n\n\n\n\n\n\n\n\n\n\n\n\n© Lanza Digital\n\n\n\n\n\nTiempo Roto se presentó en la sala de exposiciones del Patio de Comedias de Torralba de Calatrava en el verano de 2021\, en 2022 en La Casa del Reloj (Matadero) y Convento de la Merced-Museo de Ciudad Real\, actualmente se puede visitar en el Museo Municipal de Valdepeñas hasta el próximo 12 de marzo. \n\n\n\n\n\n\n\n\n\n\n\n\n\n\n\n\n\n\n	\n		Comparte este evento\n		FacebookTwitterRedditLinkedInWhatsAppPinterestCorreo electrónico
URL:https://cafebreriaadhoc.com/evento/mesa-redonda-sobre-tiempo-roto-de-pedro-castrortega/
CATEGORIES:Arte,Charla-coloquio
ATTACH;FMTTYPE=image/jpeg:https://cafebreriaadhoc.com/wp-content/uploads/2023/02/castrortega-pedro.jpg
ORGANIZER;CN="Cafebrer%C3%ADa ad Hoc":MAILTO:info@cafebreriaadhoc.com
END:VEVENT
BEGIN:VEVENT
DTSTART;TZID=Europe/Madrid:20230311T120000
DTEND;TZID=Europe/Madrid:20230311T133000
DTSTAMP:20260424T214058
CREATED:20230221T074848Z
LAST-MODIFIED:20230225T200257Z
UID:12723-1678536000-1678541400@cafebreriaadhoc.com
SUMMARY:Con motivo del Día Internacional de la Mujer\, Women in Aerospace Europe organiza el cuentacuentos: Cuando las niñas vuelan alto y llegan al espacio
DESCRIPTION:La escritora de libros infantiles\, Raquel Díaz Reguera contará algunas de sus historias de niñas luchadoras\, historias para animar a todas las niñas para que sean lo que quieran ser en la vida\, sin importar prejuicios\, apariencias o críticas sociales.\n\n\n\n\n\n\n\n\n\n\n\n\n\n\nSus libros abordan los estereotipos que se transmiten a las niñas y adolescentes y que tanto daño les causan de forma inconsciente.  \n\n\n\nAl final del acto\, Raquel firmará los libros a las niñas luchadoras y a quienes les guste un mejor porvenir. \n\n\n\n\n\n\n\n\n\n\n\n\n\n\n\n\n\nRaquel Díaz Reguera nació en Sevilla en 1974. Es ilustradora. Se licenció en Bellas Artes\, Diseño Gráfico e Ilustración Digital en la Universidad de Sevilla. A pesar de sus estudios\, empezó su vida profesional en el mundo de la música en Madrid\, escribiendo y componiendo canciones para otros músicos. Desde hace pocos años\, comenzó a escribir e ilustrar sus propios libros infantiles y para adultos. Su carrera como autora e ilustradora ha sido meteórica: en los siete últimos años ha publicado más de 15 álbumes con distintas editoriales\, entre otros ¿Hay algo más aburrido que ser una princesa rosa?\, Un amor tan grande\, Catálogo de besos o Cuando las niñas vuelan alto\, que se ha convertido en un gran éxito de ventas. \n\n\n\n\n\n\n\n\n\n\n\n\n\n\n\n\n\n\n\n\n\n\n\n\n	\n		Comparte este evento\n		FacebookTwitterRedditLinkedInWhatsAppPinterestCorreo electrónico
URL:https://cafebreriaadhoc.com/evento/con-motivo-del-dia-internacional-de-la-mujer-women-in-aerospace-europe-organiza-el-cuentacuentos-cuando-las-ninas-vuelan-alto-y-llegan-al-espacio-en-cafebreria-ad-hoc/
CATEGORIES:Cuentacuentos,Firma,Presentación literaria
ATTACH;FMTTYPE=image/jpeg:https://cafebreriaadhoc.com/wp-content/uploads/2023/02/cuando-las-ninas-vuelan-alto.jpg
END:VEVENT
BEGIN:VEVENT
DTSTART;TZID=Europe/Madrid:20230327T190000
DTEND;TZID=Europe/Madrid:20230327T210000
DTSTAMP:20260424T214058
CREATED:20230225T200548Z
LAST-MODIFIED:20230326T163723Z
UID:12802-1679943600-1679950800@cafebreriaadhoc.com
SUMMARY:Club de lectura abierto en torno a la novela Ricardo (Adehoras)\, de Jesús Pérez Saiz.
DESCRIPTION:Moderará el evento la escritora Lorena Briedis\n\n\n\n\n\n\n\nPortada de Ricardo (Editorial Adeshoras)\, de Jesús Pérez Sáiz\n\n\nRicardo es un viaje a la memoria de un hermano fallecido con quince años en un accidente de caza.  Es un peregrinaje a los recuerdos astillados de aquella desgracia\, a fragmentos de una época en la que el mundo cambiaba casi a diario. También es un acercamiento íntimo a las cicatrices del dolor y al mismo tiempo es una carta de amor a la vida\, a lo que uno se encuentra en su camino.  \n\n\n\n¿Ricardo?\n\n\n\nRicardo es una obra ecléctica\, fragmentada\, en la que el autor se desplaza por el espacio y el tiempo\, desde el Villadiego —un pueblo burgalés— de los años setenta hasta la antigua Grecia\, un viaje a una voz a la que acompañan otras voces que han recorrido antes el camino de la pérdida —la Anne Carson de Nox o el Catulo del poema CI— y los intentos sinceros de repoblar el vacío. La narración está estructurada en pequeños fragmentos numerados\, encabezados por un epígrafe que a la vez que apunta a lo intuitivo permite que lo narrado brote\, como el agua clara\, en torno a Vacíos\, Círculos\, Cajas\, Espacios e Hilos.«Me hubiese gustado sentir el viento en la cara y escuchar cómo se revuelve entre las hojas de la catalpa\, hablar de la constelación de Orión\, de la paideia y del Eclesiastés. De Jerry. Oírte contar cómo cazaba. Escuchar a los ruiseñores de noche\, en abril\, entre la vigilia y el sueño. […] Me hubiese gustado estar contigo\, juntos\, todos los hermanos con nuestras familias\, mirando las estrellas» \n\n\n\n\n\n\n\n\n\n\n\n\n\n\n\n\n\n\n\n\n\n\n\nJesús Pérez nació en Villadiego (Burgos) y actualmente es el director de la Escuela de Escritores Burgos\, además de miembro de la Asociación Europea de Programas de Escritura Creativa (EACWP). Es licenciado en Derecho y máster en Relaciones Internacionales por la Johns Hopkins University. \n\n\n\nHa publicado las novelas El mundo que sostiene (2020) y Ricardo (2022) con la editorial Adeshoras\, y los libros de relatos El pez raya era mujer (Gens Editores\, Madrid\, 2019) y Un itinerario como el de cualquiera (Publidisa\, 2012). También ha participado en antologías como Balas perdidas (Adamar Ediciones\, Madrid\, 2005). Ha colaborado en la escritura e investigación de El futuro de España (Taurus) y Europa: globalización y unión monetaria (Siddharth Mehta); además\, es el autor de un temario sobre “Escribir con los clásicos” en torno a los grandes escritores de relato. \n\n\n\nDesde 2002 imparte cursos de escritura creativa y relato tanto en España como en el extranjero. Regularmente ofrece conferencias sobre literatura en el Museo de la Evolución Humana\, Burgos (“Creatividad Literaria”\, “David Foster Wallace”\, “¿Por qué al morir nos contamos un cuento?”\, “Literatura y memoria”).  Organiza encuentros con escritores y dirige un Club de Lectura para Círculo Creativo (Fundación Cajacírculo\, Burgos). \n\n\n\n\n\n\n\n\n\n\n\n\n\n\n\n\n\n\n	\n		Comparte este evento\n		FacebookTwitterRedditLinkedInWhatsAppPinterestCorreo electrónico
URL:https://cafebreriaadhoc.com/evento/club-de-lectura-abierto-en-torno-a-la-novela-ricardo-adehoras-de-jesus-perez-saiz/
CATEGORIES:Charla-coloquio,INDEPRESENTES,Novela,Presentación literaria
ATTACH;FMTTYPE=image/jpeg:https://cafebreriaadhoc.com/wp-content/uploads/2023/02/Ricardo-Jesus_Perez.jpg
ORGANIZER;CN="Cafebrer%C3%ADa ad Hoc":MAILTO:info@cafebreriaadhoc.com
END:VEVENT
END:VCALENDAR