BEGIN:VCALENDAR
VERSION:2.0
PRODID:-//Cafebrería ad Hoc - ECPv6.15.13.1//NONSGML v1.0//EN
CALSCALE:GREGORIAN
METHOD:PUBLISH
X-WR-CALNAME:Cafebrería ad Hoc
X-ORIGINAL-URL:https://cafebreriaadhoc.com
X-WR-CALDESC:Eventos para Cafebrería ad Hoc
REFRESH-INTERVAL;VALUE=DURATION:PT1H
X-Robots-Tag:noindex
X-PUBLISHED-TTL:PT1H
BEGIN:VTIMEZONE
TZID:Europe/Madrid
BEGIN:DAYLIGHT
TZOFFSETFROM:+0100
TZOFFSETTO:+0200
TZNAME:CEST
DTSTART:20220327T010000
END:DAYLIGHT
BEGIN:STANDARD
TZOFFSETFROM:+0200
TZOFFSETTO:+0100
TZNAME:CET
DTSTART:20221030T010000
END:STANDARD
BEGIN:DAYLIGHT
TZOFFSETFROM:+0100
TZOFFSETTO:+0200
TZNAME:CEST
DTSTART:20230326T010000
END:DAYLIGHT
BEGIN:STANDARD
TZOFFSETFROM:+0200
TZOFFSETTO:+0100
TZNAME:CET
DTSTART:20231029T010000
END:STANDARD
BEGIN:DAYLIGHT
TZOFFSETFROM:+0100
TZOFFSETTO:+0200
TZNAME:CEST
DTSTART:20240331T010000
END:DAYLIGHT
BEGIN:STANDARD
TZOFFSETFROM:+0200
TZOFFSETTO:+0100
TZNAME:CET
DTSTART:20241027T010000
END:STANDARD
END:VTIMEZONE
BEGIN:VEVENT
DTSTART;TZID=Europe/Madrid:20230905T190000
DTEND;TZID=Europe/Madrid:20230905T210000
DTSTAMP:20260424T114917
CREATED:20230822T120206Z
LAST-MODIFIED:20230907T101323Z
UID:13224-1693940400-1693947600@cafebreriaadhoc.com
SUMMARY:Presentación de «No queda nadie» (Ed. Cuatro Lunas)\, de Brais Lamela
DESCRIPTION:Primera novela de Brais Lamela cuya edición en gallego ha sido distinguida con el Premio Nacional de la Crítica.\n\n\n\nEl autor estará acompañado por la periodista Susana Santaolalla\n\n\n\nSINOPSIS \n\n\n\nNegueira de Muñiz es un pequeño pueblo situado al este de la provincia de Lugo. Su futuro se vio truncado por la construcción de un embalse que dejó al pueblo aislado\, cuando no anegado\, obligando a más de la mitad de sus habitantes a participar en el Plan de Colonización de la Terra Chá. Bajo la migración forzada\, dejaron sus tierras por otras extrañas y\, en ocasiones\, sufrieron el despotismo del régimen. Décadas después\, un estudiante gallego trabaja en Nueva York en una tesis doctoral sobre estos poblados de colonización. Bajo el peso de documentos y de un sofocante verano\, investigará sobre el destino de los desterrados\, y en especial sobre el de una mujer que desapareció del poblado sin dejar rastro.No queda nadie es un lúcido ejercicio arqueológico sobre la pesquisa en las ruinas de la memoria. Construida entre laficción y la realidad\, y erigida sobre dos grandes bloques simétricos\, hilvana con perspicacia los tiempos y espacios denuestro pasado y presente. Todo para indagar\, con una intuición sorprendente\, sobre las huellas dejadas en los lugaresque habitamos. \n\n\n\n\n\n\nFRAGMENTO \n\n\n\n«Recibo un mensaje de la inmobiliaria para avisarme de que se acerca la fecha de renovar el contrato de alquiler. En él me anuncian\, además\, una subida del precio. Parece que\, con cada antro reconvertido en bar de moda\, aumenta en el barrio el precio de viviendas y locales. Me dan unos días para que decida si lo renuevo o no\, si bien quizá el verbo «decidir» no sea el adecuado. Se me ocurre que tiene que haber alguna semejanza entre un alquiler que sube lenta e implacablemente y un pueblo anegado por un embalse: el agua va subiendo poco a poco y uno cree que aguantará\, que basta con hacer algún pequeño ajuste\, hasta que ya le da por las canillas\, ya alcanza todos los recovecos y\, de repente\, uno tiene que levantar bien alta la cabeza para poder seguir respirando.». \n\n\n\n \n\n\n\n\n\n\n\n\n\n\n\n\n\n\n\nBrais Lamela.\n\n\n\nVilalba\, Lugo\, 1994. Vivió en Galicia hasta los diecisiete años. Cursó el bachillerato internacional durante dos años en el colegio de Duino\, cerca de Trieste\, Italia. \n\n\n\nSe formó en literatura comparada e historia en las universidades de Cambridge\, Reino Unido\, y Brown\, en los Estados Unidos de América\, gracias a varias becas estudiantiles. \n\n\n\n\n\nComo escritor ha sido galardonado con premios literarios como los Minerva\, el Ánxel Casal y el Xuventude Crea.Actualmente\, cursa un doctorado en literatura en la Universidad de Yale\, donde también ejerce la docencia.No queda nadie es su primera obra publicada. \n\n\n\n\n\n\n\n\n\n\n\n\n\n\n\n\n\n\n\n\n\n\n\n\n\n\n\n\n\n\n	\n		Comparte este evento\n		FacebookTwitterRedditLinkedInWhatsAppPinterestCorreo electrónico
URL:https://cafebreriaadhoc.com/evento/presentacion-de-no-queda-nadie-ed-cuatro-lunas/
CATEGORIES:Novela,Presentación literaria
ATTACH;FMTTYPE=image/jpeg:https://cafebreriaadhoc.com/wp-content/uploads/2023/08/0NO-QUEDA-NADIE.jpeg
ORGANIZER;CN="Cafebrer%C3%ADa ad Hoc":MAILTO:info@cafebreriaadhoc.com
END:VEVENT
BEGIN:VEVENT
DTSTART;TZID=Europe/Madrid:20230921T190000
DTEND;TZID=Europe/Madrid:20230921T210000
DTSTAMP:20260424T114917
CREATED:20230903T153407Z
LAST-MODIFIED:20230915T120501Z
UID:13302-1695322800-1695330000@cafebreriaadhoc.com
SUMMARY:Presentación del ensayo «Un mundo de mentira. El estado de la verdad en tiempos de la revolución tecnológica» (Ed. Gestión 2000)\, de Xurxo Torres.
DESCRIPTION:Acompañará al autor  Cristóbal Fernández\, vicedecano de comunicación y relaciones institucionales de la Facultad de Ciencias de la Información de la Universidad Complutense de Madrid.\n\n\n\n\n\nNos hemos acostumbrado a vivir en una sociedad en que la mentira no padece reprobación alguna y la verdad carece de reconocimiento. Un reflejo paradigmático de un mundo desorientado\, que legitima la distorsión de la realidad; en el que se han difuminado aquellos viejos equilibrios que sustentaban el arraigo ciudadano y la idea de una decencia compartida. Recomponer los destrozos de una sociedad fracturada\, sujeta a los delirios de una revolución digital acelerada y desgobernada\, solo será posible si recuperamos el pensamiento crítico y el mirar a la realidad de frente. A ello dedica el autor este libro\, una llamada razonada y estructurada a reaccionar\, a recuperar el sentido de la propia conciencia. \n\n\n\nSINOPSIS \n\n\n\nNunca antes hemos estamos más conectados y a la vez tan solos. Pero ¿cómo hemos llegado a esta situación? La confusión que acompaña a la revolución tecnológica\, la globalización y las redes sociales\, la fatiga fruto del estrés de una sociedad cada vez más desequilibrada o la falta de esperanza en el futuro son factores que\, sumados\, nos conducen a la necesidad de creer en algo\, en lo que sea\, aunque no siempre sea cierto. \n\n\n\nLas noticias falsas no son casuales: su objetivo es generar desinformación y manipular la opinión pública\, pero ¿hasta qué punto estamos dispuestos a mentirnos a nosotros mismos? Xurxo Torres\, tras décadas analizando los códigos ocultos del proceso comunicativo y su relación con nosotros mismos\, nos ofrece un análisis certero que nos permitirá entender cómo y por qué nos hemos convertido en una sociedad tonta\, cansada y mentirosa. \n\n\n\nDescubre una lectura apasionante que nos invita a repensarnos para comprender por qué nos hemos convertido en lo que somos. Un texto brillante y alejado de la autocomplacencia con un triple objetivo: despertar en nosotros el pensamiento crítico\, reclamar al Estado más herramientas que refuercen la democracia y exigir a las empresas tecnológicas un mayor control de perfiles falsos\, límites a la reproducción de mensajes masivos y más inversión en personal que filtre y contraste. \n\n\n\n\n\n\n\n\n\n\n\n\n\n\n\n\n\n\nXurxo Torres.\n\n\n\nXurxo Torres (Vigo\, 1968) es periodista y consultor. Cuenta con más de 30 años de ejercicio profesional en medios y en agencias de comunicación.  \n\n\n\n \n\n\n\n\n\nEn 2018 fue seleccionado por la publicación neoyorkina PR News como uno de los 50 game changers de la comunicación del siglo XXI. En 2022\, la Universidad Complutense de Madrid le distinguió como Alumno Ilustre. \n\n\n\nAutor de dos libros de divulgación: Comunicación y Competitividad y En tiempo de dragones\, también tiene tres novelas publicadas: La noche americana\, La niña del mundo y El horizonte de la Reina (esta última escrita a medias con el periodista vigués Alberto Alonso). \n\n\n\n\n\n\n\n\n\n\n\n\n\n\n\n\n\n\n\n\n\n\n\n\n\n\n\n\n\n\n	\n		Comparte este evento\n		FacebookTwitterRedditLinkedInWhatsAppPinterestCorreo electrónico
URL:https://cafebreriaadhoc.com/evento/presentacion-del-ensayo-un-mundo-de-mentira-el-estado-de-la-verdad-en-tiempos-de-la-revolucion-tecnologica/
CATEGORIES:Novela,Presentación literaria
ATTACH;FMTTYPE=image/jpeg:https://cafebreriaadhoc.com/wp-content/uploads/2023/09/unmundodementira.jpeg
ORGANIZER;CN="Cafebrer%C3%ADa ad Hoc":MAILTO:info@cafebreriaadhoc.com
END:VEVENT
BEGIN:VEVENT
DTSTART;TZID=Europe/Madrid:20230922T190000
DTEND;TZID=Europe/Madrid:20230922T210000
DTSTAMP:20260424T114917
CREATED:20230903T151212Z
LAST-MODIFIED:20230910T193258Z
UID:13287-1695409200-1695416400@cafebreriaadhoc.com
SUMMARY:Presentación de «El enigma de Shakespeare» (Ed. Almuzara)\, de Ramón Sanchís Ferrándiz.
DESCRIPTION:Acompañará al autor el escritor Ignacio Ferrando.\n\n\n\nSINOPSIS\n\n\n\nUn experto en la época isabelina\, un investigador comprometido y una documentalista sagaz\, nos llenarán de incertidumbre sobre la identidad y la obra de William Shakespeare. \n\n\n\nUn viaje de vacaciones a Italia será el desencadenante que ponga al descubierto un sorprendente misterio.John Leslie Hotson\, un tenaz investigador\, especialista en el teatro de la época isabelina\, adquiere en un anticuario de Padua unas cartas manuscritas de autor desconocido. En ellas descubre unas citas sobre el asesinato de un escritor inglés que implica al servicio secreto de Su Majestad. En Londres\, con la ayuda del investigador Calvin Hoffman y la documentalista Sophie Anniston\, comenzará a indagar el contenido de las cartas. No aparecen nombres. No hay firmas. Sin embargo\, unas extrañas marcas revelarán quién es el autor de los escritos.Pero no todo será tan obvio\, porque la falsa muerte de un espía al servicio de la corona provocará una serie de hechos que Hotson y sus colegas tendrán que descubrir.La ayuda del grafólogo Peter Jacoby será decisiva para comprobar la autenticidad de las cartas. En ellas se narran también las andanzas y amoríos de los autores más prestigiosos de aquellos años: Cristopher Marlowe\, Philip Sidney\, William Shakespeare\, Ben Johnson\, Thomas Kyd o Edmund Spencer.Las indagaciones realizadas por los tres colegas pondrán en duda la autoría de algunas de las obras de Shakespeare. Sin embargo\, ningún experto aceptará el resultado de sus averiguaciones\, y los defensores de la tradición inglesa presentarán a John Leslie Hotson como un extranjero interesado en socavar los valores patrios\, razón por la cual será atacado con saña. \n\n\n\n\n\n\n\n\n\n\n\n\n\n\n\n\n\n\nRamón Sanchis Ferrándiz.\n\n\n\nRamón Sanchis Ferrándiz\, es un escritor alicantino\, Máster de Narrativa por la Escuela de Escritores de Madrid (2017-2019) e Ingeniero de Caminos\, Canales y Puertos\, y Técnico Superior en Urbanismo\, se inclinó por los estudios de literatura y humanidades.  \n\n\n\n \n\n\n\n\n\nDesde 1990 es miembro del Instituto Internacional Hermes de Antropología y Ciencias del Hombre\, radicado en París\, en donde ha realizado estudios de Filosofía\, Historia y Antropología. Ha formado parte de la mesa de redacción de la revista Cuadernos de Cultura\, (entre 1998 y 2002) y de la revista Esfinge (entre 2002 a 2010). Desde 2012\, dirige los Talleres de Escritura Creativa de Ítaca Espacio Cultural (en Valencia) y de El Libro Durmiente (de Alicante). Autor de Escritos seleccionados (2019)\, recopilación de relatos de El Libro Durmiente\, El Arte de ser escritor. T.I\, Narrativa\, y T.II\, de Técnicas de escritura\, (2005). El Bhagavad Gïta: comentarios al clásico espiritual de la india (2005). El ensayo Los peligros del Racismo (vv.aa.) (1994). Ha publicado una recopilación de poemas en la revista Forma abierta\, del Instituto alicantino Juan Gil-Albert. Su ensayo La visión antropológica en Satin Island y el relato Mi padre\, ha sido publicado en la revista La Rompedora de la Escuela de Escritores. Cuenta con un centenar de artículos publicados en diversas revistas\, sobre literatura\, filosofía e historia. En la actualidad\, colabora en diversas revistas realizando reseñas de libros\, y en el blog de El libro durmiente\, con relatos y píldoras literarias. \n\n\n\n\n\nIgnacio Ferrando.\n\n\n\nIgnacio Ferrando (Trubia\, Asturias\, 1972) es escritor e ingeniero de la edificación. Es autor de las novelas El rumor de las moscas (Tusquets\, 2023)\, Referencial (Tusquets\, 2019)\, La quietud (Tusquets\, 2017)\, Nosotros H (Tropo\, 2015)\, La oscuridad (Menoscuarto\, 2014) y Un centímetro de mar (Alberdania\, 2011) que obtuvo el Premio Ojo Crítico de RNE y el Premio Ciudad de Irún.  \n\n\n\n\n\n\n\n\n\n\n\nTambién ha publicado los libros de relatos: La piel de los extraños (Menoscuarto\, 2012; Premio Setenil 2013)\, Sicilia\, invierno (JdeJ\, 2009) y Ceremonias de interior (Castalia\, 2006; premio Tiflos 2006). Ha recibido numerosos premios como reconocimiento a su carrera literaria y actualmente es el jefe de estudios del Máster de Narrativa de la Escuela de Escritores de Madrid\, donde además imparte talleres de novela\, relato y lectura crítica. \n\n\n\n\n\n\n\n\n\n\n\n\n\n\n\n\n\n\n\n\n\n\n\n\n\n\n\n\n\n	\n		Comparte este evento\n		FacebookTwitterRedditLinkedInWhatsAppPinterestCorreo electrónico
URL:https://cafebreriaadhoc.com/evento/presentacion-de-el-enigma-de-shakespeare/
CATEGORIES:Novela,Presentación literaria
ATTACH;FMTTYPE=image/jpeg:https://cafebreriaadhoc.com/wp-content/uploads/2023/09/enigma.jpg
ORGANIZER;CN="Cafebrer%C3%ADa ad Hoc":MAILTO:info@cafebreriaadhoc.com
END:VEVENT
BEGIN:VEVENT
DTSTART;TZID=Europe/Madrid:20230926T190000
DTEND;TZID=Europe/Madrid:20230926T220000
DTSTAMP:20260424T114917
CREATED:20230915T122119Z
LAST-MODIFIED:20230918T115736Z
UID:13591-1695754800-1695765600@cafebreriaadhoc.com
SUMMARY:Presentación de Dadme otra monja alférez (Ed. Somos Libros)\, de Maite Pizarro y Purificación Beltrán e ilustrado por Diego Lorenzini.
DESCRIPTION:La presentación correrá a cargo de la escritora Elvira Menéndez.\n\n\n\nSINOPSIS\n\n\n\nCrónica ensayística sobre la vida de Catalina de Erauso\, la célebre monja alférez\, personaje del Siglo de Oro que\, tras escapar de un convento\, se viste de hombre y vive toda clase de aventuras increíbles en América. Mata a su hermano\, tiene amores con mujeres\, cruza los Andes\, se come a su caballo y hasta el rey y el papa del momento la autorizaron a vestirse de hombre y usar un nombre masculino. \n\n\n\nEl libro está dividido en dos partes. La primera es un anecdotario razonado sobre la vida y figura de Erauso. Y la segunda\, una entrevista imaginaria a tres posibles versiones del personaje: Catalina\, la mujer lesbiana; Antonio\, el hombre transexual; y catalina Antonio\, la persona no binaria. \n\n\n\n\n\n\n\n\n\n\n\n\n\n\n\n\n\n\nEscrito por: Maite Pizarro y Purificación Beltrán\n\n\n\n\n\n\n\n\n\n\n\nMaite Pizarro Granada.\n\n\n\nMaite Pizarro Granada (Chile\, 1990) es licenciada en letras hispánicas por la Pontificia Universidad Católica de Chile y doctoranda en estudios literarios\, lingüísticos y culturales por la Universidad de Barcelona.  \n\n\n\n\n\nHa publicado varios artículos académicos sobre el vínculo entre la España premoderna y la época contemporánea y se especializa en los cruces entre tradición y originalidad. \n\n\n\n\n\n\n\n\n\nPurificación Beltrán.\n\n\n\nes presentadora\, locutora y guionista. Tras más de 15 años de carrera en la radio\, donde ha presentado y dirigido programas como La Ventana\, Hoy por Hoy o A Vivir Madrid\, ha incursionado en el mundo del podcast y actualmente presenta y dirige En La Sabana\, el Daily podcast de El Español. \n\n\n\n\n\n\n\n\n\n\n\nIlustrado por: Diego Lorenzini.\n\n\n\n\n\n\n\n\n\n\n\nDiego Lorenzini.\n\n\n\nDiego Lorenzini es un músico\, productor musical y dibujante chileno que ha destacado en el campo de la ilustración discográfica.  \n\n\n\n\n\nEn este libro ofrece una interpretación paródica de los roles de género al traducir las identidades de la monja alférez a la estética de las muñequitas recortables con las que las niñas solían jugar. \n\n\n\n\n\n\n\n\n\n\n\n\n\n\n\n\n\n\n\n\n\n\n\n\n\n\n\n\n\n	\n		Comparte este evento\n		FacebookTwitterRedditLinkedInWhatsAppPinterestCorreo electrónico
URL:https://cafebreriaadhoc.com/evento/presentacion-de-dadme-otra-monja-alferez-ed-somos-libros-de-maite-pizarro-y-purificacion-beltran-e-ilustrado-por-diego-lorenzini/
CATEGORIES:Novela,Presentación literaria
ATTACH;FMTTYPE=image/png:https://cafebreriaadhoc.com/wp-content/uploads/2023/09/dadme-otra-monja-alfgerez-i.png
ORGANIZER;CN="Cafebrer%C3%ADa ad Hoc":MAILTO:info@cafebreriaadhoc.com
END:VEVENT
BEGIN:VEVENT
DTSTART;TZID=Europe/Madrid:20230928T190000
DTEND;TZID=Europe/Madrid:20230928T210000
DTSTAMP:20260424T114917
CREATED:20230831T151630Z
LAST-MODIFIED:20230901T094016Z
UID:13240-1695927600-1695934800@cafebreriaadhoc.com
SUMMARY:Presentación de «El misterio del emérito en el emirato» (Ed. Binomio)de Javier Sagarna.
DESCRIPTION:Acompañará al autor el escritor y presentador Javier Coronas.\n\n\n\nSINOPSIS \n\n\n\nEn su retiro dorado de Abu Dhabi\, el emérito se aburre y añora tiempos mejores. Con lo que ha sido él\, esta vida se le antoja insufrible. Todo cambia la mañana en que aparece en la playa de su villa una mujer medio ahogada. El emérito se verá envuelto en una complicada trama en la que se entremezclan ladrones de arte\, asesinatos\, traficantes de armas\, y agentes del CNI.Un misterio que tendrá que resolver tirando de su habitual campechanía y de su innegable capacidad para salirse con la suya.Ambientada en el Golfo Pérsico\, Suiza y España\, El misterio del emérito en el emirato combina la intriga de las mejores novelas del género policial\, con el humor elegante e iconoclasta de una divertida sátira. \n\n\n\n\n\n\n\n\n\n\n\n\n\n\n\n\n\n\nJavier Sagarna.\n\n\n\nJavier Sagarna (Madrid\, 1964) es profesor de escritura creativa y escritor. Ha publicado la novela Mudanzas (2005)\, los libros de relatos Ahora tan lejos (2012) y Nuevas aventuras de Olsson y Laplace (2015) y la novela infantil Rafa y la jirafa (2013).  \n\n\n\n \n\n\n\n\n\nEs director de Escuela de Escritores\, impulsor del Máster de Narrativa de Escuela de Escritores y Presidente de la Asociación Europea de Programas de Escritura Creativa (EACWP). \n\n\n\n\n\nJavier Coronas.\n\n\n\nJavier Coronas es escritor\, humorista y presentador de televisión\, ha trabajado para distintos medios y televisiones\, como Canal +\, RNE o Cuatro. \n\n\n\n\n\n\n\n\n\n\n\n\n\n\n\n\n\n\n\n\n\n\n\n\n\n\n\n\n\n\n\n\n\n\n\n\n\n\n	\n		Comparte este evento\n		FacebookTwitterRedditLinkedInWhatsAppPinterestCorreo electrónico
URL:https://cafebreriaadhoc.com/evento/presentacion-de-el-misterio-del-emerito-en-el-emirato-de-javier-sagarna/
CATEGORIES:Novela,Presentación literaria
ATTACH;FMTTYPE=image/jpeg:https://cafebreriaadhoc.com/wp-content/uploads/2023/08/elmisteriodelemeritoenelemirato.jpg
ORGANIZER;CN="Cafebrer%C3%ADa ad Hoc":MAILTO:info@cafebreriaadhoc.com
END:VEVENT
BEGIN:VEVENT
DTSTART;TZID=Europe/Madrid:20230929T190000
DTEND;TZID=Europe/Madrid:20230929T210000
DTSTAMP:20260424T114917
CREATED:20230910T100345Z
LAST-MODIFIED:20230915T120053Z
UID:13494-1696014000-1696021200@cafebreriaadhoc.com
SUMMARY:Presentación de 72 leyes de los soñadores (Ed. Vergara)\, de Mayte Ariza.
DESCRIPTION:Acompañará a la autora Charo Izquierdo\,  periodista\, escritora y empresaria.\n\n\n\nSINOPSIS \n\n\n\nTodo el mundo sueña. Soñar nace del corazón\, nos salva y nos transforma. Y todos y cada uno de nosotros tenemos sueños que\, en lo más profundo de nuestro ser\, queremos cumplir. Pero convertir en realidad un sueño no siempre es fácil porque hay obstáculos (externos e internos) nos impiden hacerlo. La buena noticia es que podemos conseguirlo si sabemos cómo. \n\n\n\n¿Por qué algunos sueños se cumplen y otros no? Porque algunos sueños se alinean con las leyes universales de los soñadores. A lo largo de estas páginas\, Mayte Ariza nos desvela los secretos y las sencillas fórmulas que debemos seguir para ver nuestros deseos convertidos en éxitos. \n\n\n\n\n\n\n\n\n\n\n\n\n\n\n\n\n\n\nMayte Ariza.\n\n\n\nMayte Ariza es preparadora de artistas y creadora de la metodología Dream’s Strategy\, además de profesora de un máster sobre Liderazgo\, comunicación de alto impacto y arquitectura emocional.  \n\n\n\nEs mentora de líderes empresariales\, diseñadores\, creativos y escritores. Es experta en guiar las condiciones para conseguir que un sueño se convierta en una realidad. Y se ha especializado en estrategias de comunicación de alto impacto mediático. \n\n\n\n\n\n\n\n\n\n\n\nCharo Izquierdo.\n\n\n\nCharo Izquierdo es consejera independiente\, periodista\, escritora y empresaria.  \n\n\n\n\n\n\n\n\n\n\n\nActualmente\, es consejera editorial de El Español para sus secciones MagasIn y Enclave ODS\, y también es miembro de varios consejos asesores. Su experiencia se centra en moda\, sostenibilidad\, estilo de vida\, cultura y temas de género. Ocupó los cargos de directora general de revistas en Prensa Ibérica\, directora de la pasarela Mercedes Benz Fashion Week Madrid y de las ferias de moda y estilo de vida en IFEMA. Además\, fue fundadora y directora de la revista Yo Dona. \n\n\n\n\n\n\n\n\n\n\n\n\n\n\n\n\n\n\n\n\n\n\n\n\n\n\n\n\n\n	\n		Comparte este evento\n		FacebookTwitterRedditLinkedInWhatsAppPinterestCorreo electrónico
URL:https://cafebreriaadhoc.com/evento/presentacion-de-72-leyes-de-los-sonadores-ed-vergara-de-mayte-ariza/
CATEGORIES:Novela,Presentación literaria
ATTACH;FMTTYPE=image/jpeg:https://cafebreriaadhoc.com/wp-content/uploads/2023/09/Las-72-leyes-universales-de-los-sonadores.jpeg
ORGANIZER;CN="Cafebrer%C3%ADa ad Hoc":MAILTO:info@cafebreriaadhoc.com
END:VEVENT
BEGIN:VEVENT
DTSTART;TZID=Europe/Madrid:20230930T190000
DTEND;TZID=Europe/Madrid:20230930T210000
DTSTAMP:20260424T114917
CREATED:20230904T072531Z
LAST-MODIFIED:20230908T052829Z
UID:13366-1696100400-1696107600@cafebreriaadhoc.com
SUMMARY:Inauguración de la exposición «Saberes heredados»\, comisariada por Mónica Sotos.
DESCRIPTION:Saberes heredados(Geografía de herencias\, cuidados\, maternidades y violencias)\n\n\n\nExposición colectiva comisariada por Mónica Sotos. \n\n\n\nPartiendo del binomio territorio-cuerpo\, el cuerpo como campo de batalla y de la necesaria despatriarcalización de la que tanto podríamos ahondar\, exploramos las aproximaciones artísticas de once mujeres que nos hablan desde la herencia y la fuerza inherente al género.  \n\n\n\nToda la organización familiar y preparativos que necesita anteponer una artista madre antes de poder enfrentarse al proceso creativo ya predispone ese encuentro.  \n\n\n\nLos cuidados\, tarea histórica encargada a la mujer\, tanto de hijos como de otros familiares\, impiden o posponen los horarios de trabajo ilimitados\, las residencias artísticas y sobre todo la concentración y liberación mental. Las renuncias a esa maternidad\, las denuncias de las violencias de género vividas en carne propia o por otras de su tribu\, problemáticas del cuerpo en multitud de variantes\, los espacios domésticos o la aproximación a la representación del paisaje como extensión del cuerpo\, son también temáticas que nos atraviesan e interpelan.  \n\n\n\nEn esta exposición he querido poner en diálogo a creadoras de distintas generaciones y latitudes trazando una cartografía que nos define pero también nos hermana. Frente al edadismo que nos rodea he seleccionado además como posición política a un mayor número de mujeres mayores de 50 años. Creadoras todas ellas con un compromiso y corpus de obra sólido cimentado a lo largo de decenios\, resistentes y valientes.  \n\n\n\nFrente a los estereotipos sociales que nos ridiculizan o estigmatizan\, la colonialidad del poder por la que persisten las violencias de género\, raza y clase\, resistir y mantener con firmeza nuestro derecho a denunciar\, a crear y ser en libertad es labor de todas. Reconociéndonos y visibilizando\, en este caso\, con propuestas artísticas nuestros propios dolores\, conquistas y experiencias compartidas.   \n\n\n\nSerna nos recibe y nos muestra uno de sus icónicos dibujos de mujeres poliédricas\, enloquecidas de pasión y traición\, llenas de violencia y empoderamiento a causa del desacato. \n\n\n\nAcha-Kutscher\, Casasola y Jiménez\, visibilizan fallas del sistema desde denuncias de abuso\, violencias de género\, comportamientos que no se esperan de nosotras hasta estados de soledad y encierro.   \n\n\n\nGoyeneche y Platero ambas han realizado en sus respectivas carreras estudios sobre el paisaje y las posibilidades de la geometría. Ambas trazan paisajes geométricos poéticos unos y más abstractos los otros que nos remiten al territorio vivido y al binomio paisaje exterior e interior.  \n\n\n\nEso nos enlaza con los autorretratos que presentamos de Kato\, en los que la cuestión del cuerpo como territorio quizás es más patente. También nos habla del autocuidado y del accidente con elementos definitorios de la feminidad como los fluidos o el pelo. \n\n\n\nGuerrero\, Ang y Acha afrontan cuestiones sobre la maternidad -y todas sus complejidades\, transformaciones y entregas en su dimensión más amplia entre lo bestial y lo más sutil – a través de sus pinturas y fotografías\, cerámicas y textiles\, esta última labor que recoge herencia de conocimiento y saberes ancestrales.Ortega en ese sentido visibiliza la relación madre e hija\, en calidad ahora de cuidadora\, homenaje a esa sabiduría heredada. \n\n\n\nMónica Sotos  \n\n\n\n\nInstagram: https://wwww.instagram.com/monicaaa.sotoss/\n\n\n\n\n\n\n\n\nArtistas Invitadas\n\n\n\n\n\nTheda Acha \n\n\n\n\nInstagram: https://www.instagram.com/thedaacha/\n\n\n\n\n\n\nLiliana Ang  \n\n\n\n\nWeb : https://lilianaang.com\n\n\n\nInstagram: https://wwww.instagram.com/floriduofuego/\n\n\n\n\nMarta Serna  \n\n\n\n\nWeb : https://www.martaserna.com\n\n\n\nInstagram: https://www.instagram.com/martaserna007/\n\n\n\n\nArancha Goyeneche   \n\n\n\n\nWeb : https://aranchagoyeneche.com/\n\n\n\nInstagram: https://www.instagram.com/aranchagoyeneche/\n\n\n\n\nMaría María Acha-Kutscher   \n\n\n\n\nWeb : https://acha-kutscher.com\n\n\n\nInstagram: https://www.instagram.com/achakutscher/\n\n\n\n\nSusana Guerrero  \n\n\n\n\nWeb : http://www.susanaguerrero.com/\n\n\n\nInstagram: https://www.instagram.com/susana_guerrero_sempere/\n\n\n\n\nElena Jiménez  \n\n\n\n\nWeb : http://www.elenajimenezart.com/index.php?/sobre-mi/\n\n\n\nInstagram: https://www.instagram.com/elenajimenezart\n\n\n\n\nJimena Kato  \n\n\n\n\nWeb : https://www.naveoporto.com/jimena-kato\n\n\n\nInstagram: https://www.instagram.com/jimmutsu\n\n\n\n\nMaría Ortega  \n\n\n\n\nWeb : https://www.mariaortega.com\n\n\n\nInstagram: https://www.instagram.com/mariaortegalvez\n\n\n\n\nMaría Platero  \n\n\n\n\nWeb : https://mariaplatero.com/personal/\n\n\n\nInstagram: https://www.instagram.com/platerochrome\n\n\n\n\nElizabeth Casasola \n\n\n\n\nWeb : https://elicasasola.wixsite.com/portafolio\n\n\n\nInstagram: https://www.instagram.com/eliiiicasasola/\n\n\n\n\n\n\n\n\n\n\n\n\n\n\n\n\n\n\n\n\n\nMónica Sotos Vidal.\n\n\n\nMadrid\, 1970. Artista\, comisaria y gestora cultural. Licenciada en Bellas Artes por la UCM. Cursos de doctorado\, Facultad de Historia. U.C.M. Ha sido profesora invitada en el Máster La Fábrica Proyectos culturales durante varias ediciones. Ha participado en seminarios\, mesas redondas\, jurados o diálogos con artistas. \n\n\n\nEn los últimos 25 años ha desarrollado proyectos curatoriales y de gestión en torno a cuestiones de territorio y género estableciendo puentes hacia Latinoamericana. En Festivales como la Iberoamericana de Toro\, Madrid Design Festival\, Photoespaña\, el Festival Ellas Crean o el Festival Territori por citar algunos de los más recientes. \n\n\n\nDesde el año 2000 dirige el Área de Artes Visuales del Instituto Cultural de México\, donde ha desarrollado alrededor de 300 exposiciones con más de 700 artistas en colaboración con 200 instituciones entre las que destacan proyectos con el Mtro. Francisco Toledo\, Betsabeé Romero\, Jan Hendrix o Lorena Wolffer y Conmemoraciones como Arco México\, La Mar de Músicas\, Huesca Imagen e instituciones como el CA2M\, el Museo Reina Sofía\, la Casa de América o el Museo Thyssen. \n\n\n\n\n\n\n\n\n\n\n\n\n\n\n\n\n\n\n\n\n\n\n\n\n\n\n\n\n	\n		Comparte este evento\n		FacebookTwitterRedditLinkedInWhatsAppPinterestCorreo electrónico
URL:https://cafebreriaadhoc.com/evento/inauguracion-de-la-exposicion-saberes-heredados-comisariada-por-monica-sotos/
CATEGORIES:Inauguración
ATTACH;FMTTYPE=image/jpeg:https://cafebreriaadhoc.com/wp-content/uploads/2023/09/Cartelweb_saberes.jpeg
ORGANIZER;CN="Cafebrer%C3%ADa ad Hoc":MAILTO:info@cafebreriaadhoc.com
END:VEVENT
END:VCALENDAR