BEGIN:VCALENDAR
VERSION:2.0
PRODID:-//Cafebrería ad Hoc - ECPv6.15.13.1//NONSGML v1.0//EN
CALSCALE:GREGORIAN
METHOD:PUBLISH
X-ORIGINAL-URL:https://cafebreriaadhoc.com
X-WR-CALDESC:Eventos para Cafebrería ad Hoc
REFRESH-INTERVAL;VALUE=DURATION:PT1H
X-Robots-Tag:noindex
X-PUBLISHED-TTL:PT1H
BEGIN:VTIMEZONE
TZID:Europe/Madrid
BEGIN:DAYLIGHT
TZOFFSETFROM:+0100
TZOFFSETTO:+0200
TZNAME:CEST
DTSTART:20220327T010000
END:DAYLIGHT
BEGIN:STANDARD
TZOFFSETFROM:+0200
TZOFFSETTO:+0100
TZNAME:CET
DTSTART:20221030T010000
END:STANDARD
BEGIN:DAYLIGHT
TZOFFSETFROM:+0100
TZOFFSETTO:+0200
TZNAME:CEST
DTSTART:20230326T010000
END:DAYLIGHT
BEGIN:STANDARD
TZOFFSETFROM:+0200
TZOFFSETTO:+0100
TZNAME:CET
DTSTART:20231029T010000
END:STANDARD
BEGIN:DAYLIGHT
TZOFFSETFROM:+0100
TZOFFSETTO:+0200
TZNAME:CEST
DTSTART:20240331T010000
END:DAYLIGHT
BEGIN:STANDARD
TZOFFSETFROM:+0200
TZOFFSETTO:+0100
TZNAME:CET
DTSTART:20241027T010000
END:STANDARD
END:VTIMEZONE
BEGIN:VEVENT
DTSTART;TZID=Europe/Madrid:20231004T193000
DTEND;TZID=Europe/Madrid:20231004T210000
DTSTAMP:20260424T102230
CREATED:20230925T050758Z
LAST-MODIFIED:20230925T183300Z
UID:13628-1696447800-1696453200@cafebreriaadhoc.com
SUMMARY:Presentación de La mujer que no entendía el mundo. Pasión y sombra de Sonja Graf (Ed. Reino de Cordelia)\, de David Torres
DESCRIPTION:En el acto intervendrá junto al autor la Ministra de Igualdad Irene Montero.\n\n\n\nSINOPSIS \n\n\n\nUn velo de misterio oculta la figura de una de las mujeres más fascinantes del pasado siglo: la ajedrecista Sonja Graf. Nacida en Múnich a comienzos del siglo XX\, de niña fue maltratada por sus padres\, huyó del Tercer Reich en vísperas de la Segunda Guerra Mundial y participó en el Torneo de las Naciones\, en Buenos Aires\, sin otra bandera que un cartel que decía «Libre».  \n\n\n\nEterna rival de la mítica campeona mundial Vera Menchik\, Graf vestía ropa de hombre\, fumaba y bebía como un hombre y se acostaba sin problemas con mujeres y hombres. El encuentro entre Graf y una enigmática admiradora en una cafetería de Los Ángeles –en un largo diálogo donde van surgiendo los nombres de Marlene Dietrich y Humphrey Bogart\, entre las sombras del nazismo\, el feminismo y el psicoanálisis– vertebra esta novela. \n\n\n\n\n\n\n\n\n\n\n\n\n\n\n\n\n\n\nDavid Torres.\n\n\n\n(Madrid\, 1966) Licenciado en Filología Hispánica\, es escritor\, guionista y columnista de prensa. Ganó en 1999 su primer premio de novela con Nanga Parbat\, traducida al francés\, polaco e italiano.  \n\n\n\n\n\nEn 2003 fue finalista del Premio Nadal con El gran silencio y dos años más tarde llegaría uno de sus mayores éxitos de crítica\, El mar en ruinas (2005). Entre su obra narrativa destacan títulos como Niños de tiza (2008)\, Punto de fisión (2011)\, Todos los buenos soldados (2014) y Palos de ciego (2017). \n\n\n\n\n\n\n\n\n\n\n\n\n\n\n\n\n\n\n\n\n\n\n\n\n\n\n\n\n\n\n\n\n\n	\n		Comparte este evento\n		FacebookTwitterRedditLinkedInWhatsAppPinterestCorreo electrónico
URL:https://cafebreriaadhoc.com/evento/la-mujer-que-no-entendia-el-mundo-pasion-y-sombra-de-sonja-graf/
CATEGORIES:Novela,Presentación literaria
ATTACH;FMTTYPE=image/jpeg:https://cafebreriaadhoc.com/wp-content/uploads/2023/09/portada-mujer-queno-entenidaelmundo.jpg
ORGANIZER;CN="Cafebrer%C3%ADa ad Hoc":MAILTO:info@cafebreriaadhoc.com
END:VEVENT
BEGIN:VEVENT
DTSTART;TZID=Europe/Madrid:20231007T190000
DTEND;TZID=Europe/Madrid:20231007T210000
DTSTAMP:20260424T102230
CREATED:20230925T182925Z
LAST-MODIFIED:20230926T043543Z
UID:13633-1696705200-1696712400@cafebreriaadhoc.com
SUMMARY:Presentación de Exhumación (Ed. Binomio)\, de Álvaro Jarillo.
DESCRIPTION:Acompañará al autor el escritor Javier Sagarna.\n\n\n\nSINOPSIS \n\n\n\nArturo\, ex trabajador de una empresa que está siendo investigada como posible responsable de un accidente con varias víctimas mortales\, desearía librarse de su pasado y empezar de nuevo\, lejos de la corrupción que ha marcado su vida laboral. Vigilado por la policía y por sus ex compañeros\, Arturo tendrá que decidir entre sacar a la luz la verdad\, lo que podría enviarlo a la cárcel\, o enterrar su pasado y aprender a vivir con la mentira. \n\n\n\nExhumación es una obra con tintes de novela negra en la que los conflictos de los personajes alimentan una trepidante trama policial. \n\n\n\n\n\n\n\n\n\n\n\n\n\n\n\n\n\n\nÁlvaro Jarillo.\n\n\n\nÁlvaro Jarillo (Madrid\, 1973) es doctor en Derecho y ha compaginado el trabajo de profesor universitario con su formación en la Escuela de Escritores donde fue alumno del Máster de Narrativa. Ha publicado cuentos en varios libros colectivos del Taller de Escritura de Madrid y en la revista La Rompedora. Exhumación es su primera novela. \n\n\n\n \n\n\n\n\n\n \n\n\n\n\n\n\n\n\n\n\n\n\n\n\n\n\n\n\n\n\n\n\n\n\n\n\n\n\n\n\n	\n		Comparte este evento\n		FacebookTwitterRedditLinkedInWhatsAppPinterestCorreo electrónico
URL:https://cafebreriaadhoc.com/evento/presentacion-de-exhumacion-ed-binomio-de-alvaro-jarillo/
CATEGORIES:Novela,Presentación literaria
ATTACH;FMTTYPE=image/jpeg:https://cafebreriaadhoc.com/wp-content/uploads/2023/09/portada-exhumacion.jpg
ORGANIZER;CN="Cafebrer%C3%ADa ad Hoc":MAILTO:info@cafebreriaadhoc.com
END:VEVENT
BEGIN:VEVENT
DTSTART;TZID=Europe/Madrid:20231017T190000
DTEND;TZID=Europe/Madrid:20231017T210000
DTSTAMP:20260424T102230
CREATED:20231007T103254Z
LAST-MODIFIED:20231009T141226Z
UID:13747-1697569200-1697576400@cafebreriaadhoc.com
SUMMARY:Escritura gozosa. Especial Día de las Escritoras
DESCRIPTION:Encuentro/charla en torno a la alegría\, el placer y el gozo de escribir. Invitadas: María Folguera escritora y dramaturga\, Cristina Oñoro\, escritora y profesora de Teoría de la Literatura en la Universidad Complutense y Cristina Pineda\, editora de Tres Hermanas y Silonia y fundadora de Twin Brooks Press S.L. \n\n\n\nEl 17 de octubre a las 19.00h con motivo de la celebración del Día de las Escritoras\, acogeremos en nuestra casa un encuentro/charla al que hemos titulado Escritura gozosa y que hará hincapié en la alegría\, el placer y el gozo de escribir.  \n\n\n\nContaremos para ello con la presencia de tres mujeres extraordinarias: María Folguera\, Cristina Oñoro y Cristina Pineda; y con ellas nos adentraremos en el laberinto de la escritura desde sus distintos enfoques.  \n\n\n\n¿Por qué no suele ser la alegría un tema común en la narrativa? ¿Es el gozo algo inherente al hecho de escribir? ¿Hay mayor placer en la lectura o en la escritura? Sobra decir que será una celebración del Día de las Escritoras por todo lo alto ya que las tres\, por su dilatada experiencia profesional alrededor del mundo de la escritura de las mujeres\, aportarán perspectivas muy diversas\, posiblemente complementarias o quizá no tanto\, en cualquiera de los casos promete ser una charla muy interesante. \n\n\n\n \n\n\n\n\n\n\n\nMaría Folguera\n\n\n\nLidia Caro Leal (1990) es licenciada en Publicidad y Relaciones Públicas. Colabora con medios de comunicación cultural\, gastronómica y de temática social como Culturplaza\, El Salto\, Guía Hedonista o Etiqueta Zero\, y ha escrito para publicaciones de tendencias\, actualidad y diseño como SOLO Magazine\, Ferida\, Salvaje o Revista Plaza\, además de organizar eventos literarios\, presentaciones y encuentros culturales. \n\n\n\n\n\n\n\n\n\n\n\n\n\nLibros de María Folguera:\n\n\n\nHermana Placer. Alianza editorial \n\n\n\n\n\n\n\n\n\n\n\n\n\n\n\n\n\n\nCristina Oñoro\n\n\n\nCristina Oñoro (Madrid\, 1979) es profesora de teoría de la literatura en la Universidad Complutense y ha sido también docente e investigadora postdoctoral en la Université de Strasbourg. Sus líneas de investigación giran en torno a la literatura escrita por mujeres\, la narrativa y el teatro contemporáneos\, y las relaciones entre filosofía y creación literaria. En su trabajo combina el ensayo con la narración para acercar a un público amplio los temas que le apasionan. En los últimos años ha desarrollado una importante actividad divulgativa a través de los clubes de lectura que ha dirigido en librerías e instituciones culturales de Madrid. Sus últimos libros son Enrique Vila-Matas. Juegos\, ficciones\, silencios (Visor Libros\, 2015) y Las que faltaban. Una historia del mundo diferente (Taurus\, 2022).  \n\n\n\n\n\nLibros de Cristina Oñoro\n\n\n\nLas que faltaban. Editorial Taurus \n\n\n\n\n\n\n\n\nCristina Oñoro Otero\, becada Leonardo 2022 de la Fundación BBVA en la categoría de Creadores Culturales. © KIKE \n\n\n\n\n\n\n\n\n\n\n\n\n\n\n\n\n\n\n\n\n\nCristina Pineda i Torra\n\n\n\nCristina Pineda i Torra (Madrid\, 1971). En 2015 creó el sello Tres Hermanas\, en 2016 asumió la dirección del sello infantil Silonia y en 2019 fundó su propia editorial Twin Brooks Press S.L.     \n\n\n\n\n\n\n\n\n\n\n\n\n	\n		Comparte este evento\n		FacebookTwitterRedditLinkedInWhatsAppPinterestCorreo electrónico
URL:https://cafebreriaadhoc.com/evento/escritura-gozosa-especial-dia-de-las-escritoras/
CATEGORIES:Charla-coloquio,Presentación literaria,Taller de lectura abierto
ATTACH;FMTTYPE=image/jpeg:https://cafebreriaadhoc.com/wp-content/uploads/2023/09/Escritura-gozosa.jpeg
ORGANIZER;CN="Cafebrer%C3%ADa ad Hoc":MAILTO:info@cafebreriaadhoc.com
END:VEVENT
BEGIN:VEVENT
DTSTART;TZID=Europe/Madrid:20231020T190000
DTEND;TZID=Europe/Madrid:20231020T210000
DTSTAMP:20260424T102230
CREATED:20230926T045306Z
LAST-MODIFIED:20230926T050615Z
UID:13641-1697828400-1697835600@cafebreriaadhoc.com
SUMMARY:Presentación del libro de relatos 2 horas\, 15 minutos para el fin del mundo (Ed. Talentura)\, de Ernesto Ortega.
DESCRIPTION:Junto al autor estará el escritor Ignacio Ferrando.\n\n\n\nSINOPSIS \n\n\n\nSprinters en el corredor de la muerte\, jóvenes que intentan superar el efecto 2000\, hijos que pierden a sus padres en Navidad\, chicas que juzgan a sus amantes por lo que guardan en el frigo\, hombres que se deshacen de las pertenencias de sus exnovias en Wallapop\, amas de casa que tienen que fumar a escondidas\, niños que crecen muy rápido… A los protagonistas de estos 16 relatos se les acaba el tiempo\, pero el tiempo nunca es mucho ni poco\, solo es relativo. Un año de un perro equivale a siete de un humano\, hay tortugas que viven doscientos años\, mariposas que solo viven un día y peces que\, por mucho tiempo que vivan\, apenas recuerdan lo que han hecho los últimos treinta segundos. \n\n\n\nTodo\, todos somos efímeros y un día llegará el fin del mundo. No será dentro de 2 horas y 15 minutos que es lo que tardará\, más o menos\, en leer este libro. Puede hacerlo en orden\, la lógica así lo indica\, o de atrás hacia adelante\, como hacen aquellos que empiezan los periódicos por el final. En ese caso\, no se preocupe\, no descubrirá quién es el asesino. Y también puede hacerlo saltando de un relato a otro\, como si estuviese leyendo Rayuela –uno siempre tiene que aspirar a escribir como Cortázar–. También puede no hacerlo\, por supuesto\, pero en el caso de que lo haga\, hágalo como si fuese la última cosa que fuese a hacer en la vida\, como si el mundo se fuese a acabar dentro de 2 horas y 15 minutos. \n\n\n\n\n\n\n\n\n\n\n\n\n\n\n\n\n\n\nErnesto Ortega.\n\n\n\n \n\n\n\n \n\n\n\n\n\n \n\n\n\n\n\n\n\n\n\n\n\n\n\n\n\n\n\n\n\n\n\n\n\n\n\n\n\n\n\n\n	\n		Comparte este evento\n		FacebookTwitterRedditLinkedInWhatsAppPinterestCorreo electrónico
URL:https://cafebreriaadhoc.com/evento/presentacion-dl-libro-de-relatos-2-horas-15-minutos-para-el-fin-del-mundo-ed-talentura-de-ernesto-ortega/
CATEGORIES:Novela,Presentación literaria
ATTACH;FMTTYPE=image/jpeg:https://cafebreriaadhoc.com/wp-content/uploads/2023/09/2h15minutosparaelfindelmundo.jpg
ORGANIZER;CN="Cafebrer%C3%ADa ad Hoc":MAILTO:info@cafebreriaadhoc.com
END:VEVENT
BEGIN:VEVENT
DTSTART;TZID=Europe/Madrid:20231021T190000
DTEND;TZID=Europe/Madrid:20231021T210000
DTSTAMP:20260424T102230
CREATED:20231015T101549Z
LAST-MODIFIED:20231015T165034Z
UID:13811-1697914800-1697922000@cafebreriaadhoc.com
SUMMARY:Charla/encuentro en torno a Saberes heredados\, exposición colectiva comisariada por Mónica Sotos.
DESCRIPTION:El sábado 21 a las 19.00h  os invitamos a la charla en torno a Saberes heredados\,  la exposición de arte colectiva que podéis ver ahora en nuestro espacio. Participarán la comisaria de la exposición Mónica Sotos y las artistas María María Acha-Kutscher\, María Platero\, Susana Guerrero y Marta Serna.\n\n\n\n\n\n\n\n\n\n\n\n\n\n\n\n\n\n\n\n\n\n	\n		Comparte este evento\n		FacebookTwitterRedditLinkedInWhatsAppPinterestCorreo electrónico
URL:https://cafebreriaadhoc.com/evento/charla-encuentro-en-torno-a-saberes-heredados-exposicion-de-arte-colectiva-comisariada-por-monica-sotos/
CATEGORIES:Novela,Presentación literaria
ATTACH;FMTTYPE=image/jpeg:https://cafebreriaadhoc.com/wp-content/uploads/2023/10/Saberes-heredado-2s.jpeg
ORGANIZER;CN="Cafebrer%C3%ADa ad Hoc":MAILTO:info@cafebreriaadhoc.com
END:VEVENT
BEGIN:VEVENT
DTSTART;TZID=Europe/Madrid:20231026T190000
DTEND;TZID=Europe/Madrid:20231026T210000
DTSTAMP:20260424T102230
CREATED:20230926T050325Z
LAST-MODIFIED:20231010T092133Z
UID:13647-1698346800-1698354000@cafebreriaadhoc.com
SUMMARY:Presentación de Mircea Cartarescu. El hacedor de insomnios (Ediciones del Subsuelo)\, de José Carlos Rodrigo Breto.
DESCRIPTION:El autor mantendrá una conversación con el crítico y profesor Juan Laborda Barceló.\n\n\n\nSINOPSIS \n\n\n\nMircea Cӑrtӑrescu es uno de los escritores más importantes de la actualidad literaria. Goza de un gran reconocimiento y es un autor multipremiado\, aunque su literatura pueda resultar poco accesible. Sus libros\, de una gran complejidad\, cargados de símbolos\, con un imaginario denso y muy particular\, son experiencias totales que van mucho más allá de una mera lectura. En el despliegue de ese imaginario propio y peculiar\, que a veces recuerda a escritores latinoamericanos como García Márquez o Borges\, radica uno de sus principales sellos de identidad. \n\n\n\nAnte un autor así\, solo cabe rendirse y disfrutar de la lectura. Sin embargo\, José Carlos Rodrigo Breto se ha propuesto ir más allá y plantear\, desde su experiencia como lector y comparatista\, un ensayo donde aborda los misterios que se esconden en lo profundo de la voz del escritor rumano para interpretar una de las prosas más sorprendentes\, originales e innovadoras que se han publicado en los últimos años. Una de esas voces que únicamente aparecen muy de vez en cuando y que está llamada a ser un modelo y a marcar el camino de la gran literatura que se escriba en el siglo xxi. \n\n\n\n\n\n\n\n\n\n\n\n\n\n\n\n\n\n\nJosé Carlos Rodrigo Breto\n\n\n\nJosé Carlos Rodrigo Breto (Madrid\, 1967) empezó su carrera literaria con la biografía musical Paul Weller: de la ciudad al bosque. En el año 2000 quedó finalista del Premio Joven de la UCM con la novela Noche y Niebla\, a la que siguieron Los pequeños caballos azules\, El vaso Canope\, Kafkarama y Casillero del diablo.  \n\n\n\n\n\nTiene las carreras de Periodismo\, Teoría de la Literatura y Literatura Comparada\, los másteres en Estudios Literarios\, Literatura Hispanoamericana y Literatura Española\, y es doctor en Estudios Literarios. En Ediciones del Subsuelo ha publicado su ensayo Ismaíl Kadaré: la Gran Estratagema (2018)\, como colofón a su tesis doctoral\, y la novela Ficción Gramatical (2020). Su última novela Squonk quedó finalista del II Premio de novela corta El Proceso\, en 2022. \n\n\n\n\n\nJuan Laborda Barceló\n\n\n\nJuan Laborda Barceló (Madrid\, 1978) es escritor\, doctor en Historia Moderna por la UCM\, crítico literario y profesor. Es autor de diversas novelas y textos académicos sobre cine y de divulgación histórica. En 2020 publicó la novela Y entonces volaron con el sello Huso Ediciones. El año 2022 llegó a las librerías su estudio fílmico sobre una pionera del cine olvidada: Alice Guy en el centro del vacío hay otra fiesta\, publicado igualmente por Huso Ediciones. \n\n\n\n\n\n\n\n\n\n \n\n\n\nEscribe con asiduidad para revistas como Qué Leer\, La Aventura de la Historia\, Descubrir la Historia o Despertaferro. También es habitual en diversos medios en relación a cuestiones literarias\, históricas y cinematográficas como la Cadena COPE o Ser Madrid. Ha sido redactor cultural y entrevistador en Periodista Digital y 4G Radio (2012-2015). \n\n\n\n \n\n\n\n\n\n\n\n\n\n\n\n\n\n\n\n\n\n\n\n\n\n\n\n\n\n\n\n\n\n\n	\n		Comparte este evento\n		FacebookTwitterRedditLinkedInWhatsAppPinterestCorreo electrónico
URL:https://cafebreriaadhoc.com/evento/presentacion-de-mircea-cartarescu-el-hacedor-de-insomnios-ediciones-del-subsuelo-de-jose-carlos-rodrigo-breto/
CATEGORIES:Novela,Presentación literaria
ATTACH;FMTTYPE=image/jpeg:https://cafebreriaadhoc.com/wp-content/uploads/2023/09/Mircea-Cӑrtӑrescu.jpeg
ORGANIZER;CN="Cafebrer%C3%ADa ad Hoc":MAILTO:info@cafebreriaadhoc.com
END:VEVENT
BEGIN:VEVENT
DTSTART;TZID=Europe/Madrid:20231027T190000
DTEND;TZID=Europe/Madrid:20231027T210000
DTSTAMP:20260424T102230
CREATED:20230926T055059Z
LAST-MODIFIED:20231010T092027Z
UID:13656-1698433200-1698440400@cafebreriaadhoc.com
SUMMARY:Club de lectura abierto de No entrar con llamas con presencia de la autora\, Lidia Caro
DESCRIPTION:Modera La Elocuente.\n\n\n\nDespués de haber publicado la novela Los años que no (Barret\, 2022)\, Lidia Caro presenta su tercer libro publicado: No entrar con llamas. Un libro de cuentos que dialogan entre sí a través del fuego de sus páginas. Desde el calor abrasador de la huerta valenciana hasta las tristes cenizas que quedan cuando termina la barbacoa. \n\n\n\nConversaremos con la autora y entraremos de lleno en sus relatos\, para reflexionar y poner en común las diferentes sensaciones y pensamientos a raíz de su lectura. La Elocuente\, quien moderará este club\, es un proyecto que busca generar comunidad a través de la literatura. Desde el 2021 organizan encuentros literarios\, entrevistas y clubes de lectura que se caracterizan por establecer un diálogo horizontal y colectivo. \n\n\n\nSINOPSIS \n\n\n\nNo entrar con llamas se centra en analizar los elementos que caracterizan el presente que vivimos\, como la precariedad\, las inseguridades\, las dificultades que acarrea ser joven en un mundo ya cerrado sobre sí mismo… Tiene un estilo fresco y punzante que mezcla el humor y la reivindicación\, y está ambientado en una Valencia decadente que arde como el sol de Levante\, más o menos como si Rafael Chirbes hubiera nacido en tiempos de la generación millennial. \n\n\n\n \n\n\n\n \n\n\n\n\n\n\n\n\n\n\n\n\n\n\n\n\n\n\n\n\n\n\nLidia Caro\n\n\n\nLidia Caro Leal (1990) es licenciada en Publicidad y Relaciones Públicas. Colabora con medios de comunicación cultural\, gastronómica y de temática social como Culturplaza\, El Salto\, Guía Hedonista o Etiqueta Zero\, y ha escrito para publicaciones de tendencias\, actualidad y diseño como SOLO Magazine\, Ferida\, Salvaje o Revista Plaza\, además de organizar eventos literarios\, presentaciones y encuentros culturales. \n\n\n\n\n\n \n\n\n\n\n\n\n\n\n\n\n\n\n\n\n\n\n\n\n\n\n\n\n\n\n\n\n\n\n\n\n	\n		Comparte este evento\n		FacebookTwitterRedditLinkedInWhatsAppPinterestCorreo electrónico
URL:https://cafebreriaadhoc.com/evento/club-de-lectura-abierto-de-no-entrar-con-llamas-con-presencia-de-la-autora-lidia-caro/
CATEGORIES:Charla-coloquio,Taller de lectura abierto
ATTACH;FMTTYPE=image/jpeg:https://cafebreriaadhoc.com/wp-content/uploads/2023/09/Cubierta-No-entrar-con-llamas.jpg
ORGANIZER;CN="Cafebrer%C3%ADa ad Hoc":MAILTO:info@cafebreriaadhoc.com
END:VEVENT
BEGIN:VEVENT
DTSTART;TZID=Europe/Madrid:20231028T120000
DTEND;TZID=Europe/Madrid:20231028T140000
DTSTAMP:20260424T102230
CREATED:20231010T085751Z
LAST-MODIFIED:20231010T163536Z
UID:13790-1698494400-1698501600@cafebreriaadhoc.com
SUMMARY:Presentación del poemario Polonio(Ed.Olifante)\, de Pedro Bosqued
DESCRIPTION:El autor conversará con el poeta Alfredo de Andrés.\n\n\n\nPrólogo de Antón Casto \n\n\n\nPedro Bosqued es un auténtico animal literario. Sabíamos de su pasión por la buena literatura\, especialmente la narrativa y el ensayo\, pero no sabíamos que era un poeta secreto. Lo era y ya no lo es. En el fondo\, puede ser desconcertante: siempre te sorprende con sus aficiones\, sus manías\, sus dones o su curiosidad. \n\n\n\nPolonio\, título de este volumen\, rinde homenaje al personaje de Hamlet\, padre de Ofelia. Y lo hace en un libro infrecuente como todo lo que toca: dedica un día de la semana de cada mes del año. Compone 84 poemas\, y hay otro más de introducción a cada día de la semana; por lo tanto\, son 91 poemas\, no muy largos. \n\n\n\nPedro Bosqued crea un discurso muy abierto\, culto y lúdico. Inevitablemente\, Polonio tiene algo de diario de las pequeñas cosas de cada día\, pero también de otros asuntos: el amor\, la inmigración\, el tiempo material y metafísico\, la amistad\, la filosofía. \n\n\n\nEl sujeto poético\, que a veces da la sensación de ser el propio Pedro Bosqued\, describe situaciones\, encadena imágenes y estados de ánimo\, emplea elementos concretos y abstractos\, e interpela constantemente a alguien que podría encarnar el propio poeta\, el lector o un ser innominado con el que conversa. Pedro Bosqued escribe con elegancia\, ingenio\, humor\, alguna que otra burla\, con un punto de ironía y extrañamiento en ocasiones\, seguro de su ritmo y de su lenguaje. Parece sentirse cómodo en este admirable juego de hacer versos con imágenes\, intuiciones e ideas. \n\n\n\nQuerido lector\, como dice el escritor: “¡Te espera lo inesperado!”. \n\n\n\n\n\n\n\n\n\n\n\n\n\n\n\n\n\n\n\n\n\n\nPedro Bosqued\n\n\n\nPedro Bosqued (Zaragoza\, 1970). Escritor y crítico literario en Artes & Letras de Heraldo de Aragón. Es autor de Pieles de Italia (Confluencias\, 2015) y Para cenar\, aire (Pregunta\, 2020).  \n\n\n\n\n\nFormó parte de la I Promoción del Máster de Narrativa de la Escuela de Escritores donde impartió clases de Escritura Creativa y Relato Breve. En este poemario ven la luz las líneas que con el paso de los días de la semana y los meses del año han configurado una manera de pensar lo imprevisto y de fijar lo imprevisible. El inasible empeño humano por sellar lo imposible. \n\n\n\n\n\n\n\n\n\n\n\n\n\n\n\n\n\n\n\n\n\n\n\n\n\n\n\n\n\n\n	\n		Comparte este evento\n		FacebookTwitterRedditLinkedInWhatsAppPinterestCorreo electrónico
URL:https://cafebreriaadhoc.com/evento/presentacion-del-poemario-polonio-ed-olifante-de-pedro-bosqued/
CATEGORIES:Novela,Presentación literaria
ATTACH;FMTTYPE=image/jpeg:https://cafebreriaadhoc.com/wp-content/uploads/2023/10/portada-poemario-Polonio.jpeg
ORGANIZER;CN="Cafebrer%C3%ADa ad Hoc":MAILTO:info@cafebreriaadhoc.com
END:VEVENT
BEGIN:VEVENT
DTSTART;TZID=Europe/Madrid:20231031T190000
DTEND;TZID=Europe/Madrid:20231031T210000
DTSTAMP:20260424T102230
CREATED:20231020T165154Z
LAST-MODIFIED:20231026T131250Z
UID:13818-1698778800-1698786000@cafebreriaadhoc.com
SUMMARY:EL TERROR NOS SIENTA TAN BIEN…
DESCRIPTION:¡En Cafebrería ad Hoc celebramos el Día de los Muertos a nuestra manera!\n\n\n\nY lo hacemos\, como siempre con una selección ad Hoc de libros para la ocasión\, acompañados cómo no de dulces y salados a precios terroríficos. Además\, os invitamos a dos eventos muy especiales: \n\n\n\n–A las 19.00h \n\n\n\nEl SAMHAIN Y SUS LUNAS\, con Isa Fernández. Donde a través de una charla informal consultaremos el clima astral que estamos viviendo. ¿Curioso no? \n\n\n\n¿Y qué es el Samhain? \n\n\n\nEs una celebración de la antigua religión de los celtas\, sus tradiciones se transmitían oralmente a través de los druidas y sus detalles se perdieron con la desaparición de estos. Pero algunas se transformaron y dieron origen a festividades actuales como Halloween. En ella se consideraba que la barrera que separaba el mundo humano del sobrenatural se difuminaba\, y los habitantes del uno o del otro podían mezclarse. Por una parte\, en esos momentos del año los espíritus de los familiares difuntos regresaban al hogar\, por lo que se les procuraba una buena acogida\, se creía que si se sentían bien recibidos protegerían a la familia y a sus rebaños\, mientras que si eran olvidados o tratados con descortesía podían transformarse en espíritus vengativos que causarían desgracias. \n\n\n\nPor esta razón\, se preparaba un lugar para ellos en la mesa de celebración con ofrendas de comida y bebida para que se sintieran bien acogidos. También se encendían hogueras y se celebraban competiciones en su honor. \n\n\n\n–A las 20.00h \n\n\n\nJAM SESSIÓN DE TERROR \n\n\n\n¿Y qué es lo que haremos? \n\n\n\nTras la lectura dramatizada del relato de terror Berenice (E.A.Poe) a cargo de Arantza Salaberria\, seleccionaremos una frase del mismo a partir de la cual se abrirá un concurso de relato en vivo en el que podrán participar todos aquellos cafebrer@s que lo deseen. Y habrá jurado y premio\, claro que sí\, ¡un premio terrible! \n\n\n\n\n\n\n\n\n\n\n\n\n\n\n\n\n\n\n\n\n\n\nIsa Fernández.\n\n\n\nApasionada de la magia\, la astrología\, la luna y el mundo sutil. Conectar con el Universo es conectar con nuestra esencia.  \n\n\n\n\n\n \n\n\n\n\n\n\n\n\n\n\n\n\n\n\n\n\n\n\n\n\n\n\n\n\n\n\n\n\n	\n		Comparte este evento\n		FacebookTwitterRedditLinkedInWhatsAppPinterestCorreo electrónico
URL:https://cafebreriaadhoc.com/evento/dia-de-los-muertos-a-nuestra-manera/
CATEGORIES:Charla-coloquio
ATTACH;FMTTYPE=image/jpeg:https://cafebreriaadhoc.com/wp-content/uploads/2023/10/halloween-cafebreriadhoc.jpeg
ORGANIZER;CN="Cafebrer%C3%ADa ad Hoc":MAILTO:info@cafebreriaadhoc.com
END:VEVENT
END:VCALENDAR