BEGIN:VCALENDAR
VERSION:2.0
PRODID:-//Cafebrería ad Hoc - ECPv6.15.13.1//NONSGML v1.0//EN
CALSCALE:GREGORIAN
METHOD:PUBLISH
X-ORIGINAL-URL:https://cafebreriaadhoc.com
X-WR-CALDESC:Eventos para Cafebrería ad Hoc
REFRESH-INTERVAL;VALUE=DURATION:PT1H
X-Robots-Tag:noindex
X-PUBLISHED-TTL:PT1H
BEGIN:VTIMEZONE
TZID:Europe/Madrid
BEGIN:DAYLIGHT
TZOFFSETFROM:+0100
TZOFFSETTO:+0200
TZNAME:CEST
DTSTART:20220327T010000
END:DAYLIGHT
BEGIN:STANDARD
TZOFFSETFROM:+0200
TZOFFSETTO:+0100
TZNAME:CET
DTSTART:20221030T010000
END:STANDARD
BEGIN:DAYLIGHT
TZOFFSETFROM:+0100
TZOFFSETTO:+0200
TZNAME:CEST
DTSTART:20230326T010000
END:DAYLIGHT
BEGIN:STANDARD
TZOFFSETFROM:+0200
TZOFFSETTO:+0100
TZNAME:CET
DTSTART:20231029T010000
END:STANDARD
BEGIN:DAYLIGHT
TZOFFSETFROM:+0100
TZOFFSETTO:+0200
TZNAME:CEST
DTSTART:20240331T010000
END:DAYLIGHT
BEGIN:STANDARD
TZOFFSETFROM:+0200
TZOFFSETTO:+0100
TZNAME:CET
DTSTART:20241027T010000
END:STANDARD
END:VTIMEZONE
BEGIN:VEVENT
DTSTART;TZID=Europe/Madrid:20231104T120000
DTEND;TZID=Europe/Madrid:20231104T140000
DTSTAMP:20260424T083356
CREATED:20231029T092409Z
LAST-MODIFIED:20231029T092452Z
UID:13851-1699099200-1699106400@cafebreriaadhoc.com
SUMMARY:Presentación de El faro de las almas (Ed. Apache)\, de Júlia Díez e ilustrado por Héctor Pérez Asperilla
DESCRIPTION:La autora conversará con José Luis del Río.\n\n\n\nSINOPSIS \n\n\n\nSumérgete en un universo lleno de sorpresas\, hechizos y llaves que nos llevan a otros mundos. \n\n\n\nLas llaves de las ciudades del mundo que dan acceso a la dimensión de las almas están siendo robadas\, lo que pone en serio peligro a todos sus habitantes. El fin es utilizarlas para crear un ejército lleno de seres sin voluntad\, capaces de matar o de dar su vida sin el menor atisbo de duda. \n\n\n\nSloot\, Miranda\, Aoife y Niall\, junto a otros custodios\, intentarán alejarlas de las manos de la máxima fausta\, Viktoria Pastalle\, y de las de Alea Pantagrone\, la máxima que lidera una emergente guerra civil dentro de su facción y que pretende derrocar a Viktoria. La misión de los custodios será recuperar las llaves que están en posesión de sus adversarias y salvaguardar las que todavía tienen en su poder.  \n\n\n\nEl Faro de las Almas\, primer libro de la saga Las ciudades negras\, es una historia donde la taumaturgia se une a dos mundos contrapuestos: negro y blanco\, máximas y custodios; y donde la lealtad\, el amor y la amistad serán el punto de partida hacia una solución. \n\n\n\n\n\n\n\n\n\n\n\n\n\n\n\n\n\n\n\n\n\n\nJúlia Díez\n\n\n\nJúlia Díez (Barcelona\, 1968) estudió Edificación y Urbanismo\, pero siempre ha trabajado en el mundo de la publicidad. Tiene un máster en Traffic Management. Es fundadora y profesora de la primera escuela oficial de danza irlandesa en el país: Aires Celtes Maria Singal Irish Dance School\, escuela miembro de la Asociación Mundial de Danza Irlandesa. Miembro de la P.A.E. (Plataforma de Adictos a la Escritura). Obsesa de toda clase de literatura\, pero sobre todo de la literatura de género. Le gusta ser madre\, los gatos y los días lluviosos. \n\n\n\n\n\nEn el ámbito literario\, se estrena en 2016 con El cumhacht de Ethan (El mundo de Ethan en su segunda edición y Ethan en la tercera)\, un libro infantil que actualmente se encuentra como lectura curricular en ocho escuelas catalanas con La Topera Editorial. \n\n\n\nGanadora de la tercera edición del premio Operación Tagus convocado por Ediciones Tagus (Grupo Planeta y Ámbito Cultural de El Corte Inglés)\, de entre más de 400 obras\, con 3027 Sublevación\, en 2016. En el mismo año\, publica Amores\, veintidós relatos atípicos sobre el amor\, con la editorial Círculo Rojo. \n\n\n\nEn 2018\, publica El tratado de las puertas (dirigido a un público juvenil) con la editorial Inkreadible Books. \n\n\n\nEn septiembre de 2021 ve la luz la tercera edición de Ethan con Apache Libros. \n\n\n\nHa coordinado y participado en la antología de ciencia ficción Hellven en 2019\, de Suseya Ediciones\, y también en Y si lo contamos… steampunk en 2021\, de Apache Libros. \n\n\n\nHa colaborado en las antologías: \n\n\n\nDoñana es arte\, de Suseya Ediciones; Más macabras\, de la Editorial Maluma; Ácronos de acero y sangre\, de Apache Libros; Donde las hadas no se aventuran\, de Apache Libros; Jo March\, crónicas de una mujercita escritora ―un homenaje al personaje de Jo March de Mujercitas\, de Louisa May Alcott―\, de Tinta Púrpura; y Mechacrónicas\, relatos que rinden homenaje a los mechas y otros Titanes de Metal\, de Apache Libros. \n\n\n\n\n\n\n\n\n\n\n\n\n\n\n\n\n\n\n\n\n\n\n\n\n\n\n\n\n\n	\n		Comparte este evento\n		FacebookTwitterRedditLinkedInWhatsAppPinterestCorreo electrónico
URL:https://cafebreriaadhoc.com/evento/presentacion-de-el-faro-de-las-almas-ed-apache-de-julia-diez/
CATEGORIES:Novela,Presentación literaria
ATTACH;FMTTYPE=image/jpeg:https://cafebreriaadhoc.com/wp-content/uploads/2023/10/el-faro-de-las-almas.jpg
ORGANIZER;CN="Cafebrer%C3%ADa ad Hoc":MAILTO:info@cafebreriaadhoc.com
END:VEVENT
BEGIN:VEVENT
DTSTART;TZID=Europe/Madrid:20231107T190000
DTEND;TZID=Europe/Madrid:20231107T210000
DTSTAMP:20260424T083356
CREATED:20231026T145414Z
LAST-MODIFIED:20231026T151445Z
UID:13826-1699383600-1699390800@cafebreriaadhoc.com
SUMMARY:Presentación de El aviador (Nocturna ediciones)\, de Carlos Fortea
DESCRIPTION:Acompañará al autor Carlos Sanz\, profesor de Historia Contemporánea en la UCM.\n\n\n\nSINOPSIS \n\n\n\nLondres\, 1940. Durante el angustioso año en que estallan las hostilidades de la Segunda Guerra Mundial\, con la caída de Francia y los bombardeos de Londres\, varios personajes batallan con sus propios recuerdos de España: un general de aviación franquista\, un poeta exiliado\, una intelectual de la burguesía madrileña y otros trasterrados. Durante ese año de ansiedad\, los personajes libran su propia guerra con su memoria. Con un pasado salpicado por el desarrollo de un nuevo mundo técnico\, centrado especialmente en la aviación\, y con un nuevo mundo social y político lleno de incertidumbres. \n\n\n\n\n\n\n\n\n\n\n\n\n\n\n\n\n\n\n\n\n\n\nCarlos Fortea\n\n\n\nCarlos Fortea (Madrid\, 1963)\, ha sido profesor de traducción en la Universidad de Salamanca y lo es actualmente en la Universidad Complutense de Madrid. Es autor de las novelas Los jugadores (2015)\, finalista del Premio Espartaco de la Semana Negra de Gijón\,  y El mal y el tiempo (2017)\, ambas publicadas en Nocturna.  \n\n\n\n\n\nSu último libro publicado es el ensayo Un papel en el mundo (Trama\, 2023). Traductor de más de 150 títulos de literatura alemana\, por su traducción de la biografía Kafka (2018)\, de Reiner Stach\, obtuvo el Premio Ángel Crespo de traducción\, y por la de la novela Todo en vano\, de Walter Kempowski\, el Premio Esther Benítez de traducción correspondiente a 2021. En 2023 ha obtenido el Premio Nacional de Traducción por la traducción de la novela Los Effinger\, de Gabriele Tergit.  \n\n\n\n\n\n\n\n\n\n\n\n\n\n\n\n\n\n\n\n\n\n\n\n\n\n\n\n\n\n	\n		Comparte este evento\n		FacebookTwitterRedditLinkedInWhatsAppPinterestCorreo electrónico
URL:https://cafebreriaadhoc.com/evento/presentacion-de-el-aviador-nocturna-ediciones-de-carlos-fortea/
CATEGORIES:Novela,Presentación literaria
ATTACH;FMTTYPE=image/jpeg:https://cafebreriaadhoc.com/wp-content/uploads/2023/10/El-aviador.jpg
ORGANIZER;CN="Cafebrer%C3%ADa ad Hoc":MAILTO:info@cafebreriaadhoc.com
END:VEVENT
BEGIN:VEVENT
DTSTART;TZID=Europe/Madrid:20231110T190000
DTEND;TZID=Europe/Madrid:20231110T210000
DTSTAMP:20260424T083356
CREATED:20231026T155744Z
LAST-MODIFIED:20231027T090929Z
UID:13835-1699642800-1699650000@cafebreriaadhoc.com
SUMMARY:Presentación de Verde en el tejado (Ed. Hércules)\, de Silvia Salgado
DESCRIPTION:Acompañarán a la autora la periodista Sonsoles Moralejo\, y la editora de Hércules\, Laura Rodríguez.\n\n\n\nSINOPSIS \n\n\n\nLa trama sigue la vida de Olivia Lobo\, una mujer en la encrucijada de la mediana edad\, enfrentando un pasado complicado y un futuro incierto. En sus cuarenta y pocos años\, su vida parece estar en un punto de inflexión. Con una hija independiente\, un matrimonio en crisis y una carrera en el bufete de abogados de su familia\, su destino toma un giro inesperado cuando hereda una suma de dinero de su madre\, una mujer desconocida que antes se fue a “morir” con ella “sin haber intentado la vida jamás”. Olivia debe decidir si persigue o no su deseo de abrir un atelier de flores\, dando inicio a un nuevo capítulo en su vida.Lo que hace que Verde en el Tejado sea verdaderamente especial es la relación peculiar que la protagonista desarrolla con Virginia\, una acuarelista que pinta flores y reside en la ciudad de Verona. A través de esta amistad\, Olivia encuentra la fuerza para enfrentar su futuro y reconciliarse con su pasado familiar tumultuoso.Esta historia de amistad\, emoción y superación explora temas profundos como la empatía\, la bondad\, el perdón y el amor en todas sus formas. La novela es un elogio a la vida y la belleza que se encuentra en los detalles más simples\, como las flores y los libros. \n\n\n\n\n\n\n\n\n\n\n\n\n\n\n\n\n\n\n\n\n\n\nSilvia Salgado\n\n\n\nSilvia Salgado es una autora catalana nacida en 1974\, asentada en Oleiros (A Coruña). Posee una licenciatura en Ciencias Políticas de la UAB y un posgrado en Periodismo de la Universidad Columbia de Nueva York. Es conocida por sus novelas previas\, incluyendo «Mientras hilan las mariposas» (2016)\, «La aldea» (2017)\, «El intermedio que somos» (2019) y «Si te vuelves invierno» (2021). \n\n\n\n\n\nAdemás de su trabajo literario\, Silvia Salgado colabora como columnista en El Ideal Gallego y dirige talleres de escritura creativa y clubes de lectura. Actualmente\, reside en la localidad de Mera y compagina su trabajo con su pasión por la fotografía.Verde en el Tejado es una obra literaria que toca los corazones de los lectores y ofrece una visión conmovedora de la vida\, el amor y la amistad. La novela estará disponible en las principales librerías a partir del 16 de octubre. \n\n\n\n\n\n\n\n\n\n\n\n\n\n\n\n\n\n\n\n\n\n\n\n\n\n\n\n\n\n\n	\n		Comparte este evento\n		FacebookTwitterRedditLinkedInWhatsAppPinterestCorreo electrónico
URL:https://cafebreriaadhoc.com/evento/presentacion-de-verde-en-el-tejado-ed-hercules-de-silvia-salgado/
CATEGORIES:Novela,Presentación literaria
ATTACH;FMTTYPE=image/jpeg:https://cafebreriaadhoc.com/wp-content/uploads/2023/10/verde-en-el-tejado.jpg
ORGANIZER;CN="Cafebrer%C3%ADa ad Hoc":MAILTO:info@cafebreriaadhoc.com
END:VEVENT
BEGIN:VEVENT
DTSTART;TZID=Europe/Madrid:20231111T120000
DTEND;TZID=Europe/Madrid:20231111T140000
DTSTAMP:20260424T083356
CREATED:20231026T161946Z
LAST-MODIFIED:20231105T165005Z
UID:13841-1699704000-1699711200@cafebreriaadhoc.com
SUMMARY:Presentación de 111 historias de personas con diabetes ( Ed. Libros.com)\, de Susana Ruiz Mostazo
DESCRIPTION:Acompañarán a la autora varias personas protagonistas del libro.\n\n\n\nSINOPSIS \n\n\n\nManu tiene un sueño: ser profesional de ciclocross. Miriam despegó su vuelo médico a los cinco años\, antes de sobrevolar la sierra de Cádiz en parapente. Rubén\, un apasionado de Japón\, la magia y el sushi fantasea con viajar algún día al país nipón.  \n\n\n\nMari Jose\, gran fan del grupo U2\, llamará a su perro de alerta médica Bono\, como el cantante del grupo. 111 historias de personas con diabetes reúne los testimonios de aquellos que luchan por sus sueños y afrontan los retos diarios de coexistir con una enfermedad crónica\, la diabetes. \n\n\n\n\n\n\n\n\n\n\n\n\n\n\n\n\n\n\n\n\n\n\nSusana Ruiz Mostazo\n\n\n\nSusana Ruiz Mostazo (Tudela\, 1982) es conferenciante habitual y desde los once años tiene claro que la enfermedad jamás le impediría perseguir sus sueños\, y lo relata en su primera obra\, Los sueños no tienen cima.  \n\n\n\n\n\nNo fue fácil\, ya que tuvo que aprender a adaptar la enfermedad a la forma de vida que quería: subir cumbres. En 2013 empezó a probar herramientas para las personas con diabetes en altitud. Estos ensayos la llevaron\, junto a su marido\, a Nepal\, al Atlas o el Kilimanjaro\, Groenlandia o el Sahara. \n\n\n\n\n\n\n\n\n\n\n\n\n\n\n\n\n\n\n\n\n\n\n\n\n\n\n\n\n\n\n	\n		Comparte este evento\n		FacebookTwitterRedditLinkedInWhatsAppPinterestCorreo electrónico
URL:https://cafebreriaadhoc.com/evento/presentacion-de-111-historias-de-personas-con-diabetes-ed-libros-com-de-susana-ruiz-mostazo/
CATEGORIES:Novela,Presentación literaria
ATTACH;FMTTYPE=image/png:https://cafebreriaadhoc.com/wp-content/uploads/2023/10/111-historias-de-personas-con-diabetes.png
ORGANIZER;CN="Cafebrer%C3%ADa ad Hoc":MAILTO:info@cafebreriaadhoc.com
END:VEVENT
BEGIN:VEVENT
DTSTART;TZID=Europe/Madrid:20231120T190000
DTEND;TZID=Europe/Madrid:20231120T210000
DTSTAMP:20260424T083356
CREATED:20231107T100823Z
LAST-MODIFIED:20231107T100848Z
UID:13891-1700506800-1700514000@cafebreriaadhoc.com
SUMMARY:Presentación de Dos mujeres con gato. Escritos sobre las artes de Hannah Höch y Lu Märten (Ed. Tres Hermanas)\, de Isabel García Adánez y Andrea Pérez Fernández.
DESCRIPTION:Contaremos con la presencia de las traductoras y prologuistas del libro y junto a ellas estará Ramón del Castillo\, profesor de filosofía y estudios culturales de la UNED.\n\n\n\nSINOPSIS \n\n\n\nPara las polifacéticas Hannah Höch y Lu Märten\, las reflexiones sobre estética\, política o sociología solían ir acompañadas de un gato ovillado en el regazo y un ramo de flores sobre la mesa. La honestidad\, el lirismo y el sentido del humor caracterizan su pensamiento agudo y su escritura\, sin tapujos a la hora de visibilizar temas que\, a un siglo de distancia\, siguen siendo de plena actualidad.  \n\n\n\nEn el centro de sus preocupaciones están la situación de las mujeres en el arte y en la sociedad\, la precariedad\, la aventura de dedicarse a trabajos de creación y la importancia que ambas conceden a la actividad artística en el contexto de la lucha por unas condiciones vitales más amables y justas.La artista y la escritora eran amigas (con gatos)\, y esta selección de documentos da muestra de sus muchos puntos en común\, así como de su papel decisivo en el entramado intelectual y artístico del agitado Berlín de entreguerras. \n\n\n\n\n\n\n\n\n\n\n\n\n\n\n\n\n\n\n\n\n\n\nIsabel García Adánez\n\n\n\nIsabel García Adánez (Madrid\, 1972) es Licenciada en Filología Alemana y Española. Doctora en Filología Alemana. Diplomada en Piano y en Teoría de la música. Profesora de Lengua y Literatura Alemanas de la Universidad de Alcalá. Traductora de ensayo y literatura (Heinrich Heine\, Thomas Mann\, Arthur Schnitzler). Traducción de teatro y traducción audiovisual (cine: Goodbye\, Lenin!; El testamento del Doctor Mabuse\, etc.). Premio Esther Benítez (Quijote 2006) a la mejor traducción por La Montaña Mágica de Thomas Mann. \n\n\n\n\n\n\n\nAndrea Pérez Fernández\n\n\n\nAndrea Pérez Fernández es investigadora predoctoral FPU en la Facultad de Filosofía de la Universidad de Barcelona. Integrante del Seminari Filosofia i Gènere i del ADHUC-Centro de Investigación Teoría\, Género y Sexualidad\, trabaja en una tesis sobre el pensamiento político de la artista Hannah Höch en el contexto de la República de Weimar. Lo hace bajo la dirección de Fina Birulés y Maria-Josep Balsach (UdG)\, y bajo la tutorización de Àngela-Lorena Fuster (UB). \n\n\n\n\n\n\n\n\n\n\n\nPérez es graduada en Periodismo con mención en Humanidades (UPF\, 2017) y tiene un máster en Ciudadanía y Derechos Humanos: Ética y Política (UB\, 2018). Su investigación gira alrededor de la relación entre práctica artística y política durante los años de la República de Weimar\, con especial atención al dadaísmo alemán\, al teatro político y a las mujeres creadoras de la época. En el marco de esta investigación\, ha realizado estancias en la Freie Universität Berlin (2021) y en el Institute of Advanced Studies de la Loughborough University (2022). \n\n\n\nAsimismo\, se interesa por el pensamiento filosófico femenino contemporáneo y\, en particular\, por la obra de Simone Weil y Rosa Luxemburg\, sobre la cual coordina un Grupo de Trabajo en la Universidad de Barcelona. Entre sus publicaciones recientes destacan: «From compassion to distance: Hannah Höch’s Mother» (European Journal of Women’s Studies\, Vol 29\, Issue 1\, 2022) y «La crítica de Simone Weil a Marx: un referente para el pensamiento ecosocialista»\, con Pau Matheu (Isegoría\, núm. 66\, 2022).  \n\n\n\n\n\n\n\n\n\n\n\n\n\n\n\n\n\n\n\n\n\n\n\n\n\n\n\n\n\n	\n		Comparte este evento\n		FacebookTwitterRedditLinkedInWhatsAppPinterestCorreo electrónico
URL:https://cafebreriaadhoc.com/evento/presentacion-de-dos-mujeres-con-gato-escritos-sobre-las-artes-de-hannah-hoch-y-lu-marten-ed-tres-hermanas-de-isabel-garcia-adanez-y-andrea-perez-fernandez/
CATEGORIES:Novela,Presentación literaria
ATTACH;FMTTYPE=image/jpeg:https://cafebreriaadhoc.com/wp-content/uploads/2023/11/portada-dos-mujeres-con-gato-e1699351253508.jpg
ORGANIZER;CN="Cafebrer%C3%ADa ad Hoc":MAILTO:info@cafebreriaadhoc.com
END:VEVENT
BEGIN:VEVENT
DTSTART;TZID=Europe/Madrid:20231124T190000
DTEND;TZID=Europe/Madrid:20231124T210000
DTSTAMP:20260424T083356
CREATED:20231010T090600Z
LAST-MODIFIED:20231015T094700Z
UID:13797-1700852400-1700859600@cafebreriaadhoc.com
SUMMARY:Presentación de Los últimos del páramo (Ed. Viento del norte)\, de Marisol Artica Zurano
DESCRIPTION:Acompañará a la autora en la presentación Francisco Muro de Íscar\, periodista.\n\n\n\nSINOPSIS \n\n\n\nMartina y Manuel\, una pareja en crisis que busca reencontrarse pasando unas vacaciones en un hotel rural\, verán frustrados sus planes cuando\, tras perderse y parar en un pueblo abandonado\, se quedan sin batería en el coche. Disgustados y enfadados al no poder retomar su viaje\, serán acogidos por los únicos habitantes que quedan en Páramo de Rubielos: Dorotea y Pepe\, dos octogenarios que no se hablan entre sí\, a pesar de habitar en caserones vecinos. \n\n\n\nDurante los días siguientes\, cada uno de los ancianos comenzará a desvelarles sus vivencias de juventud. Martina y Manuel quedarán fascinados por su enigma y su historia\, al tiempo que ellos mismos se verán abocados a enfrentarse a las dolorosas verdades sobre su relación que todavía no han sido capaces de confesarse. \n\n\n\nUna novela narrada a dos tiempos que habla de la importancia del perdón\, de los amores imperfectos que todo lo pueden y de la soledad de nuestros mayores en el mundo rural. \n\n\n\n\n\n\n\n\n\n\n\n\n\n\n\n\n\n\n\n\n\n\nMarisol Artica Zurano\n\n\n\nEscritora y periodista navarra\, ha publicado los libros infantiles El secreto del arce (AECC\, 2013) y El País de los Espejos Rotos (Ediciones Palabra\, 2010)\, así como el manual de iniciación al relato Cómo contar un cuento (CCS\, 2013). Igualmente\, es autora de la obra Mi cáncer de mama (y el tuyo) en 19 preguntas (Reinas y Grillos Ediciones\, 2022)\, en la que comparte su experiencia afrontando esta enfermedad.  \n\n\n\n\n\nProfesora (y siempre aprendiz) de escritura creativa\, imparte talleres y cursos en diversas instituciones culturales y académicas desde 2011. \n\n\n\n\n\n\n\n\n\n\n\n\n\n\n\n\n\n\n\n\n\n\n\n\n\n\n\n\n\n	\n		Comparte este evento\n		FacebookTwitterRedditLinkedInWhatsAppPinterestCorreo electrónico
URL:https://cafebreriaadhoc.com/evento/presentacion-de-los-ultimos-del-paramo-ed-viento-del-norte-de-marisol-artica-zurano/
CATEGORIES:Novela,Presentación literaria
ATTACH;FMTTYPE=image/jpeg:https://cafebreriaadhoc.com/wp-content/uploads/2023/10/losultimosdeparamo.jpeg
ORGANIZER;CN="Cafebrer%C3%ADa ad Hoc":MAILTO:info@cafebreriaadhoc.com
END:VEVENT
BEGIN:VEVENT
DTSTART;TZID=Europe/Madrid:20231128T190000
DTEND;TZID=Europe/Madrid:20231128T210000
DTSTAMP:20260424T083356
CREATED:20231102T073256Z
LAST-MODIFIED:20231102T073258Z
UID:13878-1701198000-1701205200@cafebreriaadhoc.com
SUMMARY:Presentación del libro de relatos Nunca se sabe (Ed. Huerga y Fierro) de la escritora y editora catalana Mónica Monteys
DESCRIPTION:Junto a la autora\, nos acompañará en la presentación Mercedes Monmany\, escritora\, crítica literaria\, traductora y editora.\n\n\n\nSINOPSIS \n\n\n\nNunca se sabe. Si en Normandía la autora ya demostró su talento como escritora —«Mónica Monteys ha escrito un libro espléndido. El arte del mejor cuento a nuestro alcance» ( J. E. Ayala-Dip\, Babelia\, El País\, 12.12.2015 )—\, en Nunca se sabe no iba a ser menos. «Basta mirar por una rendija para ver una historia; cualquier trozo de vida es suficiente»\, dice la autora. El tedio del matrimonio\, trayectorias que se tuercen\, la mirada que va más allá de la evidencia\, la intervención del azar\, culpas\, rencores\, un giro abrupto del destino\, lo que pudo haberse dado y no se dio\, esa es la senda por la que transitan los personajes de Nunca se sabe. \n\n\n\nLas complejas e intrincadas relaciones humanas constituyen el eje que vertebra estos ochos relatos\, que son\, sin duda\, una muestra exquisita del arte del buen contar. \n\n\n\n«Mónica Moanteys\, escritora y fundadora de la ed. Gatopardo\, practica una auténtica narrativa local a través de cuentos de un humor severo que roza lo feroz»  (Nora Catelli) \n\n\n\n\n\n\n\n\n\n\n\n\n\n\n\n\n\n\n\n\n\n\nMónica Monteys\n\n\n\nMónica Monteys\, nacida en Barcelona\, es filóloga y editora. A lo largo de su carrera profesional ha trabajado para diversas editoriales. En 2015 creó Gatopardo ediciones\, de la que fue directora editorial hasta 2020\, empresa a la que sigue vinculada en calidad de editora. Actualmente realiza trabajos de edición para varias editoriales. \n\n\n\nEs autora del libro de poemas Los años olvidados (Lumen\, 1986) y del libro de relatos Normandía (Huerga y Fierro\, 2015). \n\n\n\n\n\n\n\n\n\n\n\n\n\n\n\n\n\n\n\n\n\n\n\n\n\n\n\n\n\n\n\n	\n		Comparte este evento\n		FacebookTwitterRedditLinkedInWhatsAppPinterestCorreo electrónico
URL:https://cafebreriaadhoc.com/evento/presentacion-del-libro-de-relatos-nunca-se-sabe-ed-huerga-y-fierro-de-la-escritora-y-editora-catalana-monica-monteys/
CATEGORIES:Novela,Presentación literaria
ATTACH;FMTTYPE=image/jpeg:https://cafebreriaadhoc.com/wp-content/uploads/2023/11/nunca-se-sabe.jpeg
ORGANIZER;CN="Cafebrer%C3%ADa ad Hoc":MAILTO:info@cafebreriaadhoc.com
END:VEVENT
END:VCALENDAR