BEGIN:VCALENDAR
VERSION:2.0
PRODID:-//Cafebrería ad Hoc - ECPv6.15.13.1//NONSGML v1.0//EN
CALSCALE:GREGORIAN
METHOD:PUBLISH
X-WR-CALNAME:Cafebrería ad Hoc
X-ORIGINAL-URL:https://cafebreriaadhoc.com
X-WR-CALDESC:Eventos para Cafebrería ad Hoc
REFRESH-INTERVAL;VALUE=DURATION:PT1H
X-Robots-Tag:noindex
X-PUBLISHED-TTL:PT1H
BEGIN:VTIMEZONE
TZID:Europe/Madrid
BEGIN:DAYLIGHT
TZOFFSETFROM:+0100
TZOFFSETTO:+0200
TZNAME:CEST
DTSTART:20220327T010000
END:DAYLIGHT
BEGIN:STANDARD
TZOFFSETFROM:+0200
TZOFFSETTO:+0100
TZNAME:CET
DTSTART:20221030T010000
END:STANDARD
BEGIN:DAYLIGHT
TZOFFSETFROM:+0100
TZOFFSETTO:+0200
TZNAME:CEST
DTSTART:20230326T010000
END:DAYLIGHT
BEGIN:STANDARD
TZOFFSETFROM:+0200
TZOFFSETTO:+0100
TZNAME:CET
DTSTART:20231029T010000
END:STANDARD
BEGIN:DAYLIGHT
TZOFFSETFROM:+0100
TZOFFSETTO:+0200
TZNAME:CEST
DTSTART:20240331T010000
END:DAYLIGHT
BEGIN:STANDARD
TZOFFSETFROM:+0200
TZOFFSETTO:+0100
TZNAME:CET
DTSTART:20241027T010000
END:STANDARD
END:VTIMEZONE
BEGIN:VEVENT
DTSTART;TZID=Europe/Madrid:20231201T190000
DTEND;TZID=Europe/Madrid:20231201T210000
DTSTAMP:20260424T064109
CREATED:20231121T091821Z
LAST-MODIFIED:20231122T091417Z
UID:13993-1701457200-1701464400@cafebreriaadhoc.com
SUMMARY:Presentación de Muchacha con mirlo en las manos (Ed. Torremozas)\, Premio Carmen Conde de Poesía 2023\, de Estefanía Cabello
DESCRIPTION:Acompañarán a la autora la poeta Ana Rossetti y Marta Porpetta\, editora de Torremozas.\n\n\n\nEn Madrid\, el 22 de mayo de 2023 un Jurado compuesto por María del Pilar Palomo\, Marta Porpetta y José Manuel Lucía Megías otorgó a este libro el XL Premio Carmen Conde de Poesía de Mujeres\, convocado por Ediciones Torremozas.\n\n\n\nSINOPSIS \n\n\n\nMe hablas de diferentes hombres \n\n\n\nque te rondaron\, tallas\, procedencias\, \n\n\n\ndiferentes defectos y virtudes\, \n\n\n\npeculiaridades\, formas de amar. \n\n\n\nQué alegría estar tocada por los dioses; \n\n\n\nyo siento que no valgo\, \n\n\n\nen algún punto de mi ser \n\n\n\nme preside una tara\, una revelación \n\n\n\nentre mi cuerpo y mi especie \n\n\n\n—qué alegría tu campo de batalla—. \n\n\n\nHubo un tiempo en que me presté \n\n\n\ndócil y entregada al manejo de las armas \n\n\n\nde las que ahora me platicas. \n\n\n\nSin excepción\, todas volvieron \n\n\n\nsu herida lacerante hacia mí. \n\n\n\nDiana cazadora amó demasiado siempre a Diana cazada. \n\n\n\n– \n\n\n\nEn diferentes momentos y espacios eso éramos: \n\n\n\nun reflejo oculto en la intemperie \n\n\n\nde un vasto invierno frente a nosotras. \n\n\n\nAguardábamos juntas. \n\n\n\nSería el instante de la cosecha\, pronto. \n\n\n\nAnte ambas\, demasiada extensión \n\n\n\npara el anhelo\, demasiada sed \n\n\n\npor sembrar azucenas pequeñas \n\n\n\nen manos de un cíclope y del tiempo. No haya prisa. \n\n\n\nSienta tus días y cántalos contigo; \n\n\n\ndespués vendrá la comprensión. \n\n\n\nNo nos torturará más allá \n\n\n\nvolver a amar la paradoja. \n\n\n\n\n\n\n\n\n\n\n\n\n\n\n\n\n\n\n\n\n\n\nArtur Ramón\n\n\n\nEstefanía Cabello (La Carlota\, Córdoba\, 1993)\, escritora y activista cultural. Actualmente realiza la tesis doctoral internacional en Literatura Española (U. Córdoba / U. de Exeter). Sus dos líneas de investigación son recepción de la tradición clásica en poesía contemporánea y redes de sociabilidad en mujeres escritoras del siglo XIX.  \n\n\n\n\n\nHa recibido el premio María Zambrano al mejor trabajo de investigación (2021) y en 2022 le otorgan la beca Yuste-Consejo de Europa\, que otorgan a diez investigadores europeos\, por la realización de su tesis doctoral. Ha trabajado en diferentes instituciones vinculadas al mundo de la cultura y de las letras. Aparece en numerosas revistas y antologías. \n\n\n\nHasta la fecha\, ha publicado los libros de poesía 13 segundos para escapar (Premio Gloria Fuertes Poesía\, Torremozas\, 2017); La teoría de los autómatas (Hiperión\, 2018); El cielo roto de Shanghái (Bartleby\, 2022) y el libro de cuentos Quienes llegaron (Cántico\, 2023). \n\n\n\n\n\n\n\n\n\n\n\n\n\n\n\n\n\n\n\n\n\n\n\n\n\n\n\n\n\n	\n		Comparte este evento\n		FacebookTwitterRedditLinkedInWhatsAppPinterestCorreo electrónico
URL:https://cafebreriaadhoc.com/evento/presentacion-de-muchacha-con-mirlo-en-las-manos-ed-torremozas-premio-carmen-conde-de-poesia-2023-de-estefania-cabello/
CATEGORIES:Novela,Presentación literaria
ATTACH;FMTTYPE=image/jpeg:https://cafebreriaadhoc.com/wp-content/uploads/2023/11/muchachaconmirloenlasmanos.jpg
ORGANIZER;CN="Cafebrer%C3%ADa ad Hoc":MAILTO:info@cafebreriaadhoc.com
END:VEVENT
BEGIN:VEVENT
DTSTART;TZID=Europe/Madrid:20231202T190000
DTEND;TZID=Europe/Madrid:20231202T210000
DTSTAMP:20260424T064109
CREATED:20231117T165739Z
LAST-MODIFIED:20231203T151605Z
UID:13959-1701543600-1701550800@cafebreriaadhoc.com
SUMMARY:Inauguración de la exposición colectiva Caminante son tus huellas (Del caminar como práctica artística)\, comisariada por Miguel Cereceda.
DESCRIPTION:Con la participación de: Hilario Álvarez\, Flavia Bernar\, Carma Casulá\, Alfredo Igualador\, Manuel Rufo y Ana Pérez Pereda.\n\n\n\nEl pasear y el caminar ha gozado desde antiguo de una excelente consideración filosófica. Sabemos que\, en la escuela de Aristóteles\, algunas de sus clases se impartían paseando alrededor de un patio\, por lo que sus adeptos fueron llamados “peripatéticos”. Frente al pensamiento sentado y asentado en una cátedra\, Nietzsche proclamó la dignidad del pensamiento caminado. «La carne del trasero —escribía en el § 34 de El crepúsculo de los ídolos— es cabalmente el pecado contra el espíritu santo. Sólo tienen valor los pensamientos caminados». Martin Heidegger\, por su parte\, identificó la práctica del pensar con la del caminar. Los títulos de algunos de sus libros\, como Holzwege (Caminos del bosque)\, Wegmarken (Hitos) o Unterwegs zur Sprache (En camino hacia el lenguaje)\, así parecen confirmarlo. «El pensar —afirmaba en la “Carta sobre el humanismo”— traza en el lenguaje surcos apenas visibles. Son aún más tenues que los surcos que el campesino\, con paso lento\, abre en el campo». Tal vez por eso decidió denominar sus obras como „Wege\, nicht Werke“ (caminos\, no obras). \n\n\n\nLa consideración del caminar como práctica artística es sin embargo más reciente. Tal vez fue Jean-Jacques Rousseau el primero en romantizar la práctica de los paseos\, en sus Ensoñaciones del paseante solitario (1776). Kaspar David Friedrich elevó esos paseos a la categoría de icono de la pintura romántica\, en su Caminante sobre el mar de nubes (1818)\, y Charles Baudelaire convirtió al paseante ocioso (flâneur) en emblema de la modernidad. \n\n\n\nEs posible que fuesen los Situacionistas los primeros en darle a sus paseos por la ciudad el sentido explícito de prácticas artísticas. Debord publicó su “Teoría de la deriva” en 1958 y allí insistió en que “el concepto de deriva está ligado indisolublemente al reconocimiento de efectos de naturaleza psicogeográfica y a la afirmación de un comportamiento lúdico-constructivo que la opone en todos los aspectos a las nociones clásicas de viaje y de paseo”. Pero\, a partir de su reivindicación del paseo como práctica estética\, empezaron a proliferar artistas que convirtieron el caminar en una obra de arte. Los más conocidos son Hamish Fulton\, Richard Long o Marina Abramovi \n\n\n\n\, pero muchos otros artistas han continuado esa senda. Maravillosas obras caminadas han hecho Francis Alÿs\, Janine Antoni o nuestro añorado Felipe Ehrenberg. \n\n\n\nTambién en España el caminar como práctica artística ha tenido ilustres precursores. Entre ellos\, Isidoro Valcárcel Medina\, con sus acciones en los Encuentros de Pamplona (1972) o Nacho Criado\, con su serie de “Rastreos y Recorridos” (1971-1973). Por su senda han continuado muchos otros artistas españoles a los que no resulta posible mencionar aquí. Sin embargo\, y a pesar de ello\, sí que queremos mencionar el trabajo de dos o tres artistas que nos han ayudado a trazar este camino. En concreto Rafa Lamata y Miguel Nava\, quienes\, entre 1996 y 2001 organizaron sucesivas revistas caminadas\, y el querido amigo Hilario Álvarez\, que continuó varios años con el testigo de las revistas caminadas\, a través de su Oficina de Ideas Libres\, y al que quisiéramos rendir con esta exposición un pequeño homenaje. \n\n\n\nDe hecho\, la mayor parte de los artistas participantes en esta exposición\, incluido su comisario\, estuvieron vinculados a un grupo de caminantes psicogeográficos al que Hilario Álvarez mismo bautizó como “Caminart”. Ese mismo grupo es el que ahora presenta en Cafebrería ad Hoc\, bajo un título machadiano\, algunas de sus meditaciones sobre el arte del caminar. \n\n\n\nCon motivo de la exposición organizaremos una una Conferencia sobre el arte del caminar el martes 12 de diciembre\, a cargo de Manuel Rufo\, una Mesa Redonda el martes 16 de enero de 2024 en la que intervendrán personajes relevantes tanto del mundo de la literatura como del arte y la filosofía; y una Revista Caminada el sábado 27 de de enero de 2024\, en torno a Cafebrería ad Hoc y el barrio de Argüelles\, en colaboración con Rafa Lamata y Miguel Nava. \n\n\n\n\n\n\n\n\n\n\n\n\n\n\n\n\n\n\n\n\nMiguel Cereceda.\n\n\n\nMiguel Cereceda (Santander\, 1958) es Profesor titular de Estética y Teoría de las Artes en el Departamento de Filosofía de la Universidad Autónoma de Madrid. Ha sido Catedrático de Filosofía de Bachillerato y profesor de Sociología del Arte en la Facultad de Bellas Artes de Cuenca de la Universidad de Castilla-La Mancha. Actualmente es miembro de la Junta Directiva del Círculo de Bellas Artes de Madrid\, crítico de arte en el diario ABC de Madrid y ha sido Profesor Invitado en el Departamento de Arte y Nuevos Medios de la Universidad de Potsdam (Alemania). \n\n\n\nHa publicado los siguientes libros: \n\n\n\nEl lenguaje y el deseo\, Julio Ollero Ed.\, Madrid\, 1992Kant: el uso teórico y el uso práctico de la razón\, Ed. Mare Nostrum\, Madrid\, 1992El origen de la mujer sujeto\, Tecnos\, Col. Metrópolis\, Madrid\, 1996.Hacia un nuevo clasicismo. Veinte años de escultura española\, Valencia\, 1999Desesculturas\, Fundación Eduardo Capa\, Alicante\, 2002El Barco del Arte\, Ministerio de Cultura\, Madrid- Bilbao\, 2005Problemas del arte contemporáne@\, Cendeac\, Murcia\, 2006 \n\n\n\n\n\n\n\n\n\n\n\n\n\n\n\n\n\n\n\n\n\n\n\n\n\n\n\n\n	\n		Comparte este evento\n		FacebookTwitterRedditLinkedInWhatsAppPinterestCorreo electrónico
URL:https://cafebreriaadhoc.com/evento/inauguracion-de-la-exposicion-colectiva-caminante-son-tus-huellas-del-caminar-como-practica-artistica-comisariada-por-miguel-cereceda/
CATEGORIES:Inauguración
ATTACH;FMTTYPE=image/jpeg:https://cafebreriaadhoc.com/wp-content/uploads/2023/11/CAMINAR.jpeg
ORGANIZER;CN="Cafebrer%C3%ADa ad Hoc":MAILTO:info@cafebreriaadhoc.com
END:VEVENT
BEGIN:VEVENT
DTSTART;TZID=Europe/Madrid:20231212T190000
DTEND;TZID=Europe/Madrid:20231212T210000
DTSTAMP:20260424T064109
CREATED:20231122T093530Z
LAST-MODIFIED:20231122T093531Z
UID:14007-1702407600-1702414800@cafebreriaadhoc.com
SUMMARY:Conferencia Caminar\, una herramienta de creación artística\, por Manuel Rufo.
DESCRIPTION:Un paseo por las prácticas artísticas que utilizan el caminar en la construcción de sus obras\n\n\n\nUna línea caminada\, a diferencia de una línea dibujada\, nunca se puede borrar \n\n\n\nHamish Fulto \n\n\n\nSINOPSIS \n\n\n\nCaminar en apariencia es algo simplemente funcional\, una manera de  desplazarse entre dos sitios que no aparenta tener mayor importancia\, pero mientras se camina no solo se esta moviendo el cuerpo\, también la mente lo hace proporcionando posibilidades de conexión con el pensamiento\, y a través de él\, con una gran cantidad de comportamientos y disciplinas\, siendo ésta una de las razones por la que la historia del pensamiento está fuertemente asociada a la historia del caminar y puede considerarse como un motor de producción de una ingente cantidad de obras dentro del territorio de la literatura\, la filosofía o la poesía. \n\n\n\nSi bien han sido estas disciplinas en las que históricamente la experiencia de caminar ha tenido una mayor presencia y repercusión\, también desde los primeros años del siglo xx el mundo del arte ha buscado en ella un soporte con el que desarrollar un lenguaje estético alejado de las prácticas objetuales que siempre han estado presentes en el mundo del arte. \n\n\n\nYa los primeros dadaístas y surrealistas intentaron darle al hecho de caminar una consideración artística. También situacionistas\, conceptuales\, minimalistas o artistas de land art\, han explorado las posibilidades expresivas que tiene la experiencia de caminar. Unos se han centrados en el entorno urbano incorporando a su discurso un territorio que tradicionalmente había pertenecido a la arquitectura o al urbanismo\, territorios a los que se han ido añadiendo nuevas herramientas para la creación artística como la deriva o la psicogeografía. Otros por el contrario\, centran su actividad en la relación con el espacio natural atravesándolo y transformándolo\, en algunos casos de manera física\, con intervenciones objetuales sobre el territorio mas o menos permanentes\, o bien de manera simbólica\, entendiendo que caminar como arte implica un factor de desmaterialización y negación del objeto artístico que queda superado por la experiencia corporal del caminar\, en la que solo el cuerpo\, se involucra con el espacio y permanece atento a no dejar ningún tipo de huella sobre el territorio más allá de sus pasos. \n\n\n\n\n\n\n\n\n\n\n\n\n\n\n\n\n\n\n\n\n\n\nManuel Rufo.\n\n\n\nCon más de 30 años activo en el panorama artístico internacional\, sus obras han estado expuestas en numerosas galerías y ha participado en prestigiosas ferias internacionales de arte en Madrid\, Colonia\, Chicago\, Los Ángeles\, Miami y Caracas. \n\n\n\n\n\nEntre los premios que ha obtenido se encuentran el Villa de Madrid de Fotografía\, el Premio Lóreal de Pintura y el Premio de Creación Artística de la Comunidad de Madrid.  \n\n\n\nParte de la obra física de Manuel Rufo se encuentra en diversas colecciones de instituciones públicas y privadas\, como\, por ejemplo: Eli Broad Art Fundation de Los Ángeles\, Museo Artium de Vitoria\,  CAB de Burgos o Universidad de Salamanca\, entre otras. \n\n\n\nA su vez\, sus intervenciones realizadas en espacios públicos han podido ser disfrutadas en exclusiva por los habitantes y visitantes de ciudades como Madrid\, Alcorcón\, Arganda\, Toledo y Segovia.  \n\n\n\n\n\n\n\n\n\n\n\n\n\n\n\n\n\n\n\n\n\n\n\n\n\n\n\n\n	\n		Comparte este evento\n		FacebookTwitterRedditLinkedInWhatsAppPinterestCorreo electrónico
URL:https://cafebreriaadhoc.com/evento/conferencia-caminar-una-herramienta-de-creacion-artistica-por-manuel-rufo/
CATEGORIES:Charla-coloquio
ATTACH;FMTTYPE=image/jpeg:https://cafebreriaadhoc.com/wp-content/uploads/2023/11/caminar-portada.jpeg
ORGANIZER;CN="Cafebrer%C3%ADa ad Hoc":MAILTO:info@cafebreriaadhoc.com
END:VEVENT
BEGIN:VEVENT
DTSTART;TZID=Europe/Madrid:20231214T190000
DTEND;TZID=Europe/Madrid:20231214T210000
DTSTAMP:20260424T064109
CREATED:20231122T094311Z
LAST-MODIFIED:20231122T094312Z
UID:14011-1702580400-1702587600@cafebreriaadhoc.com
SUMMARY:Presentación de La afonía del invierno (Ed. Libros del aire)\, de Mónica Fernández Casado.
DESCRIPTION:Acompañarán a la autora los poetas Luis Luna y Miguel Ángel Feria.\n\n\n\nSINOPSIS \n\n\n\nCasi una década después de la muerte de su madre\, la poeta le dedica este libro. Dividido en tres partes\, las dos primeras reflejan el tránsito del duelo a través de los paisajes naturales del espino y el mar\, donde «yacen» las cenizas. La Naturaleza\, símbolo y espejo de la interioridad del sujeto lírico\, torna en la tercera parte hacia la ciudad. Y es en esta tercera parte\, la más extensa\, donde la voz poética alcanza el grado máximo de intimidad\, con un diálogo yo-tu (hija-madre) en una reconstrucción —y consagración— del vínculo materno. \n\n\n\n\n\n\n\n\n\n\n\n\n\n\n\n\n\n\n\n\n\n\nMónica Fernández.\n\n\n\nMónica Fernández es Licenciada en Derecho por la Universidad Carlos III\, y Experto en RRHH por la UNED. Actualmente trabaja en la Administración de Justicia. \n\n\n\nComo escritora se ha formado en la Escuela de Escritores en los Talleres de Relato y Poesía y ha cursado el Máster de Poesía (II Promoción\, 2022). \n\n\n\n \n\n\n\n\n\nAlgunos de sus poemas y relatos están recogidos en libros antológicos colectivos y revistas literarias digitales. Ha publicado en la Revista Taller Igitur la reseña sobre La marcha de los 150.000.000 de Enrique Falcón. Ha publicado los libros Lo traslúcido (Torremozas\, 2019); La apatía de los dioses (Torremozas\, 2020); La afonía del invierno (Libros del aire\, 2023). \n\n\n\n \n\n\n\n\n\n\n\n\n\n\n\n\n\n\n\n\n\n\n\n\n\n\n\n\n\n\n\n\n\n	\n		Comparte este evento\n		FacebookTwitterRedditLinkedInWhatsAppPinterestCorreo electrónico
URL:https://cafebreriaadhoc.com/evento/presentacion-de-la-afonia-del-invierno-ed-libros-del-aire-de-monica-fernandez-casado/
CATEGORIES:Novela,Presentación literaria
ATTACH;FMTTYPE=image/jpeg:https://cafebreriaadhoc.com/wp-content/uploads/2023/11/afonia-del-invierno.jpeg
ORGANIZER;CN="Cafebrer%C3%ADa ad Hoc":MAILTO:info@cafebreriaadhoc.com
END:VEVENT
BEGIN:VEVENT
DTSTART;TZID=Europe/Madrid:20231216T120000
DTEND;TZID=Europe/Madrid:20231216T140000
DTSTAMP:20260424T064109
CREATED:20231122T092548Z
LAST-MODIFIED:20231122T092600Z
UID:14002-1702728000-1702735200@cafebreriaadhoc.com
SUMMARY:Presentación del libro Especie (Ed. Bartleby) de Pilar Fraile
DESCRIPTION:Intervendrán Manuel Rico\, director de la colección Bartleby Poesía\, Rosana Acquaroni y la autora.\n\n\n\nSINOPSIS \n\n\n\nPilar Fraile ahonda en Especie\, su último libro de poesía\, en la relación entre individuo y comunidad\, uno de los temas que aborda de manera recurrente en su obra. El lenguaje se abre en canal\, se desmiembra y recompone hasta llegar a su núcleo embrionario. Piezas líricas\, fragmentos ensayísticos\, retazos de memoria o registros históricos conforman una suerte de palimpsesto donde lo que fuimos\, lo que somos\, y\, sobre todo\, lo que creemos ser\, se superpone y choca entre sí. Especie excava en la herencia biológica e histórica hasta dar con esquirlas de nuestra identidad colectiva que habían sido interesadamente sepultadas\, astillas que no solo sirven para reescribir nuestro relato común\, sino que podrían resultar eficaces herramientas para combatir el individualismo feroz que corroe a la sociedad en la que nos ha tocado vivir. \n\n\n\n\n\n\n\n\n\n\n\n\n\n\n\n\n\n\n\n\n\n\nPilar Fraile Amador\n\n\n\nPilar Fraile Amador (Salamanca\, 1975) es doctora en Teoría de la Literatura y autora de las novelas Días de euforia (Alianza Editorial\, 2020)\, Premio de la Crítica de Castilla y León\, y Las ventajas de la vida en el campo (Caballo de Troya\, 2018) \n\n\n\n\n\nAsimismo ha publicado el libro de relatos Los nuevos pobladores (Traspiés\, 2014)\, un ensayo sobre escritura creativa\, Materiales para la ficción\, de Poe a Foster Wallace (Editorial Grupo 5\, 2018) y los poemarios El límite de la ceniza (Prensas Universitarias de Zaragoza\, 2006)\, La pecera subterránea (Amargord\, 2010)\, Larva seguido de Cerca (Amargord\, 2012) y Falta (Amargord\, 2015). Por Especie recibió en 2022 una Beca de Creación Literaria del Ministerio de Cultura y Deporte. Buena parte de su obra ha sido traducida a varios idiomas\, entre ellos\, el inglés\, el portugués\, el noruego o el gallego. Desde 2019 colabora con el diario El País en la sección de opinión.  \n\n\n\n\n\n\n\n\n\n\n\n\n\n\n\n\n\n\n\n\n\n\n\n\n\n\n\n\n\n	\n		Comparte este evento\n		FacebookTwitterRedditLinkedInWhatsAppPinterestCorreo electrónico
URL:https://cafebreriaadhoc.com/evento/presentacion-del-libro-especie-ed-bartleby-de-pilar-fraile/
CATEGORIES:Novela,Presentación literaria
ATTACH;FMTTYPE=image/jpeg:https://cafebreriaadhoc.com/wp-content/uploads/2023/11/poesia-especie.jpeg
ORGANIZER;CN="Cafebrer%C3%ADa ad Hoc":MAILTO:info@cafebreriaadhoc.com
END:VEVENT
BEGIN:VEVENT
DTSTART;TZID=Europe/Madrid:20231220T190000
DTEND;TZID=Europe/Madrid:20231220T210000
DTSTAMP:20260424T064109
CREATED:20231122T162317Z
LAST-MODIFIED:20231203T151710Z
UID:14016-1703098800-1703106000@cafebreriaadhoc.com
SUMMARY:Taller abierto de lectura en torno al libro de relatos Plegaria para pirómanos (Ed. Páginas de Espuma)\, de Eloy Tizón
DESCRIPTION:Contaremos con la presencia del autor y junto a él moderará el acto la escritora Lorena Briedis.\n\n\n\nSINOPSIS \n\n\n\nLeer a Eloy Tizón es adentrarse en el mejor cuento español contemporáneo por la puerta grande. Con esta premisa\, Plegaria para pirómanos conjuga como ningún otro libro del autor el hallazgo y la epifanía de su estilo único e inconfundible con la ruptura de lo establecido en el género y la indagación de otros principios. Nueve cuentos entrelazados por los destellos breves\, por las ausencias perennes\, por el afán cotidiano\, por la búsqueda creativa\, por la evidencia de la vida. \n\n\n\nDe Eloy Tizón se ha escrito: «Un talento en verdad infrecuente»\, Ignacio Echevarría\, El País; «Hay un inequívoco centro de gravedad lírico (…) desde el que se explica su economía estilística\, su sutileza verbal\, el ritmo de una prosa cargada de notas sensoriales»\, Jordi Gracía y Domingo Ródenas\, Historia de la literatura española; «Cuenta con maestría\, con sobriedad ejemplar\, incluso con modélico laconismo\, y con prosa inventiva (…); es dueño siempre de la narración»\, Miguel García-Posada\, ABC. \n\n\n\n\n\n\n\n\n\n\n\n\n\n\n\n\n\n\n\n\n\n\nEloy Tizón\n\n\n\nEloy Tizón (Madrid\, 1964) es autor de tres libros de cuentos: Técnicas de iluminación (2013)\, Parpadeos (2006) y Velocidad de los jardines (1992 y 2017); de tres novelas: La voz cantante (2004)\, Labia (2001) y Seda salvaje (1995); y del ensayo literario Herido leve. Treinta años de memoria lectora (2019). \n\n\n\n\n\nHa sido incluido entre los mejores narradores europeos en la antología Best European Fiction 2013\, prologada por John Banville. Sus obras forman parte de numerosas antologías y han sido traducidas a diversos idiomas. Colaborador asiduo en medios de comunicación desde joven\, durante cuatro años mantuvo en El Cultural la columna Vértigos. \n\n\n\nHa impartido talleres de narrativa breve en Hotel Kafka y en la universidad de Almería (UAL). Ha dirigido el I Festival del cuento literario en España\, celebrado en la localidad toledana de Torrijos y bautizado como TorrijosCuenta. \n\n\n\n\n\n\n\n\n\n\n\n\n\n\n\n\n\n\n\n\n\n\n\n\n\n\n\n\n\n	\n		Comparte este evento\n		FacebookTwitterRedditLinkedInWhatsAppPinterestCorreo electrónico
URL:https://cafebreriaadhoc.com/evento/taller-abierto-de-lectura-en-torno-al-libro-de-relatos-plegaria-para-piromanos-ed-paginas-de-espuma-de-eloy-tizon/
CATEGORIES:Novela,Presentación literaria
ATTACH;FMTTYPE=image/jpeg:https://cafebreriaadhoc.com/wp-content/uploads/2023/11/plegariaparapiromanos.jpg
ORGANIZER;CN="Cafebrer%C3%ADa ad Hoc":MAILTO:info@cafebreriaadhoc.com
END:VEVENT
END:VCALENDAR