BEGIN:VCALENDAR
VERSION:2.0
PRODID:-//Cafebrería ad Hoc - ECPv6.15.13.1//NONSGML v1.0//EN
CALSCALE:GREGORIAN
METHOD:PUBLISH
X-WR-CALNAME:Cafebrería ad Hoc
X-ORIGINAL-URL:https://cafebreriaadhoc.com
X-WR-CALDESC:Eventos para Cafebrería ad Hoc
REFRESH-INTERVAL;VALUE=DURATION:PT1H
X-Robots-Tag:noindex
X-PUBLISHED-TTL:PT1H
BEGIN:VTIMEZONE
TZID:Europe/Madrid
BEGIN:DAYLIGHT
TZOFFSETFROM:+0100
TZOFFSETTO:+0200
TZNAME:CEST
DTSTART:20230326T010000
END:DAYLIGHT
BEGIN:STANDARD
TZOFFSETFROM:+0200
TZOFFSETTO:+0100
TZNAME:CET
DTSTART:20231029T010000
END:STANDARD
BEGIN:DAYLIGHT
TZOFFSETFROM:+0100
TZOFFSETTO:+0200
TZNAME:CEST
DTSTART:20240331T010000
END:DAYLIGHT
BEGIN:STANDARD
TZOFFSETFROM:+0200
TZOFFSETTO:+0100
TZNAME:CET
DTSTART:20241027T010000
END:STANDARD
BEGIN:DAYLIGHT
TZOFFSETFROM:+0100
TZOFFSETTO:+0200
TZNAME:CEST
DTSTART:20250330T010000
END:DAYLIGHT
BEGIN:STANDARD
TZOFFSETFROM:+0200
TZOFFSETTO:+0100
TZNAME:CET
DTSTART:20251026T010000
END:STANDARD
END:VTIMEZONE
BEGIN:VEVENT
DTSTART;TZID=Europe/Madrid:20240116T190000
DTEND;TZID=Europe/Madrid:20240116T210000
DTSTAMP:20260424T045659
CREATED:20240103T113401Z
LAST-MODIFIED:20240103T113602Z
UID:14062-1705431600-1705438800@cafebreriaadhoc.com
SUMMARY:Mesa Redonda Sobre el caminar en el arte\, en la literatura y en la filosofía.
DESCRIPTION:El caminar\, ya sea en el campo o la playa\, ya sea a modo del flâneur que se pierde por las calles en busca del hallazgo o bien se trate de una práctica habitual de quien se plantea una caminata con destino fijo\, ha estado siempre  vinculado a la práctica artística\, literaria y filosófica. Muchos son los autores y los artistas que han dedicado gran parte de su obra a esta práctica como una forma de ser y estar en el mundo. Bien como elemento inspirador en sí mismo\, como divagación iluminadora o como un desvío de preocupaciones cotidianas\, ese dejar que el cuerpo sea “quien mande”\, que un pie vaya tras el otro y esperar a que el suceso\, sea cuál sea\, se nos presente. De eso mismo hablaremos en esta Mesa Redonda: de los pies y las ideas\, de la reflexión –luces y sombras– que sobrevienen a ese simple hecho que es el caminar.  \n\n\n\nParticipan en la mesa: Miguel Cereceda\, crítico de arte\, Profesor titular de Estética y Teoría de las Artes del Departamento de Filosofía de la Universidad Autónoma de Madrid y comisario de la exposición  Caminante son tus huellas inaugurada recientemente en Cafebrería ad Hoc; José Tono Martínez\, escritor\, ensayista y gestor cultural español y el filólogo y escritor Víctor Colden. \n\n\n\n \n\n\n\n\n\n\n\n\n\n\n\n\n\n\n\n\n\n\n\n\n\n\nJosé Tono Martínez\n\n\n\nEscritor\, ensayista y gestor cultural español.  Entre marzo de 2012 y diciembre de 2015 fue director del CentroCentro de Madrid. Además\, también\, en ese tiempo\, dirigió el Fernán Gómez Centro Cultural de la Villa\, de Madrid. \n\n\n\n\n\nAnteriomente\, fue director entre 1985 y 1987 de la mítica revista La Luna de Madrid\, director de Relaciones Institucionales e Informativas de la SEEI (Sociedad Estatal para Exposiciones Internacionales) y director de la Fundación Arquitectura y Sociedad\, impulsada por el arquitecto navarro Patxi Mangado y presentada al público el pasado 21 de junio en Pamplona.  Licenciado en Sociología y Antropología por la Universidad Complutense de Madrid (1982) y doctor en Filosofía con la tesis La condición postrimera. (Hacia una delimitación del ser contemporáneo) -Premio Extraordinario en 1998 (Universidad Autónoma de Madrid)-\, José Tono Martínez tiene una dilatada experiencia como escritor\, ensayista\, gestor y agitador cultural. Como escritor ha publicado libros de relatos\, poesía\, novela y ensayos\, entre los que destacan Una fatal pérdida de tiempo\, El Club de la Infamia\, Cantigas de Andar\, De los años próximos\, y La venganza del gallego\, La doma del elefante. Entre 1997 y 2001 dirigió en Buenos Aires el mítico ICI\, Centro Cultural de España\, cuya gestión fue reconocida en el año 2000 con el Premio Velázquez\, que concede el Museo Nacional de Bellas Artes de Buenos Aires. En la capital argentina dirigió también la revista mensual Barbaria. Como periodista\, en los ochenta fue primero redactor-jefe y luego director (1985-1987) de la revista posmoderna La Luna de Madrid. Ha colaborado además en numerosos medios de prensa\, como El País y ABC\, y en revistas culturales españolas y extranjeras. En la actualidad\, sigue ejerciendo como articulista en las publicaciones Revista de Occidente y Claves de Razón Práctica. Como compilador\, publicó La polémica de la posmodernidad\, Observatorio Siglo XXI\, y El Orientalismo al Revés\, Homenaje a Edward Said. Entre otras actividades\, fue profesor de Filosofía Norteamericana Contemporánea\, ha comisariado exposiciones de arte\, impartido numerosas conferencias y ha sido además miembro de jurados de premios literarios y artísticos. Tono Martínez residió varios años en Washington D.C. (1987-1994)\, donde dirigió la revista Encounters y ejerció como Asesor Ejecutivo de Programas de la Fundación Spain 92. Entre 2001 y 2006 dirigió la editorial de facsímiles y libros de arte Old Book Factory y el Foro Observatorio Tánger-Tarifa\, plataforma de encuentros de intelectuales españoles y marroquíes\,www.fott.es y asesoró y representó en España a la Editorial Adriana Hidalgo\, de Argentina. La SEEI\, sociedad estatal en la que se desempeñó hasta el  30 de septiembre\, es la entidad que ha construido el Pabellón de España en Zaragoza 2008 y la que prepara la participación de España para Shanghái 2010. \n\n\n\n\n\nMiguel Cereceda\n\n\n\nNacido en Santander en 1958. Crítico de arte y comisario de exposiciones. A final de 2012 fue elegido presidente delInstituto del Arte Contemporáneo (IAC)\, un puesto que abandonó a mediados de febrero de 2014 tras presentar su dimisión. \n\n\n\n\n\n\n\n\n\n\n\nProfesor titular de Estética y Teoría de las Artes del Departamento de Filosofía de la Universidad Autónoma de Madrid. Ha sido Catedrático de Filosofía de Bachillerato y profesor de Sociología del Arte en la Facultad de Bellas Artes de Cuenca de la Universidad de Castilla-La Mancha. Ha comisariado las siguientes exposiciones\, para las cuales ha publicado en sus respectivos catálogos: El juego con la muerte\, Madrid (1994); Cirugía anestésica\, Madrid (1995); Jugar a ver\, Madrid (1995); Charcutería\, Madrid (1996); Hacia una nueva sensibilidad\, Amsterdam (1996); El intercambio simbólico y la muerte\, Madrid (1997); Hacia un nuevo clasicismo. Veinte años de escultura española Madrid\, Alicante y Palma de Mallorca (1999)\, Valencia (1999); Gustavo López Armentia\, Valencia (2000); Hilario Bravo. Las cuentas de Caronte\, Madrid\, Lisboa y Badajoz (2001); Antón Patiño. Horizonte vertical. Pinturas 1987-2001\, Madrid (2002); Desesculturas\, Madrid y Alicante (2002); Vicente Peris. Suite Venecia\, Valencia y Madrid (2003)\, Alicante (2004); El Barco del Arte\, Bilbao (2005); Manolo Quejido\, Pintura en acción\, Sevilla (2006). De entre ellas cabe destacar especialmente las exposiciones Hacia un nuevo clasicismo. Veinte años de escultura española (con obras de los escultores españoles más importantes de los años ochenta) y Desesculturas (con obras de una selección de escultores españoles de los años noventa). \n\n\n\n\n\n\n\n\n\n\n\nVíctor Colden\n\n\n\nNací en Madrid en 1967. Tras licenciarme en Filología Románica empecé una dizque fulgurante carrera profesional en el mundo de las bibliotecas\, la edición y los derechos de autor. \n\n\n\n\n\nEntre mis pecados de juventud se cuentan varias traducciones del inglés y el italiano\, incluyendo la de una selección de poemas de Vincenzo Cardarelli. Mucho más tarde\, del 2001 al 2005\, y bajo peculiar seudónimo\, difundí en mi Cuaderno de lengua una cincuentena de «crónicas personales del idioma español». La editorial jerezana Libros Canto y Cuento\, que dirige el escritor José Mateos\, tuvo la osadía —¿la insensatez?— de publicar en 2019 mi novela Inventario del paraíso y en 2020 una colección de prosas literarias titulada Gazeta de la melancolía. Insistí\, persistí\, me obcequé: Veinticinco de hace veinticinco\, breve relato autobiográfico\, apareció en Newcastle Ediciones en 2021\, y un año después\, en Pre-Textos\, mi novela Tu sonrisa sin temblar\, que cuenta una historia de amor adolescente en el Madrid de la Movida y los atentados de ETA. En octubre de 2023 la editorial Abada ha publicado mi quinto libro (ya hay quien dice que son demasiados…). Se titula Mañana me voy y es el diario de una marcha a pie de seis días por el norte de la provincia de Soria. \n\n\n\n\n\n\n\n\n\n\n\n\n\n\n\n\n\n\n\n\n\n\n\n\n\n\n\n\n	\n		Comparte este evento\n		FacebookTwitterRedditLinkedInWhatsAppPinterestCorreo electrónico
URL:https://cafebreriaadhoc.com/evento/mesa-redonda-sobre-el-caminar-en-el-arte-en-la-literatura-y-en-la-filosofia/
CATEGORIES:Charla-coloquio
ATTACH;FMTTYPE=image/jpeg:https://cafebreriaadhoc.com/wp-content/uploads/2024/01/Mesa-redonda_caminar.jpg
END:VEVENT
BEGIN:VEVENT
DTSTART;TZID=Europe/Madrid:20240118T190000
DTEND;TZID=Europe/Madrid:20240118T210000
DTSTAMP:20260424T045659
CREATED:20231106T074132Z
LAST-MODIFIED:20231121T091259Z
UID:13884-1705604400-1705611600@cafebreriaadhoc.com
SUMMARY:Presentación de Aún aprendo (Ed. Elba)\, de Artur Ramón.
DESCRIPTION:El autor conversará con Alejandro Martínez\, doctor en Historia del Arte\, galerista y editor.\n\n\n\nSINOPSIS \n\n\n\nAún aprendo \n\n\n\nQuince episodios sobre dibujo \n\n\n\nEl dibujo nace con la mano\, es ésta la que conecta los ojos con el carbón\, el lápiz o la pluma\, el muro o el papel: la mano es el instrumento de creación; sin manos es imposible dibujar. Lo advierte Henri Focillon en su ensayo Elogio de la mano: «Lo que distingue el sueño de la realidad es que el hombre que sueña no puede engendrar un arte: sus manos duermen». El dibujo es una de las actividades humanas más básicas pero que\, al igual que el descubrimiento del fuego o la invención de la rueda\, revolucionó la historia de la humanidad: en el dibujo es donde la idea encuentra su concreción. Para el artista el dibujo es su forma de expresión más íntima y espontánea\, la que no está sujeta a un encargo ni tiene aún en mente la mirada del espectador. Es\, según Artur Ramon\, allí donde se funden el azar y el don. \n\n\n\nEn este volumen\, un viaje desde las cuevas de Altamira hasta el despliegue de las imágenes realizadas en arcilla por Miquel Barceló en los pasillos de la Biblioteca Nacional de París\, nos invita a recorrer los entresijos de este gran arte menor; el que reduce la idea del creador a lo fundamental y constituye la prueba irrefutable de su calidad como artista. \n\n\n\n«Aún aprendo»\, reza la inscripción en uno de los últimos dibujos de Goya\, en el que un anciano anda con gran dificultad apoyado en dos bastones; «Ancora imparo»\, responde un octogenario Miguel Ángel a alguien que se le acerca para elogiar sus trabajos en la Capilla Sixtina. Una lección reveladora que en los albores de un siglo incierto nos recuerda la importancia de cultivar la mirada como forma de aprendizaje. \n\n\n\n\n\n\n\n\n\n\n\n\n\n\n\n\n\n\n\n\n\n\nArtur Ramón\n\n\n\n(Barcelona\, 1967) es anticuario e historiador del arte\, cuarta generación de una conocida saga de anticuarios. Licenciado en Historia del Arte por la Universidad de Barcelona\, cursa estudios en Londres y París y realiza el viaje a Italia. \n\n\n\n\n\nEs director general de la galería Artur Ramon Art y especialista en pintura y dibujo antiguo. Participa en las mejores ferias de arte del mundo: tefaf Maastricht\, Frieze Masters en Londres y el Salon du Dessin en París. Ha publicado Nada es bello sin el azar (2012)\, Museu Nacional d’Art de Catalunya: un itinerario (2015) y Falsas sirenas son (2016)\, entre otros libros\, y ha prologado y editado las primeras traducciones de Piero della Francesca y Caravaggio de Roberto Longhi\, ambos publicados en esta editorial. Habitual divulgador de temas relacionados con el arte en medios de comunicación\, especialmente radio y televisión\, es académico de la Reial Acadèmia de Ciencies i Arts de Barcelona y forma parte de la Comisión Artística de la Sagrada Familia desde 2020. \n\n\n\n\n\n\n\n\n\n\n\n\n\n\n\n\n\n\n\n\n\n\n\n\n\n\n\n\n\n	\n		Comparte este evento\n		FacebookTwitterRedditLinkedInWhatsAppPinterestCorreo electrónico
URL:https://cafebreriaadhoc.com/evento/presentacion-de-aun-aprendo-ed-elba-de-artur-ramon/
CATEGORIES:Novela,Presentación literaria
ATTACH;FMTTYPE=image/jpeg:https://cafebreriaadhoc.com/wp-content/uploads/2023/11/portada-aun-aprendo.jpg
ORGANIZER;CN="Cafebrer%C3%ADa ad Hoc":MAILTO:info@cafebreriaadhoc.com
END:VEVENT
BEGIN:VEVENT
DTSTART;TZID=Europe/Madrid:20240119T190000
DTEND;TZID=Europe/Madrid:20240119T200000
DTSTAMP:20260424T045659
CREATED:20240103T114848Z
LAST-MODIFIED:20240108T094008Z
UID:14072-1705690800-1705694400@cafebreriaadhoc.com
SUMMARY:Presentación de Libro del Lejano Occidente (Ed. Alud)\, de Taīka Kensaku\, versión bilingüe de Nacho Vázquez Moliní.
DESCRIPTION:La presentación correrá a cargo de los poetas Francisco Castañón y Luis Marina.\n\n\n\nEl haiku representa la más profunda y certera expresión de la poesía japonesa. Entre los muchos autores\, tanto en Japón como en Occidente\, que han cultivado esta milenaria forma poética\, destaca la figura mítica de Taīka Kensaku (siglo XVII)\, cuyo recuerdo se asocia a la contemplación del paisaje y a la búsqueda de la quietud más completa. El redescubrimiento casual tras la Segunda Guerra Mundial de una parte importante de su obra más celebrada\, Libro del Lejano Occidente\, supuso en su día todo un acontecimiento. Se trataba de nada más y menos que de ciento y un haikus que\, unidos a ese otro incompleto y enigmático –Clavo ardiente/ Mis ansias en las tuyas– que se conocía hasta entonces\, y que todos los escolares japoneses desde siempre saben de memoria\, nos permitieron adentrarnos por la senda de la poética irrepetible de Kensaku. Hoy por primera vez\, los lectores en español pueden disfrutar de tan celebrados versos gracias a la versión bilingüe de Ignacio Vázquez Moliní. \n\n\n\n\n\n\n\n\n\n\n\n\n\n\n\n\n\n\n\n\n\n\nIgnacio Vázquez Moliní\n\n\n\nIgnacio Vázquez Moliní (1963) es abogad y doctor en Filología Hispánica. Completó su formación en las Universidades de Túnez\, Malta y Beirut. Tras largos años en Bruselas\, hoy divide felizmente su tiempo entre Almonaster la Real y Lisboa \n\n\n\n\n\nFundador del Círculo Cultural Faroni y experto en hiperbrevedades\, ha publicado en la colección Andanzas de Tusquets: Quince líneas (1996) y Galería de hiperbreves (2001). Es coautor de las guías noveladas Lisboas (2008)\, Elogio de Bruselas (2012) y Una mirada al siglo XX (2015). Ha ganado varios concursos literarios: Adam Smith\, de ensayo; Barcelona Pipa Club\, de cuento; Amapamu\, de narrativa; Divers\, News & Books\, de literatura de viajes. Es también autor de un poemario En los pliegues del olvido (2017)\, de un irrepetible libro de viajes\, Periplo alfabético de un fumador de pipa (2018)\, y del libro de artículos sobre actualidad y literatura La mirada tranquila (2018). El jurado del VIII Premio de Novela Onuba (2012) concedió la Mención de Honor a su obra\, La embajada roja en Lisboa (2013)\, publicada también en portugués con el título A embaixada vermelha em Lisboa (2016). A principios de 2024 publicará El señor de Savarín\, un nuevo libro heterodoxo de difícil catalogación. Con la publicación de la versión bilingüe del Libro del lejano Occidente\, (2023)\, descubre a los lectores españoles los célebres haikus de Taīka Kensaku.    \n\n\n\n\n\n\n\n\n\n\n\n\n\n\n\n\n\n\n\n\n\n\n\n\n\n\n\n\n\n	\n		Comparte este evento\n		FacebookTwitterRedditLinkedInWhatsAppPinterestCorreo electrónico
URL:https://cafebreriaadhoc.com/evento/presentacion-de-libro-del-lejano-occidente-ed-alud-de-taika-kensaku-version-bilingue-de-nacho-vazquez-molini/
CATEGORIES:Novela,Presentación literaria
ATTACH;FMTTYPE=image/png:https://cafebreriaadhoc.com/wp-content/uploads/2024/01/Portada-13-Libro-del-Lejano-Occidente-Taika-Kensaku.png
ORGANIZER;CN="Cafebrer%C3%ADa ad Hoc":MAILTO:info@cafebreriaadhoc.com
END:VEVENT
BEGIN:VEVENT
DTSTART;TZID=Europe/Madrid:20240120T120000
DTEND;TZID=Europe/Madrid:20240120T140000
DTSTAMP:20260424T045659
CREATED:20240103T120424Z
LAST-MODIFIED:20240117T073437Z
UID:14078-1705752000-1705759200@cafebreriaadhoc.com
SUMMARY:Presentación de Bonito reverso (Postdata ediciones)\, de Sonia Vázquez Santiago.
DESCRIPTION:Presentará el libro Arancha Morales Menezes.\n\n\n\nSINOPSIS \n\n\n\nDesde pequeños nos enseñan a mirar el anverso del mundo\, un lugar donde sólo cuenta ser el mejor\, obtener el éxito cueste lo que cueste. Contaminados por una competitividad asfixiante\, donde lo diferente es señalado y despreciado. Nadie nos enseña la belleza del otro lado\, lo bonito del reverso\, los que nadie ve. Ojalá te atrevas a buscarlo\, a encontrarnos en él \n\n\n\n\n\n\n\n\n\n\n\n\n\n\n\n\n\n\n\n\n\n\nSonia Vázquez\n\n\n\nSonia Vázquez nació en Madrid\, donde se graduó en Medicina. Médica por vocación\, escritora por pasión.  \n\n\n\nDesde pequeña era una gran lectora\, durante su etapa estudiantil concursó y ganó varios certámenes de cuentos y poesía.  \n\n\n\n\n\nAmante de la música; aprendió a tocar el piano y\, con el tiempo\, comenzó a componer sus propias canciones y a cantar sus letras.  \n\n\n\nSiempre ha tenido predilección por los más desfavorecidos. Ha participado en numerosos voluntariados\, tanto a nivel nacional como internacional: centros de acogida para personas sin hogar\, campamentos urbanos\, leproserías\, cuidado de enfermos\, apoyo escolar a niños en riesgo de exclusión social….Todas esas experiencias en el reverso del mundo y las personas con las que ha aprendido en el camino\, le han llevado a escribir su primer libro de prosa poética. Se titula «Bonito Reverso»\, en él comparte sus sentimientos y reflexiones\, da voz a su verdad. \n\n\n\n\n\n\n\n\n\n\n\n\n\n\n\n\n\n\n\n\n\n\n\n\n\n\n\n\n\n	\n		Comparte este evento\n		FacebookTwitterRedditLinkedInWhatsAppPinterestCorreo electrónico
URL:https://cafebreriaadhoc.com/evento/presentacion-de-bonito-reverso-postdata-ediciones-de-sonia-vazquez-santiago/
CATEGORIES:Novela,Presentación literaria
ATTACH;FMTTYPE=image/jpeg:https://cafebreriaadhoc.com/wp-content/uploads/2024/01/IMG-20231120-WA0035-1.jpeg
ORGANIZER;CN="Cafebrer%C3%ADa ad Hoc":MAILTO:info@cafebreriaadhoc.com
END:VEVENT
BEGIN:VEVENT
DTSTART;TZID=Europe/Madrid:20240126T190000
DTEND;TZID=Europe/Madrid:20240126T210000
DTSTAMP:20260424T045659
CREATED:20240108T093907Z
LAST-MODIFIED:20240117T073432Z
UID:14085-1706295600-1706302800@cafebreriaadhoc.com
SUMMARY:Presentación de Aproximaciones. Caminos y sendas de Villamuriel de Campos (Ed. L.U.P.I)\, de Yolanda Pérez Herreras.
DESCRIPTION:Presenta el libro Pilar González España.\n\n\n\nSINOPSIS \n\n\n\nNo existen los atajos en estos caminos y sendas\, como no existen circunvalaciones en la búsqueda de propósitos anhelados en el peregrinar de la vida: lo que está es lo que hay\, sin zarandajas ni pamplinas. Transitar es un propósito en sí mismo\, con las alforjas que nos han sido asignadas… y que nosotros mismos hemos ido cargando con más o menos tino. \n\n\n\nDespués del primer paseo acudo\, como cada día\, a tomar el vermú al bar -el único establecimiento del pueblo- donde\, a esas horas y principalmente\, están las personas mayores de Villamuriel de Campos. Decido que ellos son los mejores “guías” para conocer más. Ellos me cuentan cuáles y dónde están los caminos y las sendas de Villamuriel y\, en cada vermú\, comentamos y hacemos juntos el seguimiento de mi caminar. Y por la tarde\, a la hora de juntarnos en la terraza de la Plaza hasta la hora de la cena\, con otros vecinos del pueblo\, sigo contando y comentamos mis pasos. Entonces\, me doy cuenta de que lo que era un plan solitario se va convirtiendo en un plan colectivo; me hace feliz ser un eslabón de la cadena humana de mi pueblo\, pertenecer a la genealogía de Villamuriel de Campos. \n\n\n\n\n\n\n\n\n\n\n\n\n\n\n\n\n\n\n\n\n\n\nYolanda Pérez Herreras.\n\n\n\nVillamuriel de Campos\, Dublín y Madrid son sus lugares de constante intemporalidad. Editora de la revista de poética experimental experimenta… Coordinadora de las veladas poético- accionistas VEN Y VINO en la Galería El Mono de la Tinta con el Grupo YEA!  \n\n\n\n\n\nCoordinadora de Encuentros Internacionales de Arte de Acción y Performance Acción!MAD Coordinadora de la serie Accionate! de la colección biblioteca incÖmpleta de ediciones la única puerta a la izquierda. Antóloga de “Acción_Edición_Colección. Álbum de cromos de performers” HARTU! Ha publicado y mostrado su trabajo tantas veces como lo ha considerado estrictamente necesario. \n\n\n\n\n\nPilar González España.\n\n\n\nDoctora en Filología Hispánica y licenciada en Literatura y Civilización chinas en Francia. Desde 1998 trabaja como profesora titular de Lengua y Pensamiento de Asia Oriental en la Universidad Autónoma de Madrid.  \n\n\n\nComo poeta ha publicado El Cielo y el Poder (1997)\, Una mano escondida en un cajón (2002)\, Transmutaciones\, con el que ha obtenido el Premio de poesía Carmen Conde 2005\, y El cabello más largo que mi amor (2014).  \n\n\n\n\n\n\n\n\n\n\n\nEn el año 2020 ha publicado la obra de teatro Las Hijas de Lot en la editorial Torremozas. Su obra poética ha sido traducida a diversas lenguas como francés\, árabe\, chino\, entre otros. Ha realizado además numerosas traducciones de obras clásicas de la civilización china como Los capítulos Interiores de Zhuang Zi\, Poemas escogidos de Li Qingzhao\, Poemas del río Wang de Wang Wei\, (finalista en el Premio Nacional de Traducción\, 2005). Las 24 categorías de poesía de Si Kongtu\, Wen fu de Lu Ji\, entre otros. También es recitadora de poesía y suele realizar sus espectáculos en colaboración con músicos y otros artistas. \n\n\n\n\n\n\n\n\n\n\n\n\n\n\n\n\n\n\n\n\n\n\n\n\n\n\n\n\n\n	\n		Comparte este evento\n		FacebookTwitterRedditLinkedInWhatsAppPinterestCorreo electrónico
URL:https://cafebreriaadhoc.com/evento/presentacion-de-aproximaciones-caminos-y-sendas-de-villamuriel-de-campos-ed-l-u-p-i-de-yolanda-perez-herreras/
CATEGORIES:Novela,Presentación literaria
ATTACH;FMTTYPE=image/jpeg:https://cafebreriaadhoc.com/wp-content/uploads/2024/01/Invitacion-APROXIMACIONES-Madrid.jpeg
ORGANIZER;CN="Cafebrer%C3%ADa ad Hoc":MAILTO:info@cafebreriaadhoc.com
END:VEVENT
BEGIN:VEVENT
DTSTART;TZID=Europe/Madrid:20240127T110000
DTEND;TZID=Europe/Madrid:20240127T130000
DTSTAMP:20260424T045659
CREATED:20240117T093120Z
LAST-MODIFIED:20240129T100007Z
UID:14101-1706353200-1706360400@cafebreriaadhoc.com
SUMMARY:Revista Caminada nº 14 - Moncloa-Cafebrería ad Hoc
DESCRIPTION:En el marco de las actividades que se están llevando a cabo en torno a la exposición colectiva Caminante son tus huellas (del caminar como práctica artística)\, acogemos la Revista Caminada nº14 de la mano de Miguel Nava Cuervo y Rafael Lamata Cotanda. En esta ocasión el recorrido Portada-Presentación tendrá su inicio en los Arcos de Moncloa a las 11.00h y irá componiendo sus páginas en distintos puntos del barrio de Moncloa y Argüelles hasta llegar a Cafebrería ad Hoc que tiene el honor en esta ocasión de ser la Contraportada. \n\n\n\n¿Qué es REVISTA CAMINADA? \n\n\n\n¿Qué se puede decir de algo que se ha de caminar?   \n\n\n\nResulta difícil contradecir el propio formato de nuestra revista\, que no se escribe con palabras. No podemos contar algo que hacemos para andar.  \n\n\n\nPor empezar: el movimiento se demuestra andando.   \n\n\n\n¿Uno es uno cuando anda? En la revista caminada uno no es uno cuando anda\, son muchos.   \n\n\n\nDefinición de situaciones de cuando uno no es uno cuando anda:  \n\n\n\nProcesión: muchos caminan siguiendo a dios.  \n\n\n\nManifestación: muchos caminan llevando consignas.  \n\n\n\nPasacalles: muchos caminan persiguiendo gigantes.  \n\n\n\nDesfile: muchos caminan conducidos por armas.  \n\n\n\nRevista caminada: muchos caminan para hablar\, ver y oir la ciudad.  \n\n\n\nPero no somos psicólogos\, somos caminantes ocasionales.  \n\n\n\nLa situación de cuando uno no es uno cuando anda viene determinada por los contextos diferentes que marcan los pasos.  \n\n\n\n¿Los contextos ordenan la identidad o la identidad ordena los contextos?  \n\n\n\n¡Pero no somos sociólogos\, solo somos caminantes ocasionales! \n\n\n\nLa posibilidad de expresarse de forma directa y sencilla en las calles\, no es ambiciosa\, no provoca cambios permanentes\, no crea escuelas\, solodeja el aroma de las huellas y mantiene la voluntad de contar tu ciudad.  \n\n\n\n\n\n\n\n\n\n\n\n\n\n\n\n\nLa Revista Caminada es un proyecto realizado por Rafael Lamata Cotanda junto con Miguel Nava Cuervo que convoca a distintas personas para realizar un recorrido por un barrio de Madrid\, y las páginas de la revista se van costrutendo con las acciones que se realizan en una esquina\, una plaza o el portal que previamente se ha determinado. \n\n\n\nHasta ahora se han realizado trece revistas. \n\n\n\nPuedes ver más información de la revista en arteycosas.es \n\n\n\n\n\n\n\n\n\n\n\n\n	\n		Comparte este evento\n		FacebookTwitterRedditLinkedInWhatsAppPinterestCorreo electrónico
URL:https://cafebreriaadhoc.com/evento/revista-caminada-no-14-moncloa-cafebreria-ad-hoc/
CATEGORIES:Novela,Presentación literaria
ATTACH;FMTTYPE=image/jpeg:https://cafebreriaadhoc.com/wp-content/uploads/2024/01/revista-caminada-no14.jpg
ORGANIZER;CN="Cafebrer%C3%ADa ad Hoc":MAILTO:info@cafebreriaadhoc.com
END:VEVENT
END:VCALENDAR