BEGIN:VCALENDAR
VERSION:2.0
PRODID:-//Cafebrería ad Hoc - ECPv6.15.13.1//NONSGML v1.0//EN
CALSCALE:GREGORIAN
METHOD:PUBLISH
X-WR-CALNAME:Cafebrería ad Hoc
X-ORIGINAL-URL:https://cafebreriaadhoc.com
X-WR-CALDESC:Eventos para Cafebrería ad Hoc
REFRESH-INTERVAL;VALUE=DURATION:PT1H
X-Robots-Tag:noindex
X-PUBLISHED-TTL:PT1H
BEGIN:VTIMEZONE
TZID:Europe/Madrid
BEGIN:DAYLIGHT
TZOFFSETFROM:+0100
TZOFFSETTO:+0200
TZNAME:CEST
DTSTART:20230326T010000
END:DAYLIGHT
BEGIN:STANDARD
TZOFFSETFROM:+0200
TZOFFSETTO:+0100
TZNAME:CET
DTSTART:20231029T010000
END:STANDARD
BEGIN:DAYLIGHT
TZOFFSETFROM:+0100
TZOFFSETTO:+0200
TZNAME:CEST
DTSTART:20240331T010000
END:DAYLIGHT
BEGIN:STANDARD
TZOFFSETFROM:+0200
TZOFFSETTO:+0100
TZNAME:CET
DTSTART:20241027T010000
END:STANDARD
BEGIN:DAYLIGHT
TZOFFSETFROM:+0100
TZOFFSETTO:+0200
TZNAME:CEST
DTSTART:20250330T010000
END:DAYLIGHT
BEGIN:STANDARD
TZOFFSETFROM:+0200
TZOFFSETTO:+0100
TZNAME:CET
DTSTART:20251026T010000
END:STANDARD
END:VTIMEZONE
BEGIN:VEVENT
DTSTART;TZID=Europe/Madrid:20240308T190000
DTEND;TZID=Europe/Madrid:20240308T210000
DTSTAMP:20260424T014203
CREATED:20240209T134443Z
LAST-MODIFIED:20240209T134606Z
UID:14209-1709924400-1709931600@cafebreriaadhoc.com
SUMMARY:Presentación de La mejor familia del mundo (Ed. Niñaloba)\, de Mayte Blasco.
DESCRIPTION:Junto a la autora\, presentará el libro la escritora Marisa Mañana.\n\n\n\nSINOPSIS: \n\n\n\nLa mejor familia del mundo es una antología de relatos que exploran las relaciones familiares: hermanos celosos\, padres que anteponen sus vicios al cuidado de sus hijos\, tías que juegan con sus sobrinos mientras esconden su frustración por la maternidad truncada\, primas que pierden la amistad que cultivaron de niñas\, padres que obligan a sus hijas a tomar decisiones que les harán daño… \n\n\n\nUna animada galería de doce prodigios familiares imperfectos\, nacidos de relaciones atravesadas por emociones dispares que transitan entre la culpa\, la decepción y el amor.  \n\n\n\n\n\n\n\n\n\n\n\n\n\n\n \n\n\n\n\n\n\n\n\n\n\n\nMayte Blasco.\n\n\n\nMayte Blasco (Madrid\, 1979) es bibliotecaria de profesión. La mayor parte de su trayectoria la ha desarrollado en la Biblioteca Nacional de España. Durante los años 2013-2015 vivió en Santiago de Chile\, donde también se dedicó a la actividad bibliotecaria.  \n\n\n\n\n\nEn su faceta de escritora\, ha publicado dos novelas: Las vidas que pudimos vivir (2015) y La extrañeza de la lluvia (2021). También es autora del libro de cuentos Jaulas de hormigón (2021)\, que fue finalista en 2022 del Premio Setenil al mejor libro de relatos publicado en España. Ha obtenido diferentes premios y reconocimientos en concursos literarios\, y sus textos han sido publicados en varias antologías. La mejor familia del mundo es su segundo volumen de relatos.  \n\n\n\n\n\n\n\n\n\n\n\n\n\n\n\n\n\n\n\n\n\n\n\n\n\n	\n		Comparte este evento\n		FacebookTwitterRedditLinkedInWhatsAppPinterestCorreo electrónico
URL:https://cafebreriaadhoc.com/evento/presentacion-de-la-mejor-familia-del-mundo-ed-ninaloba-de-mayte-blasco/
CATEGORIES:Novela,Presentación literaria
ATTACH;FMTTYPE=image/jpeg:https://cafebreriaadhoc.com/wp-content/uploads/2024/02/La-mejor-familia-del-mundo-cubierta.jpg
END:VEVENT
BEGIN:VEVENT
DTSTART;TZID=Europe/Madrid:20240321T190000
DTEND;TZID=Europe/Madrid:20240321T220000
DTSTAMP:20260424T014203
CREATED:20240312T091355Z
LAST-MODIFIED:20240425T131511Z
UID:14307-1711047600-1711058400@cafebreriaadhoc.com
SUMMARY:Día de la Poesía: Recital y Micro abierto.
DESCRIPTION:¡Queridos amigos cafebrer@s! \n\n\n\nCelebramos el Día de la Poesía por todo lo alto con una lectura dramatizada de los Sonetos del amor oscuro de Federico garcía Lorca a dos voces: Adrián Piera y Henry Pryzbyl. Será al calor de la magnífica exposición de los dibujos originales que el artista Javier de Juan realizó para la edición de dicho poemario con la editorial Reino de Cordelia. Una vez termine la lectura\, celebraremos nuestro primer Micro Abierto de Poesía para que todos los que os acerquéis podáis leer en vivo y en directo vuestros poemas. ¿Quién se anima? \n\n\n\n\n\n\n\n\n\n\n\n\n\n\n\n\n\n\n\n\n\n\n\n\n\n\n\n\n\n\n\n\n\n\n\n	\n		Comparte este evento\n		FacebookTwitterRedditLinkedInWhatsAppPinterestCorreo electrónico
URL:https://cafebreriaadhoc.com/evento/dia-de-la-poesia-recital-y-micro-abierto/
CATEGORIES:Poesía
ATTACH;FMTTYPE=image/jpeg:https://cafebreriaadhoc.com/wp-content/uploads/2024/03/Dia-de-la-poesia-24.jpeg
END:VEVENT
END:VCALENDAR