BEGIN:VCALENDAR
VERSION:2.0
PRODID:-//Cafebrería ad Hoc - ECPv6.15.13.1//NONSGML v1.0//EN
CALSCALE:GREGORIAN
METHOD:PUBLISH
X-WR-CALNAME:Cafebrería ad Hoc
X-ORIGINAL-URL:https://cafebreriaadhoc.com
X-WR-CALDESC:Eventos para Cafebrería ad Hoc
REFRESH-INTERVAL;VALUE=DURATION:PT1H
X-Robots-Tag:noindex
X-PUBLISHED-TTL:PT1H
BEGIN:VTIMEZONE
TZID:Europe/Madrid
BEGIN:DAYLIGHT
TZOFFSETFROM:+0100
TZOFFSETTO:+0200
TZNAME:CEST
DTSTART:20230326T010000
END:DAYLIGHT
BEGIN:STANDARD
TZOFFSETFROM:+0200
TZOFFSETTO:+0100
TZNAME:CET
DTSTART:20231029T010000
END:STANDARD
BEGIN:DAYLIGHT
TZOFFSETFROM:+0100
TZOFFSETTO:+0200
TZNAME:CEST
DTSTART:20240331T010000
END:DAYLIGHT
BEGIN:STANDARD
TZOFFSETFROM:+0200
TZOFFSETTO:+0100
TZNAME:CET
DTSTART:20241027T010000
END:STANDARD
BEGIN:DAYLIGHT
TZOFFSETFROM:+0100
TZOFFSETTO:+0200
TZNAME:CEST
DTSTART:20250330T010000
END:DAYLIGHT
BEGIN:STANDARD
TZOFFSETFROM:+0200
TZOFFSETTO:+0100
TZNAME:CET
DTSTART:20251026T010000
END:STANDARD
END:VTIMEZONE
BEGIN:VEVENT
DTSTART;TZID=Europe/Madrid:20240413T190000
DTEND;TZID=Europe/Madrid:20240413T220000
DTSTAMP:20260423T235541
CREATED:20240323T171954Z
LAST-MODIFIED:20240401T091432Z
UID:14314-1713034800-1713045600@cafebreriaadhoc.com
SUMMARY:Inauguración de la exposición Los hallazgos del flâneur\, comisariada por Carlos Jiménez. Participan los artistas Roberto González Fernández y Fernando Baena.
DESCRIPTION:Los hallazgos del flâneur \n\n\n\nFernando Baena y Roberto González Fernández son dos artistas de trayectorias\, propósitos y recursos expresivos muy distintos entre sí. Fernando se ha destacado como notable performer\, aunque últimamente ha dado en cultivar con éxito la pintura. Roberto\, en cambio\, es un pintor con todos los pinceles\, uno de los grandes nombres del realismo madrileño de última generación\, con una vasta obra realizada en este campo. Sin embargo\, hay algo que los une y es un capítulo de sus respectivas obras que reúne lo que llamo los hallazgos del flâneur.  \n\n\n\nEsa figura característica de las metrópolis modernas entre las que París como el origen histórico de la misma. El París de Balzac\, el Impresionismo\, Daguerre y Nadar\, y desde luego de Charles Baudelaire\, que celebró en sus escritos “la época\, la moral\, la moda\, la pasión…” Paseante en Corte es una de las traducciones al castellano de flâneur que no da en el blanco. Resulta apta para descubrir a los paseantes dieciochescos del madrileño Paseo del Prado\, cortesanos o advenedizos deseosos de codearse con ellos. Pero no en dar cuenta del flâneur\, que era ciudadano antes que súbdito\, se debía a sí mismo antes que al monarca y sus cortesanos y cuyos escenarios eran las multitudes callejeras en vez de las exquisitas minorías palaciegas. O sea\, los transeúntes de los pasajes cubiertos y los imponentes bulevares con los que el barón de Hausmann transformó radicalmente la edilicia de Paris para convertirla en la “Capital del siglo XIX”\, como la llamo Walter Benjamín en un ensayo memorable.    \n\n\n\nFernando Baena y Roberto González Fernández se inscriben en esta tradición renovándola y ofreciendo cada uno su peculiar versión de la misma.  \n\n\n\nFernando asumió el papel de mirón que deambula por las calles con una cámara en mano en busca del punctum barthesiano\, en medio del confinamiento universal impuesto con motivo de la propagación de la COVID 19. Entonces se trazó un plan. Hizo de su piso de Madrid el centro de una circunferencia\, primero de un kilómetro de diámetro y de 3 kilómetros después\, y cada mañana se levantó al alba para recorrer una a una las calles y plazas incluidas en ese perímetro.  \n\n\n\nEl tiempo y el método utilizado por Roberto fueron otros. Su tiempo fue el de la post pandemia\, cuando los transeúntes ya podían circular libremente por las calles\, aunque todavía utilizando mascarillas. Su callejeo\, cámara en mano\, fue mas espontáneo\, aunque limitado a las calles y plazas del Madrid monumental. Por el contrario\, sus modelos se ciñeron a una norma invariable: debían ser siempre parejas. Además\, las copias de sus fotos son en riguroso blanco y negro en alto contraste\, mientras que las de Fernando Baena son a todo color.  \n\n\n\n\n\n\n\n\n\n\n\n\n\n\n\n\n\n\n\n\n\n\n\n\n\n\nCarlos Jiménez.\n\n\n\nCarlos Jimenez Nació en Cali en 1947. Es escritor y crítico de arte. Profesor de Estética de la Universidad Europea de Madrid. Estudio arquitectura en la Universidad del Valle donde fué Profesor Titular de la Cátedra de Teoría e Historia del Arte. Fué Maestro en Teoría e Historia del Arte y la Arquitectura de la Universidad Nacional de Colombia.  \n\n\n\n\n\nSu aportación al arte contemporáneo consiste en el temprano descubrimiento y valoración en la escena artística española de la obra de jóvenes artistas entre los que destacan los españoles Juan Muñoz y Santiago Sierra\, y los colombianos Doris Salcedo y Oscar Muñoz. Su labor como crítico ha contribuido además a la internacionalización del arte latinoamericano iniciada en la década de los 90 del siglo pasado y hoy plenamente consolidada. Es parte del equipo editorial de la revista brumaria y ha colaborado con los diarios El País y El mundo y con las revistas especializadas Lápiz\, Exit y Artecontexto -todas ellas publicaciones españolas- y con ArtNexus\, de Miami\, y Third Text y Contemporary art de Londres. Es autor de los libros: Extraños en el paraíso: ojeadas al arte de los ochenta\, Los rostros de Medusa. Estudios sobre la retórica fotográfica\, Retratos de memoria\, El libro de teoría La escena sin fin. El arte en la era de su big bang\, El libro de las artistas\, El Santo\, el  Militante y el Artista y el poemario Travesía del ojo\, entre otros. \n\n\n\n\n\nRoberto González Fernández.\n\n\n\nEstudió en la Escuela de Bellas Artes de San Fernando en Madrid entre 1969 y 1974\, y en 1977 se trasladó a Edimburgo (Escocia). A partir de entonces hasta la actualidad vive de su pintura\, alternando temporadas en la capital escocesa y en Madrid\, con puntuales visitas y exposiciones en Galicia. En 1984 obtuvo una beca de la The New York Foundation for the Arts.  \n\n\n\n\n\n\n\n\n\n\n\nSu trayectoria es muy prolífica y ha realizado muchas exposiciones individuales\, además de colectivas. su primera muestra fue en 1967\, en la galería coruñesa Artes. Muchas de esas exhibiciones tuvieron lugar en Escocia y el Reino Unido\, donde expone anualmente\, y otras en diversas ciudades de España. En noviembre de 2008 realizó una exposición antológica en Ferrol\, con unas 300 obras de todo su recorrido como creador. \n\n\n\nDe manera fortuita forma también pareja artística con David Trullo: RGF+DDT. Desde 2005 han realizado el tríptico «Sebas»\, el libro de artistas «Meetings» (con textos de Leopoldo Alas) «Planetas y Satélites»\, el «Parque Temático Gay (Diez Mandamientos)» 2006\, «Pic-Nics»\, «Cinco Cuentos Chinos» y «El jardín de las Malicias» \,2007.1​ \n\n\n\nHa creado en Madrid junto a su marido Javier Mazorra en el año 2022\, el Studio RGF ubicado en la Calle Arriaza 11 al lado del Palacio Real. Un espacio-taller sin ánimo de lucro\, abierto al público\, que genera una gran actividad\, mostrando exposiciones de amigos en pequeños grupos de artistas noveles y consagrados. \n\n\n\n\n\n\n\n\n\n\n\nFernando Baena.\n\n\n\nArtista multidisciplinar que cultiva el vídeo\, la fotografía\, la instalación y la performance\, como medios para alcanzar con mayor fuerza al espectador. Con el fin de cuestionar y referenciar aspectos fundamentales de la vida cotidiana\, busca espacios abiertos más accesibles al público. \n\n\n\n\n\nSus obras pretenden interactuar acercándose a través del uso de materiales comunes\, y el uso de discursos directos que evidencian su intención comunicativa. Es un artista que ha desplegado su obra sobre todo en el campo de la performance\, a cuya historia en España dedicó su tesis doctoral. Pero si es incluido en esta exposición es por un proyecto suyo muy especifico realizado durante el confinamiento impuesto por la COVID 19. Él\, entonces\, se propuso recorrer las calles de Madrid incluidas en un circulo de un kilómetro de radio cuyo epicentro es su casa en el barrio La latina. Cada mañana se levantaba muy temprano y se echaba a la calle con cámara en mano fotografiando aquello que atraía su interés en una ciudad cuyas calles\, a pesar del confinamiento\, nunca estuvieron  completamente desiertas\, tal y como testimonian varias de las fotos resultado de este proyecto.   \n\n\n\n\n\n\n\n\n\n\n\n\n\n\n\n\n\n\n\n\n\n\n\n\n\n\n\n\n	\n		Comparte este evento\n		FacebookTwitterRedditLinkedInWhatsAppPinterestCorreo electrónico
URL:https://cafebreriaadhoc.com/evento/inauguracion-de-la-exposicion-pintar-entre-lineas-de-javier-de-juan-comisariado-por-julieta-de-haro-2/
CATEGORIES:Inauguración
ATTACH;FMTTYPE=image/jpeg:https://cafebreriaadhoc.com/wp-content/uploads/2024/03/expo-los-hallazgos.jpeg
ORGANIZER;CN="Cafebrer%C3%ADa ad Hoc":MAILTO:info@cafebreriaadhoc.com
END:VEVENT
BEGIN:VEVENT
DTSTART;TZID=Europe/Madrid:20240418T190000
DTEND;TZID=Europe/Madrid:20240418T220000
DTSTAMP:20260423T235541
CREATED:20240401T093524Z
LAST-MODIFIED:20240402T082127Z
UID:14328-1713466800-1713477600@cafebreriaadhoc.com
SUMMARY:Presentación de Amniótica (Ed. Coleman)\, de Elma García.
DESCRIPTION:Junto a la autora presentarán el libro los escritores Ignacio Ferrando y José Sanchís-Sinisterra.\n\n\n\nSinopsis: \n\n\n\nCarolina\, alias Lina\, regresa a su pueblo natal tras ser despedida. Su hermana Vera\, con problemas para concebir un segundo hijo\, le propone un trato: Lina será madre de alquiler a cambio de que Julián financie la nueva vida artística de Lina. La novela explora la compleja relación entre hermanas\, los límites del amor familiar y los dilemas éticos de la maternidad subrogada. \n\n\n\n\n\n\n\n\n\n\n\n\n\n\n\n\n\n\n\n\n\n\nElma García (Salamanca\, 1974)\n\n\n\nEstudió periodismo. Después de vivir dos años en California\, regresa con un Máster en Comunicación. XII promoción del Máster de Narrativa y del III del Máster de Poesía de la Escuela de Escritores. Ha colaborado en «Menos mal que no se oye lo que pienso»\, blog elaborado por el colectivo médico LARCS en Público. Ganó el primer concurso de «Cuentos para el Andén y Fuentetaja» con el microrrelato «Peces» en 2013. CpE también publicó su relato «Un dragón de azoteas» en 2016 y La Rompedora publicó «Ojos de niebla»\, relato de  2021 y varias poesías en 2023. «Amniótica» es su primera novela. \n\n\n\n\n\n\n\n\n	\n		Comparte este evento\n		FacebookTwitterRedditLinkedInWhatsAppPinterestCorreo electrónico
URL:https://cafebreriaadhoc.com/evento/presentacion-de-amniotica-ed-coleman-de-elma-garcia/
CATEGORIES:Presentación literaria
ATTACH;FMTTYPE=image/jpeg:https://cafebreriaadhoc.com/wp-content/uploads/2024/04/Anmiotica.jpg
END:VEVENT
BEGIN:VEVENT
DTSTART;TZID=Europe/Madrid:20240419T070000
DTEND;TZID=Europe/Madrid:20240419T120000
DTSTAMP:20260423T235541
CREATED:20240401T092604Z
LAST-MODIFIED:20240401T114028Z
UID:14324-1713510000-1713528000@cafebreriaadhoc.com
SUMMARY:Poetry Slam La Poesía es la Casa
DESCRIPTION:Queridos amigos cafebrer@s\, \n\n\n\n¡Con motivo de la celebración de La Noche de los Libros\, en Cafebrería ad Hoc os convocamos a nuestro Poetry Slam La Poesía es la Casa! \n\n\n\nComo ya sabéis\, en ella participarán diez poetas y un presentador y se llevará a cabo de la forma siguiente: Cada uno de los poetas\, leerá/dramatizará en vivo y en directo el poema que ha escrito para la ocasión con el lema de «la casa» y sus múltiples posibilidades y significados. Después de cada lectura\, será el público\, mediante un sistema de votación previamente especificado\, quien decida qué poema les ha gustado más. De esta forma se seleccionarán tres finalistas. Para el desempate\, estos tres finalistas leerán/dramatizarán un nuevo poema y será también el público quien decida quien será el ganador. La actividad se hará en colaboración con la Asociación Cultural Poetry Slam Madrid que es una asociación sin ánimo de lucro de poetas y artistas.  \n\n\n\n\n\n\nLas actividades que realiza son el Poetry Slam mensual (micrófono abierto)\, slams especiales\, así como Talleres de Poetry Slam en colegios o centros sociales. Tanto la recaudación de taquilla como el dinero de otras actividades que habitualmente realiza Poetry Slam Madrid va destinado íntegramente a los gastos que genera la propia actividad\, a actos culturales\, poéticos y educativos.  El Poetry Slam Madrid forma parte de una red de Poetry Slam a nivel nacional e internacional.Actualmente hay 12 sedes en España: Ciudad Real\, Toledo\, Mallorca\, Vigo\, Arousa\, Granada\, L’Hospitalet\, Bilbao\, Zaragoza\, Barcelona\, Jaén y Madrid. El Poetry Slam La Poesía es la Casa será el viernes 19 de abril de 19.00h a 22.00h en Cafebrería ad Hoc y la entrada será libre hasta completar aforo. En Cafebrería ad Hoc\, consideramos que celebrar La Noche de los Libros con una actividad así es celebrar la poesía como la mejor de las casas que podemos habitar: la poesía en la vida\, en el arte\, en la literatura como algo que nos hace más habitable el mundo. Algo que nos conmueve y que nos acerca a lo que somos.  \n\n\n\nLos participantes en el Poetry Slam La Poesía es la Casa serán los siguientes: Antonio Díez Guillermo Roguez Diego Mattarrucco Acoyani Guzmán Barcena Cristina García Irene Díaz Lázaro Anita Nuñez Torrón Stock Pablo Cortina Silvia Nieva. \n\n\n\nEl presentador será Jonathan Tauma. \n\n\n\n\n\n\n\n\n\n\n\n\n\n\n\n\n\n\n\n\n\n\n\n\n	\n		Comparte este evento\n		FacebookTwitterRedditLinkedInWhatsAppPinterestCorreo electrónico
URL:https://cafebreriaadhoc.com/evento/poetry-slam-la-poesia-es-la-casa/
CATEGORIES:La Noche de los Libros
ATTACH;FMTTYPE=image/jpeg:https://cafebreriaadhoc.com/wp-content/uploads/2024/04/PoetrySlam.jpeg
ORGANIZER;CN="Cafebrer%C3%ADa ad Hoc":MAILTO:info@cafebreriaadhoc.com
END:VEVENT
BEGIN:VEVENT
DTSTART;TZID=Europe/Madrid:20240423T100000
DTEND;TZID=Europe/Madrid:20240423T220000
DTSTAMP:20260423T235541
CREATED:20240414T102625Z
LAST-MODIFIED:20240414T102626Z
UID:14381-1713866400-1713909600@cafebreriaadhoc.com
SUMMARY:Día del Libro 2024
DESCRIPTION:Queridos amigos cafebrer@s\, el martes 23 de abril celebramos el Día del Libro 2024. Será un día de celebración permanente\, con buenos libros\, buenas recomendaciones\, charlas y tertulias entre amigos. Como ya sabéis\, en Cafebrería ad Hoc prima la cercanía y el buen hacer\, el saber que para mantener la cultura hay que unirse y celebrarla\, así que os esperamos con la ilusión de un proyecto común construido entre todos. Durante todo el día ofrecemos un 10% de descuento en la compra de libros y como broche os regalamos una preciosa Tote bag de POLO CLUB para que vayáis llenándola de esas lecturas que os acompañarán este verano en el mar o en la montaña.  \n\n\n\n¡Os esperamos! \n\n\n\n\n\n\n\n\n\n\n\n\n\n\n\n\n\n\n\n\n\n\n\n\n\n\n\n\n\n\n\n\n\n	\n		Comparte este evento\n		FacebookTwitterRedditLinkedInWhatsAppPinterestCorreo electrónico
URL:https://cafebreriaadhoc.com/evento/dia-del-libro-2024/
CATEGORIES:Día del Libro
ATTACH;FMTTYPE=image/jpeg:https://cafebreriaadhoc.com/wp-content/uploads/2024/04/Dia-del-libro-24.jpeg
END:VEVENT
BEGIN:VEVENT
DTSTART;TZID=Europe/Madrid:20240424T190000
DTEND;TZID=Europe/Madrid:20240424T220000
DTSTAMP:20260423T235541
CREATED:20240411T090852Z
LAST-MODIFIED:20240411T093848Z
UID:14341-1713985200-1713996000@cafebreriaadhoc.com
SUMMARY:La Poesía es la caña\, MICRO ABIERTO DE POESÍA
DESCRIPTION:Queridos amigos cafebrer@s\, \n\n\n\n¡La Poesía es la caña! Por ese motivo tan poético inauguramos un MICRO ABIERTO DE POESÍA mensual que tendrá lugar en Cafebrería ad Hoc el último miércoles de cada mes. Así que afilad los lápices y modular la voz para venir a compartir con todos los asistentes vuestros poemas. ¿Quién se anima?  \n\n\n\n¡Os esperamos el próximo miércoles 24 de abril para inaugurar esta nueva hazaña! \n\n\n\n\n\n\n\n\n\n\n\n\n\n	\n		Comparte este evento\n		FacebookTwitterRedditLinkedInWhatsAppPinterestCorreo electrónico
URL:https://cafebreriaadhoc.com/evento/la-poesia-es-la-cana-micro-abierto-de-poesia/
CATEGORIES:Poesía
ATTACH;FMTTYPE=image/jpeg:https://cafebreriaadhoc.com/wp-content/uploads/2024/04/Microabierto-abril.jpeg
END:VEVENT
BEGIN:VEVENT
DTSTART;TZID=Europe/Madrid:20240429T193000
DTEND;TZID=Europe/Madrid:20240429T210000
DTSTAMP:20260423T235541
CREATED:20240411T095827Z
LAST-MODIFIED:20240417T044115Z
UID:14347-1714419000-1714424400@cafebreriaadhoc.com
SUMMARY:Taller Abierto de Lectura en torno al libro de relatos Un requiem europeo (Ed. Páginas de Espuma)\, de Javier Sáez de Ibarra.
DESCRIPTION:Junto al autor\, moderarán el acto Lorena Briedis\, escritora y profesora de Encuentros Lectores y Lola Vivas\, escritora y directora de Cafebrería ad Hoc.\n\n\n\nSINOPSIS \n\n\n\nSiguiendo la estructura musical del réquiem\, Javier Sáez de Ibarra nos sorprende con la composición de un libro de cuentos como notas a veces discordantes y otras\, armónicas que dejan su temblor en la atmósfera. La riqueza de sus partes e himnos se transforman en una mirada sobre nuestros comportamientos: los malentendidos\, la mezquindad\, el rencor\, los prejuicios\, la disociación íntima\, la violencia como también la generosidad\, el amor o la esperanza. \n\n\n\nConcebido como un viaje interior\, el conjunto de relatos despliega una mirada crítica sobre la Europa de hoy\, sobre su política real\, y también sobre un cristianismo en crisis que se resiste a desaparecer. Un libro deslumbrante\, agudo\, disidente\, hondo\, lírico\, irreverente\, que apunta a los cimientos de nuestros pretendidos valores y se interroga a contramano sobre la verdad. \n\n\n\n\n\n\n\n\n\n\n\n\n\n\n\n\n\n\n\n\n\n\nJavier Sáez de Ibarra\n\n\n\nJavier Sáez de Ibarra (Vitoria\, 1961) es autor de los libros de cuentos El lector de Spinoza (2004)\, Propuesta imposible (2008)\, Mirar al agua. Cuentos plásticos (2009)\, que obtuvo el Primer Premio Internacional Ribera del Duero\, Bulevar (2013)\, distinguido con el XI Premio Setenil\, Fantasía lumpen (2017); además del poemario Motivos (2006) y la novela Vida económica de Tomi Sánchez (2020).  \n\n\n\n\n\nSus relatos han sido incluidos en importantes antologías como Siglo XXI. Los nuevos nombres del cuento español actual (2010); Pequeñas resistencias 5. El nuevo cuento español 2001-2010 (2010) o Cuento español actual (1992-2012) (2013). Ha editado la antología de Hipólito Navarro\, El pez volador (2008). Publica textos misceláneos y de crítica literaria en Cuadernos hispanoamericanos\, penúltiMa\, Quimera\, Ínsula o Zenda. Coordina la revista digital oxi-nobstante.blogspot.com \n\n\n\n\n\n\n\n\n\n\n\n\n\n\n\n\n\n\n\n\n\n\n\n\n\n	\n		Comparte este evento\n		FacebookTwitterRedditLinkedInWhatsAppPinterestCorreo electrónico
URL:https://cafebreriaadhoc.com/evento/taller-abierto-de-lectura-en-torno-a-un-requiem-europeo-de-javier-saez-de-ibarra/
CATEGORIES:Taller de lectura abierto
ATTACH;FMTTYPE=image/jpeg:https://cafebreriaadhoc.com/wp-content/uploads/2024/04/Javier-saez-de-Ibarra-scaled.jpg
ORGANIZER;CN="Cafebrer%C3%ADa ad Hoc":MAILTO:info@cafebreriaadhoc.com
END:VEVENT
BEGIN:VEVENT
DTSTART;TZID=Europe/Madrid:20240430T190000
DTEND;TZID=Europe/Madrid:20240430T220000
DTSTAMP:20260423T235541
CREATED:20240412T091857Z
LAST-MODIFIED:20240412T092659Z
UID:14365-1714503600-1714514400@cafebreriaadhoc.com
SUMMARY:Presentación de Los días claros (Ed. Deliciosas)\, de Karmele Ruíz de Gopegui.
DESCRIPTION:En la presentación\, la autora estará acompañada de los poetas Andrea Mazas y Miguel Hernández.\n\n\n\nSINOPSIS \n\n\n\nComo a la vuelta de un viaje\, estos poemas conservan imágenesdel almacén de emociones que conforma la mirada. Transitanpor un tiempo llamado familia\, y una casa sin hipotecar y sindueña. Una casa hecha de versos limpios. \n\n\n\nAna Martín Puigpelat \n\n\n\n\n\n\n\n\n\n\n\n\n\n\n\n\n\n\n\n\n\n\nKarmele Ruíz de Gopegui.\n\n\n\nDiplomada en Literaturas del Mundo por la Universidad de Chile. En 2021 recibió el XIV Premio de Poesía Fundación Jesús Serra. En el curso 2021-2022 formó parte del Obrador de poesía-collage de Ediciones Deliciosas.  \n\n\n\n\n\nHa participado en diversas publicaciones colectivas como Cuaderno para (no) llorar (Moda y Pueblo\, Chile\, 2023) y Antología de poema en prosa y prosa poética (Cástor y Polux\, Chile\, 2023)\, y autoeditado la plaquette de poesía-collage Estos son ellos en lo alto de la colina (2023). Los días claros es su primer poemario \n\n\n\n\n\n\n\n\n\n\n\n\n\n\n\n\n\n\n\n\n\n\n\n\n\n	\n		Comparte este evento\n		FacebookTwitterRedditLinkedInWhatsAppPinterestCorreo electrónico
URL:https://cafebreriaadhoc.com/evento/presentacion-de-los-dias-claros-ed-deliciosas-de-karmele-ruiz-de-gopegui/
CATEGORIES:Taller de lectura abierto
ATTACH;FMTTYPE=image/png:https://cafebreriaadhoc.com/wp-content/uploads/2024/04/portada-Los-dias-Claros.png
END:VEVENT
END:VCALENDAR