BEGIN:VCALENDAR
VERSION:2.0
PRODID:-//Cafebrería ad Hoc - ECPv6.15.13.1//NONSGML v1.0//EN
CALSCALE:GREGORIAN
METHOD:PUBLISH
X-WR-CALNAME:Cafebrería ad Hoc
X-ORIGINAL-URL:https://cafebreriaadhoc.com
X-WR-CALDESC:Eventos para Cafebrería ad Hoc
REFRESH-INTERVAL;VALUE=DURATION:PT1H
X-Robots-Tag:noindex
X-PUBLISHED-TTL:PT1H
BEGIN:VTIMEZONE
TZID:Europe/Madrid
BEGIN:DAYLIGHT
TZOFFSETFROM:+0100
TZOFFSETTO:+0200
TZNAME:CEST
DTSTART:20230326T010000
END:DAYLIGHT
BEGIN:STANDARD
TZOFFSETFROM:+0200
TZOFFSETTO:+0100
TZNAME:CET
DTSTART:20231029T010000
END:STANDARD
BEGIN:DAYLIGHT
TZOFFSETFROM:+0100
TZOFFSETTO:+0200
TZNAME:CEST
DTSTART:20240331T010000
END:DAYLIGHT
BEGIN:STANDARD
TZOFFSETFROM:+0200
TZOFFSETTO:+0100
TZNAME:CET
DTSTART:20241027T010000
END:STANDARD
BEGIN:DAYLIGHT
TZOFFSETFROM:+0100
TZOFFSETTO:+0200
TZNAME:CEST
DTSTART:20250330T010000
END:DAYLIGHT
BEGIN:STANDARD
TZOFFSETFROM:+0200
TZOFFSETTO:+0100
TZNAME:CET
DTSTART:20251026T010000
END:STANDARD
END:VTIMEZONE
BEGIN:VEVENT
DTSTART;TZID=Europe/Madrid:20240606T190000
DTEND;TZID=Europe/Madrid:20240606T220000
DTSTAMP:20260423T204440
CREATED:20240528T105147Z
LAST-MODIFIED:20240528T105314Z
UID:14562-1717700400-1717711200@cafebreriaadhoc.com
SUMMARY:Presentación de ¿Mujeres? ¿Hombres? Sexo y género\, biología y cultura (Ed. Universitat de Barcelona)\, de Jordi Casanova Roca.
DESCRIPTION:Acompañará al autor en la presentación el periodista Javier Sampedro.\n\n\n\nSINOPSIS \n\n\n\n¿Somos mujeres y somos hombres porque nacemos mujeres y hombres? ¿O porque la sociedad hace que nos criemos como mujeres y como hombres? Los humanos somos fruto de la biología (de cómo nacemos) y de la cultura (de cómo nos criamos)\, pero a veces parece que el conocimiento de la biología nos asuste. Podemos afirmar que el sexo es el fenómeno biológico que se manifiesta en la existencia de animales hembras y machos\, y que el género es el rol que las sociedades humanas imponen\, o quieren imponer\, a las personas. Pero ¿qué relación hay entre el sexo biológico y el género social? ¿Para combatir los roles de género hay que negar la existencia de características sexuales diferenciadas? Y\, por otro lado: ¿por qué casi todas las sociedades humanas son patriarcales? ¿Por qué casi todos los violadores son hombres? ¿El camino del transgénero lleva a la transexualidad? Este libro no pretende ofrecer respuestas cerradas\, sino aproximarse a las cuestiones que nos plantean todas estas preguntas y muchas más. \n\n\n\n\n\n\n\n\n\n\n\n\n\n\n\n\n\n\n\n\n\n\nJordi Casanova Roca.\n\n\n\nJordi Casanova Roca (Barcelona\, 1959) es biólogo. Actualmente es Profesor de Investigación en el Instituto de Biología Molecular de Barcelona (CSIC) e Investigador Principal del IRBarcelona.  \n\n\n\n\n\nSus trabajos están dedicados a estudiar cómo los genes regulan el desarrollo de los seres vivos. Es miembro de la Organización Europea de Biología Molecular (EMBO) y del Institut d’Estudis Catalans. Anteriormente ha publicado Petita història dels humans (Pequeña historia de los humanos)\, donde reflexiona sobre las implicaciones que tienen los nuevos conocimientos científicos en nuestra forma de vernos como seres humanos y Fills del ferro (Hijos del hierro) relato de la historia de la su familia en el marco de la historia del Ripollès y del país. \n\n\n\n\n\n\n\n\n\n\n\n\n\n\n\n\n\n\n\n\n\n\n\n\n\n	\n		Comparte este evento\n		FacebookTwitterRedditLinkedInWhatsAppPinterestCorreo electrónico
URL:https://cafebreriaadhoc.com/evento/presentacion-de-mujeres-hombres-sexo-y-genero-biologia-y-cultura/
CATEGORIES:Presentación literaria
ATTACH;FMTTYPE=image/png:https://cafebreriaadhoc.com/wp-content/uploads/2024/05/portada-mujeres-hombres.png
END:VEVENT
BEGIN:VEVENT
DTSTART;TZID=Europe/Madrid:20240608T110000
DTEND;TZID=Europe/Madrid:20240608T130000
DTSTAMP:20260423T204440
CREATED:20240602T160529Z
LAST-MODIFIED:20240603T080526Z
UID:14576-1717844400-1717851600@cafebreriaadhoc.com
SUMMARY:Encuentro de la Sociedad Literaria de Amigos y Amigas de Miguel Delibes.
DESCRIPTION:El próximo sábado 8 de junio tendrá lugar el Segundo Encuentro de la Sociedad Literaria de amigos y amigas de Miguel Delibes. Te invitamos a participar en nuestro pequeño evento donde comentaremos y debatiremos su obra Señora de rojo sobre fondo gris\, una de las obras más autobiográficas del autor. Únete a nosotros para compartir tus impresiones y disfrutar de un enriquecedor intercambio literario.  \n\n\n\nEl encuentro está organizado en colaboración con la Fundación Miguel Delibes que custodia el legado cultural del escritor\, divulga su figura y su obra y fomenta la investigación y los estudios relativos al autor y sus múltiples facetas. La aspiración es generar reflexiones en la sociedad sobre los temas habituales en la obra de Delibes: El mundo rural\, la infancia\, el medio ambiente y la desigualdad de oportunidades. \n\n\n\n\n\n\n\n\n\n\n\n\n\n\n\n\n\n\n\n\n\n\n\n\n\n\nMiguel Delibes Setién\n\n\n\nMiguel Delibes Setién (1920-2010​)\, escritor español y miembro de la Real Academia Española desde 1975 y hasta su muerte.​ Licenciado en Comercio\, comenzó su carrera como dibujante de caricaturas\, columnista y periodista de El Norte de Castilla\, diario que llegó a dirigir\, para pasar de forma gradual a dedicarse enteramente a la novela. \n\n\n\n\n\nGran conocedor de la fauna y flora de su entorno geográfico\, apasionado de la caza y del mundo rural \, supo plasmar en sus obras todo lo relativo a Castilla. \n\n\n\nSe trata de una de las primeras figuras de la literatura española posterior a la Guerra Civil\, por lo cual fue reconocido con multitud de galardones\, incluido el Premio Cervantes y Principe de Asturias de la Letras. Su influencia va más allá de lo literario\, ya que varias de sus obras han sido adaptadas al teatro o se han llevado al cine.  \n\n\n\nEsta extraña mezcla de profesor y campesino\, entre refinado y natural\, cuya reposada voz puede explotar en una risotada\, comunicativo y triste\, vestido con cazadora\, pantalón de pana y botas\, enemigo del televisor y de las tertulias\, es en los tiempos que corren una especie de guerrillero\, un resistente. Es\, indudablemente\, un tipo inactual. \n\n\n\n[…] Es\, en cierto modo\, un outsider\, un francotirador con un pie en su clase mientras la vapulea con el otro. A algunos les hubiera gustado que lo hiciera con los dos. Ligado a la burguesía vallisoletana por lazos familiares\, profesor de Comercio\, periodista\, director y consejero de El Norte de Castilla\, padre de siete hijos\, fiel como un perro a su mujer\, su ruptura no es aparatosa ni definitiva. Es un cazador de caza menor. Sus safaris duran un día. Por la noche le gusta tener metidos los pies en las zapatillas y poder leer al calor de la mesa camilla\, en su casa del Paseo de Zorrilla. Ama lo rutinario. Siempre duerme en el mismo hotel cuando viaja a una ciudad y\, a ser posible\, en la misma cama. Dice que en él la fidelidad no tiene ningún valor. Pero todo esto con angustia. Encajado en su ciudad\, en su familia\, entre sus amigos\, en el periódico\, es íntimamente un desplazado. El mundo que abarca es\, en sentido horizontal\, la ciudad media de provincias y ese mundo exótico que comienza donde terminan las carreteras nacionales. En sentido vertical\, es la clase media y campesina. Describe el drama cotidiano de la ciudad de provincias y el mundo arqueológico de los medios rurales. \n\n\n\n«CONVERSACIONES CON MIGUEL DELIBES»\n\n\n\nCésar Alonso de los Ríos\n\n\n\n\n\n\n\n\n\n\n	\n		Comparte este evento\n		FacebookTwitterRedditLinkedInWhatsAppPinterestCorreo electrónico
URL:https://cafebreriaadhoc.com/evento/encuentro-de-la-sociedad-literaria-de-amigos-y-amigas-de-miguel-delibes/
CATEGORIES:Charla-coloquio
ATTACH;FMTTYPE=image/jpeg:https://cafebreriaadhoc.com/wp-content/uploads/2024/06/Cartel-Final-II-Encuentro-SLAMD-v.3.jpeg
END:VEVENT
BEGIN:VEVENT
DTSTART;TZID=Europe/Madrid:20240611T190000
DTEND;TZID=Europe/Madrid:20240611T220000
DTSTAMP:20260423T204440
CREATED:20240425T154942Z
LAST-MODIFIED:20240606T100557Z
UID:14432-1718132400-1718143200@cafebreriaadhoc.com
SUMMARY:Recital poético Editorial Pre-Textos.
DESCRIPTION:Participan: Marisa Martínez Pérsico\, Yamila Transtenvot\, Julio César Galán\, Carmen Palomo Pinel\, Esperanza López Parada\, María Ángeles Pérez López\, Javier Vicedo Alós y Pablo López Carballo.\n\n\n\n\n\n\n\n\n\n\n\n\n\n\n\n\n\n\n\n\n\n\n\n\n\n\n\n\n\n\n\n\n\n\n\n\n\n\n\n\n\n\n\n\n\n\n\n\n\n\n\n\n\n\n\n\n\n\n\n\n\n\n\n\n\n\n\n\n\n\n\n\n\n\n\n\n\n\n\n\n\n\n\n\n\n\n\n\n\n\n\n\n\n\n\n\n\n\n\n\n\n\n\n\n\n\n\n\n\n\n\n\n\n\n\n\n\n\n\n\n\n\n\n\n\n\n	\n		Comparte este evento\n		FacebookTwitterRedditLinkedInWhatsAppPinterestCorreo electrónico
URL:https://cafebreriaadhoc.com/evento/recital-poetico-editorial-pre-textos/
CATEGORIES:Poesía,Presentación literaria
ATTACH;FMTTYPE=image/png:https://cafebreriaadhoc.com/wp-content/uploads/2024/04/portada-recital-poetico.png
END:VEVENT
BEGIN:VEVENT
DTSTART;TZID=Europe/Madrid:20240612T190000
DTEND;TZID=Europe/Madrid:20240612T220000
DTSTAMP:20260423T204440
CREATED:20240606T083338Z
LAST-MODIFIED:20240606T091609Z
UID:14595-1718218800-1718229600@cafebreriaadhoc.com
SUMMARY:Cábula\, la pequeña editorial de los placeres minúsculos\, presenta Todo lo que tenemos\, de Francisco Salvador Pina.
DESCRIPTION:DESCRIPCIÓN \n\n\n\nTodo lo que tenemos es\, técnicamente\, el primer volumen de la Colección pálpito de poesía. 12 poemas ilustrados que nos sumergen en el universo del poeta. Como dice Juan Marqués en su prólogo: “Aquí está todo su mundo. Está su familia\, está su trabajo\, están sus ciudades\, está su pasado\, está su presente y están sus ilusiones. Está su vida\, y además está su amor\, y además está el amor de su vida\, que no sólo es la dedicataria del libro\, sino que es también quien ha dibujado la preciosa cubierta de este Todo lo que tenemos.”  \n\n\n\nPero\, en realidad\, es una de esas cosas que querríamos dejar cuando ya no estemos en este mundo. Básicamente libros en los que puedan encontrarnos. Ojalá éste sea uno de ellos.  \n\n\n\n\n\n\n\n\n\n\nEl término “cábula” viene del lunfardo\, una jerga arrabalera bonaerense que empezó a hablarse hace más de un siglo. Tiene un doble significado: pálpito y augurio. Eso es lo que queremos\, ser una editorial de calle y con corazón. Porque por las calles pasean los corazones y en sus rincones empiezan a forjarse sus historias.  \n\n\n\nNos presentamos en sociedad en Zaragoza el pasado mes de diciembre con Todo lo que tenemos\, un delicado poemario de Paco Salvador Pina\, ilustrado por doce artistas aragoneses. La obra se completa con el corazón gigante del poeta\, novelista y crítico literario Juan Marqués y su espléndido prólogo.  \n\n\n\nTanto Paco como Juan acompañarán a Mary Sanz\, editora y cofundadora de Cábula batuta en mano\, el próximo miércoles 12 de junio en Madrid. El maravilloso espacio de Cafebrería ad Hoc\, capitaneado por un equipo de almas sensibles y generosas\, acogerá este evento con corazón.  \n\n\n\n\n\n\n\nTERCETO CABULIANO:\n\n\n\n\n\n\n\n\n\n\nPACO:\n\n\n\nAprendiz de por vida\, sus inquietudes lo han llevado a explorar diferentes mundos. Comenzó por la cooperación al desarrollo y continuó emprendiendo en serie. Sus dos últimas paradas\, en las que sigue trabajando\, han sido el sector tecnológico y el de la economía circular y sostenibilidad.  \n\n\n\nEscribe poesías para que cuando no esté lo puedan encontrar en ellas y escribe novelas y relatos para contar las historias que se ven detrás de los ojos.  \n\n\n\nMARY:\n\n\n\nEl alma todoterreno de Cábula que dirige\, con el suyo\, la orquesta de corazones gigantes.  \n\n\n\nLa puedes encontrar pensando\, agitando redes\, respondiendo preguntas en la radio\, la tele o el periódico o visitando su imprenta y sus librerías favoritas. Pero siempre sonriendo. No se le conoce otra cara.  \n\n\n\nPor eso Cábula tiene su alegría que cae como lluvia fina y empapa todo lo que toca.  \n\n\n\nJUAN:\n\n\n\nDoctor en Literatura Española\, escritor y crítico literario en publicaciones especializadas.  \n\n\n\nHa publicado cinco libros de poemas y la novela “El hombre que ordenaba bibliotecas”.  \n\n\n\nCuenta con el Premio Internacional de Poesía Gerardo Diego y el Premio Iberoamericano de Poesía Hermanos Machado.  \n\n\n\n\n\n\n\n\n\n\n\n\n\n\n\n\n\n\n\n\n\n\n\n\n\n	\n		Comparte este evento\n		FacebookTwitterRedditLinkedInWhatsAppPinterestCorreo electrónico
URL:https://cafebreriaadhoc.com/evento/cabula-la-pequena-editorial-de-los-placeres-minusculos-presenta-todo-lo-que-tenemos-de-francisco-salvador-pina/
CATEGORIES:Presentación literaria
ATTACH;FMTTYPE=image/jpeg:https://cafebreriaadhoc.com/wp-content/uploads/2024/06/Grafico_pegado-11.jpg
END:VEVENT
BEGIN:VEVENT
DTSTART;TZID=Europe/Madrid:20240613T190000
DTEND;TZID=Europe/Madrid:20240613T220000
DTSTAMP:20260423T204440
CREATED:20240517T040931Z
LAST-MODIFIED:20240517T041133Z
UID:14503-1718305200-1718316000@cafebreriaadhoc.com
SUMMARY:Lectura poética de los poemarios Muro con buganvilla (Buenos Aires Poetry)\, de Lucía Enmanuel y de Pájaros bajo las aguas (Ed. Urdimbre)\, de Iosu Atalaya
DESCRIPTION:Contaremos con la presencia de los autores que llevarán a cabo la lectura.\n\n\n\n\n\n\n\n\n\n\n\n\n\n\n\n\n\n\n\n\n\n\n\n\n\n\n\n\n\n\n\n\n\nIosu Atalaya\n\n\n\nIosu Atalaya\, nacido en Bilbao\, actualmente reside en Madrid y trabaja como editor de poesía y ensayo en la Editorial Urdimbre. Ha publicado el poemario Pájaros bajo las aguas(2024)\, el cual ha sido adaptado como pieza teatral por la compañía Enlabrecha. Es doctorando en Filosofía por la UNED. \n\n\n\n\n\nSus principales líneas de investigación giran en torno a la teoría de la metáfora\, la antropología filosófica y la filosofía española desde el siglo XX. Miembro de la Sociedad Hispánica de Antropología Filosófica (SHAF)\, forma parte del grupo de escritores independientes Cantina Poética y ha sido letrista y percusionista en diferentes bandas musicales. \n\n\n\n\n\n\n\n\n\nLucía Emmanuel\n\n\n\nLucía Emmanuel es licenciada en Física\, especializada en cultura científica. En 2014 comienza su formación literaria en la Escuela de Escritores de Madrid\, donde cursa el Máster de Narrativa y varios cursos de poesía. \n\n\n\n\n\n\n\n\n\n\n\nHa colaborado en antologías y revistas especializadas como Principia\, La rompedora\, La gran belleza o la International Poetry Review de la Universidad de Carolina del Norte; y ha participado en festivales de poesía nacionales e internacionales. Actualmente trabaja en el equipo técnico de Escuela de Escritores\, donde también imparte un taller sobre metáfora. Muro con buganvilla fue publicado por primera vez en 2021 por la editorial Amargord y ha sido reeditado en 2024 por la editorial Buenos aires Poetry. Forma parte del grupo de escritores independientes Cantina Poética. \n\n\n\n \n\n\n\n\n\n\n\n\n\n\n	\n		Comparte este evento\n		FacebookTwitterRedditLinkedInWhatsAppPinterestCorreo electrónico
URL:https://cafebreriaadhoc.com/evento/lectura-poetica-de-los-poemarios-muro-con-buganvilla/
CATEGORIES:Poesía,Presentación literaria
ATTACH;FMTTYPE=image/jpeg:https://cafebreriaadhoc.com/wp-content/uploads/2024/05/lecturapoetica-portada.jpg
END:VEVENT
BEGIN:VEVENT
DTSTART;TZID=Europe/Madrid:20240615T190000
DTEND;TZID=Europe/Madrid:20240615T220000
DTSTAMP:20260423T204440
CREATED:20240528T110224Z
LAST-MODIFIED:20240528T110403Z
UID:14569-1718478000-1718488800@cafebreriaadhoc.com
SUMMARY:Presentación de Pedagogía crip (Ed. Kaótica)\, de Asun Pié Balaguer.
DESCRIPTION:Acompañan a la autora en la presentación Lucas Platero y Melania Moscoso.\n\n\n\nDESCRIPCIÓN \n\n\n\nPié nos inspira en este libro a mirar hacia un horizonte crip\, queer\, feminista y decolonial que están construyendo aquí y ahora artistas\, activistas y pensadores crip. Pedagogía crip y la revolución de los cuerpos es un libro para todos los que quieran hilvanar la creatividad creadora de mundos que nos brinda la discapacidad en todos y cada uno de los movimientos por la justicia y la divertad». Robert McRuer \n\n\n\n«Pedagogía crip y la revolución de los cuerpos debe entenderse como un trabajo que da continuidad a otros anteriores relacionados con la necesidad de comprender las razones que expulsan a algunos cuerpos de lo humanamente previsto\, la funcionalidad de esta exclusión\, el impacto subjetivo de este rechazo\, así como\, particularmente\, los caminos para transformar esta situación. Este es un trabajo de producción de conocimiento situado que parte de una afectación particular profesional\, académica y personal en lo que refiere a los cuerpos no normativos». Asun Pié Balaguer \n\n\n\n\n\n\n\n\n\n\n\n\n\n\n\n\n\n\n\n\n\n\nASUN PIÉ BALAGUER.\n\n\n\nASUN PIÉ BALAGUER es Doctora en Pedagogía por la Universidad de Barcelona y Diplomada en Educación Social por la Universidad Ramon Llull. Es profesora agregada de los Estudios de Psicología y Ciencias de la Educación de la Universitat Oberta de Catalunya (UOC). Es miembro del Grupo de Investigación CareNet. Care and Preparedness in the Network Society (IN3-UOC). \n\n\n\n\n\nSu trayectoria de investigación se centra en los Estudios Feministas de la Discapacidad\, la Antropología médica y la Pedagogía crítica. Ha sido profesora invitada en la Universidad de Antioquia (Colombia)\, la Universidad Autónoma de México\, Universidad Nacional de Entre Ríos (Argentina)\, Universidad Austral de Chile\, entre otras. Ha codirigido el Proyecto de investigación La Gestión Colaborativa de la Medicación: un proyecto de investigación y acción participativa en salud mental (URV-UOC). RecerCaixa 2016. Participación ciudadana en las políticas sanitarias (2017- 2020). Ha sido investigadora del Proyecto Metáforas del trastorno mental grave. Análisis del discurso de personas afectadas y profesionales de la salud mental (2018-2021) (Plan Nacional de España I+D: FFI2017-86969-R). Actualmente dirige el proyecto de investigación Mujeres cuidadoras de personas con trastorno mental grave: retos para un cuidado democrático y colectivo. (Convocatoria de 2023). Ministerio de Igualdad. Instituto de las Mujeres y es investigadora del proyecto coordinado GCM-BCN. La Gestión Colaborativa de la Medicación. Salud mental colectiva\, derechos y ciu- dadanía en Barcelona. (Convocatoria 2023 para proyectos de investigación e innovación del Ayuntamiento de Barcelona).Es miembro de la Red Internacional de Investigadores y Participantes sobre Integración/Inclusión educativa (RIIE). Desde 2022 forma parte del Observatorio Internacional de Práticas de Gestao Autônoma da Medicaçao (Brasil). Miembro del MARC Medical Anthropology Research Center\, Universidad Rovira i Virgili. Actualmente también es Miembro del Comité de Ética Asistencial de la FCCSM (Fundació Congrés Català de Salut Mental). Dirige la colección editorial Pedagogías Contemporáneas de la Universitat Oberta de Catalunya. \n\n\n\n\n\n\n\n\n\n\n\n\n\n\n\n\n\n\n\n\n\n\n\n\n\n	\n		Comparte este evento\n		FacebookTwitterRedditLinkedInWhatsAppPinterestCorreo electrónico
URL:https://cafebreriaadhoc.com/evento/presentacion-de-pedagogia-crip-ed-kaotica-de-asun-pie-balaguer/
CATEGORIES:Presentación literaria
ATTACH;FMTTYPE=image/jpeg:https://cafebreriaadhoc.com/wp-content/uploads/2024/05/portada-pedagogia-crip.jpeg
END:VEVENT
BEGIN:VEVENT
DTSTART;TZID=Europe/Madrid:20240620T190000
DTEND;TZID=Europe/Madrid:20240620T220000
DTSTAMP:20260423T204440
CREATED:20240527T150511Z
LAST-MODIFIED:20240615T183426Z
UID:14555-1718910000-1718920800@cafebreriaadhoc.com
SUMMARY:En memoria de Eugenio Castro. Charla coloquio en torno al autor.
DESCRIPTION:Participan: \n\n\n\nLurdes Martínez\, José Manuel Rojo\, Ángel Zapata y Jesús García Rodríguez\, miembros del Grupo Surrealista de Madrid; y sus amigos José Villarta\, y Marcos Isabel e Inés Mendoza que moderará el acto. \n\n\n\n\n\n\n\n\n\n\n\n\n\n\n\n\n\n\n\n\n\n\n\n\n\n\nEugenio Castro Murga\,\n\n\n\nEugenio Castro Murga (Toledo-Las Herencias\, 1959 – Madrid\, 2024) fue poeta y ensayista. Cofundador del Grupo surrealista de Madrid y coeditor de su revista Salamandra\, desde 1979 participó en las actividades y publicaciones del Movimiento surrealista internacional.  \n\n\n\n\n\nPublicó los ensayos H (2006)\, La flor más azul del mundo (2011) y Madrid rediviva (2019)\, y colaboró en los libros colectivos Situación de la poesía (por otros medios) a la luz del surrealismo (2006)\, Crisis de la exterioridad. Crítica del encierro industrial y elogio de las afueras (2013) y Pensar\, experimentar la exterioridad (2018). El Gran Boscoso… es eso (2017) reúne parte de su obra poemática\, hasta el momento inédita\, y su libro de poemas más reciente es Elocuencia de lo sepulto (2019).  \n\n\n\nEntre otros\, ha traducido a Gherasim Luca\, Joyce Mansour\, Jan Švankmajer\, Ernesto Sampaio\, Marqués de Sade\, Paul Éluard y António José Forte. \n\n\n\n\n\n\n\n\n\n\n	\n		Comparte este evento\n		FacebookTwitterRedditLinkedInWhatsAppPinterestCorreo electrónico
URL:https://cafebreriaadhoc.com/evento/en-memoria-de-eugenio-castro-charla-coloquio-en-torno-al-autor/
CATEGORIES:Charla-coloquio
ATTACH;FMTTYPE=image/jpeg:https://cafebreriaadhoc.com/wp-content/uploads/2024/05/en-momoria-de-eugenio.jpeg
END:VEVENT
BEGIN:VEVENT
DTSTART;TZID=Europe/Madrid:20240622T190000
DTEND;TZID=Europe/Madrid:20240622T220000
DTSTAMP:20260423T204440
CREATED:20240606T090625Z
LAST-MODIFIED:20240606T091527Z
UID:14602-1719082800-1719093600@cafebreriaadhoc.com
SUMMARY:Inauguración de Cartas a Kafka\, exposición de arte comisariada por Jesús Gironés.
DESCRIPTION:Kafka en Cafebrería ad Hoc \n\n\n\n\n“Cartas a Kafka” \n\n\n\nLa carta de las nubes a la arena: \n\n\n\nla sombra lo es por un rato. \n\n\n\nAl otro lado de nosotras \n\n\n\nel día nunca muere. \n\n\n\n\nDoris Kareva \n\n\n\nTraducción del inglés al castellano; Jonio González \n\n\n\nMi relación con Kafka se debate entre el horror y el desasosiego\, que me produjo en mi juventud leer “La metamorfósis” y el extraño placer de leer su cuento “El buitre” para mi clase Literatura Universal Contemporánea en la facultad\, impartida por Mercedes Gómez del Manzano\, la profesora a la que también le debo “Eros”\, de Clara Janés.  \n\n\n\nNo me ha extrañado descubrir ahora la lectura de Kafka a partir de Foucault y su clarividencia en textos como “Las relaciones de poder penetran en los cuerpos”. Ni tampoco el interés de Judit Butler por los dibujos de Kafka y todos los problemas que acarreó su propiedad y su salida a la luz. \n\n\n\nNo deja de sorprender que la obra de Kafka podría haber sido quemada\, y no en un campo de concentración\, sino por las instrucciones de Kafka a Max Brod\, el amigo al que regalaba las piedras que llevaba en sus bolsillos para tranquilizarse\, y le decía que su amor por él era tan fuerte como ellas pero mucho mas grande. \n\n\n\nCuando Lola Vivas me propuso organizar una exposición para su espacio en el centenario de la muerte de Kafka\, a partir de la “Carta al padre”\, me puse a pensar en los artistas. Cuatro\, me dijo.  \n\n\n\nTras algunas dudas\, que una selección siempre exige\, incluso en mis colectivas multitudinarias\, me decidí por cuatro creadores cuya trayectoria rigurosa y comprometida sigo hace años: Pepe Domínguez\, Mariana Laín\, Florencia Kettner y Pepe Medina. A ellos les lancé la propuesta de enfrentarse a la obra de Kafka en lo que al final he dado en llamar “Cartas a Kafka”. Su acercamiento a una obra universal\, que ha dado lugar al adjetivo “kafkiano” que todos conocemos y usamos. Recuerdo su eco en la voz de mi madre. \n\n\n\nKafka\, una obra tan viva hoy en día\, y parecía condenada a desaparecer. Pero él dió en nombrar el desasosiego del hombre contemporáneo\, con Stefan Zweig o Virginia Woolf. \n\n\n\nJesús Gironés\, 3 de junio de 2024\, Pozuelo de Alarcón \n\n\n\nArtistas invitados:\n\n\n\n\nPepe Domínguez  https://www.contraquien.com \n\n\n\nFlorencia Kettner http://www.florenciakettner.com/ \n\n\n\nMariana Laín https://www.marianalain.com \n\n\n\nPepe Medina https://pepemedina.net \n\n\n\n\n\n \n\n\n\n \n\n\n\nEL BUITRE \n\n\n\nFranz Kafka  \n\n\n\n\nÉrase un buitre que me picoteaba los pies. Ya me había destrozado los zapatos y los calcetines\, y ahora ya me picoteaba los pies. Siempre daba un picotazo\, volaba en círculos inquietos alrededor y luego continuaba su obra. Llegó un señor\, se quedó mirando un momento y me preguntó por qué aguantaba yo al buitre. -Estoy desamparado -le dije-; llegó y comenzó a darme picotazos; yo traté de espantarlo y hasta pensé torcerle el pescuezo\, pero estos animales son muy salvajes y quería írseme a la cara. Decidí sacrificar mis pies; ahora casi me los ha destrozado. -No se deje sacrificar -dijo el señor-; basta un tiro y el buitre se terminó. -¿Cree usted? -pregunté-\, ¿quiere ayudarme en este trance? -Con mucho gusto -dijo el señor-; sólo tengo ir a casa a buscar el revólver\, ¿podrá usted aguantar media hora más? -No lo sé -respondí\, y por un momento quedé rígido de dolor; luego añadí-: por favor\, inténtelo de todas maneras. -Bien -respondió el señor-\, voy a apurarme con mi revólver. El buitre había escuchado con calma nuestro diálogo\, mirándonos al señor y a mí. De repente me di cuenta que había entendido todo; voló un poco\, retrocedió para darse el impulso necesario\, y como un atleta que arroja la jabalina ensartó el pico en mi boca\, hasta el fondo. Al caer de espaldas sentí como me liberaban; que en mi sangre\, que llenaba todas las profundidades y que rebasaba todos los límites\, el buitre\, inexorablemente\, se ahogaría. \n\n\n\n\n\n\n\n\n\n\n\n\n\n\n\n\n\n\n\n\n\n\nJesús Gironés Martínez.\n\n\n\n\nJesús Gironés es experto en comunicación y crítica de la sociedad de masas. Desde 1984 escribe en diversos medios de Pozuelo de Alarcón\, especializado  \n\n\n\nen cultura\, teniendo la oportunidad de entrevistar a numerosos artistas. \n\n\n\n\n \n\n\n\n\n\n\nDe 1995 a 2015 dirigió la sala de exposiciones de El Foro de Pozuelo de Alarcón. Ha organizado más de 300 exposiciones y publicado textos sobre arte. También poesía\, la mayoría de las veces en plaquettes y libros de artista. \n\n\n\nHa sido asesor de Televisión Española. \n\n\n\nSus últimos comisariados han sido para Cafebrería ad Hoc y StudioRGF_arriaza11 \n\n\n\nInstagram: @jesusgironesmartinez  \n\n\n\nBlog: https://albordedelderrumbe.blogspot.com \n\n\n\n\n\n\n\n\n\n\n\n\n\n\n\n\n\n\n\n\n\n\n\n\n\n	\n		Comparte este evento\n		FacebookTwitterRedditLinkedInWhatsAppPinterestCorreo electrónico
URL:https://cafebreriaadhoc.com/evento/inauguracion-de-cartas-a-kafka-exposicion-de-arte-comisariada-por-jesus-girones/
CATEGORIES:Inauguración
ATTACH;FMTTYPE=image/jpeg:https://cafebreriaadhoc.com/wp-content/uploads/2024/06/Carta-a-Kafka_ok.jpeg
END:VEVENT
END:VCALENDAR