BEGIN:VCALENDAR
VERSION:2.0
PRODID:-//Cafebrería ad Hoc - ECPv6.15.13.1//NONSGML v1.0//EN
CALSCALE:GREGORIAN
METHOD:PUBLISH
X-ORIGINAL-URL:https://cafebreriaadhoc.com
X-WR-CALDESC:Eventos para Cafebrería ad Hoc
REFRESH-INTERVAL;VALUE=DURATION:PT1H
X-Robots-Tag:noindex
X-PUBLISHED-TTL:PT1H
BEGIN:VTIMEZONE
TZID:Europe/Madrid
BEGIN:DAYLIGHT
TZOFFSETFROM:+0100
TZOFFSETTO:+0200
TZNAME:CEST
DTSTART:20230326T010000
END:DAYLIGHT
BEGIN:STANDARD
TZOFFSETFROM:+0200
TZOFFSETTO:+0100
TZNAME:CET
DTSTART:20231029T010000
END:STANDARD
BEGIN:DAYLIGHT
TZOFFSETFROM:+0100
TZOFFSETTO:+0200
TZNAME:CEST
DTSTART:20240331T010000
END:DAYLIGHT
BEGIN:STANDARD
TZOFFSETFROM:+0200
TZOFFSETTO:+0100
TZNAME:CET
DTSTART:20241027T010000
END:STANDARD
BEGIN:DAYLIGHT
TZOFFSETFROM:+0100
TZOFFSETTO:+0200
TZNAME:CEST
DTSTART:20250330T010000
END:DAYLIGHT
BEGIN:STANDARD
TZOFFSETFROM:+0200
TZOFFSETTO:+0100
TZNAME:CET
DTSTART:20251026T010000
END:STANDARD
END:VTIMEZONE
BEGIN:VEVENT
DTSTART;TZID=Europe/Madrid:20240703T190000
DTEND;TZID=Europe/Madrid:20240703T220000
DTSTAMP:20260423T191045
CREATED:20240606T091403Z
LAST-MODIFIED:20240615T183408Z
UID:14609-1720033200-1720044000@cafebreriaadhoc.com
SUMMARY:Presentación de Juegos reunidos (Ed. Funambulista)\, de Eduardo Gallarza.
DESCRIPTION:Junto al autor\, presentarán el libro el escritor Javier Ruíz Martín y el editor Max Lacruz.\n\n\n\nDESCRIPCIÓN \n\n\n\nEste libro reúne 56 relatos\, ejercicios de equilibrismo que solo tienen en común la brevedad\, que\, más que un límite\, es la delimitación de un terreno de juego o\, mejor dicho\, de muchos juegos\, estilos\, técnicas y géneros\, desde la viñeta al cuento\, la parodia al apólogo\, el puzle al pastiche. \n\n\n\nComo dijo Juan Ramón Jiménez\, «arte es quitar lo que sobra»: basta con una restricción de tamaño para comprobar lo mucho que\, efectivamente\, sobra cuando se escribe. La concisión no solo actúa como un acicate\, sino que otorga una inmensa libertad. \n\n\n\nJuegos reunidos es ante todo un libro lúdico\, sorprendente\, desconcertante a veces; una exploración de las infinitas posibilidades del lenguaje narrativo\, siempre que se use en el estricto respeto de las formas\, pero irreverente y provocador en cuanto al fondo.   \n\n\n\nScreenshot\n\n\n\n\n\n\n\n\n\n\n\n\n\n\n\n\n\n\nEduardo Gallarza.\n\n\n\nEduardo Gallarza nació en Madrid en 1962. De joven vivió en Tánger\, París\, Kumasi y Belgrado\, pero des-de hace más de veinte años apenas se ha alejado de su ciudad natal\, donde trabaja como economista.  \n\n\n\n\n\nAdemás de Verdades como sueños\, ganadora en 2004 del I Premio Mario Lacruz (con un jurado compuesto por Juan Marsé\, Rosa Montero\, Rafael Borràs\, Enrique Badosa y Miguel Sáenz) y traducida al francés\, ha publicado en Funambulista: El Soviet de los Vagos\, finalista del Premio Tigre Juan en 2000 y traducida al francés y al ser-bio\, la novela Esplendor insólito y la colección de relatos El sencillo arte de desvanecerse. \n\n\n\n\n\n\n\n\n\n\n\n\n\n\n\n\n\n\n\n\n\n\n\n\n\n	\n		Comparte este evento\n		FacebookTwitterRedditLinkedInWhatsAppPinterestCorreo electrónico
URL:https://cafebreriaadhoc.com/evento/presentacion-de-juegos-reunidos-ed-funambulista-de-eduardo-gallarza/
CATEGORIES:Presentación literaria
ATTACH;FMTTYPE=image/jpeg:https://cafebreriaadhoc.com/wp-content/uploads/2024/06/Juegos-reunidos.jpg
END:VEVENT
END:VCALENDAR