BEGIN:VCALENDAR
VERSION:2.0
PRODID:-//Cafebrería ad Hoc - ECPv6.15.13.1//NONSGML v1.0//EN
CALSCALE:GREGORIAN
METHOD:PUBLISH
X-WR-CALNAME:Cafebrería ad Hoc
X-ORIGINAL-URL:https://cafebreriaadhoc.com
X-WR-CALDESC:Eventos para Cafebrería ad Hoc
REFRESH-INTERVAL;VALUE=DURATION:PT1H
X-Robots-Tag:noindex
X-PUBLISHED-TTL:PT1H
BEGIN:VTIMEZONE
TZID:Europe/Madrid
BEGIN:DAYLIGHT
TZOFFSETFROM:+0100
TZOFFSETTO:+0200
TZNAME:CEST
DTSTART:20230326T010000
END:DAYLIGHT
BEGIN:STANDARD
TZOFFSETFROM:+0200
TZOFFSETTO:+0100
TZNAME:CET
DTSTART:20231029T010000
END:STANDARD
BEGIN:DAYLIGHT
TZOFFSETFROM:+0100
TZOFFSETTO:+0200
TZNAME:CEST
DTSTART:20240331T010000
END:DAYLIGHT
BEGIN:STANDARD
TZOFFSETFROM:+0200
TZOFFSETTO:+0100
TZNAME:CET
DTSTART:20241027T010000
END:STANDARD
BEGIN:DAYLIGHT
TZOFFSETFROM:+0100
TZOFFSETTO:+0200
TZNAME:CEST
DTSTART:20250330T010000
END:DAYLIGHT
BEGIN:STANDARD
TZOFFSETFROM:+0200
TZOFFSETTO:+0100
TZNAME:CET
DTSTART:20251026T010000
END:STANDARD
BEGIN:DAYLIGHT
TZOFFSETFROM:+0100
TZOFFSETTO:+0200
TZNAME:CEST
DTSTART:20260329T010000
END:DAYLIGHT
BEGIN:STANDARD
TZOFFSETFROM:+0200
TZOFFSETTO:+0100
TZNAME:CET
DTSTART:20261025T010000
END:STANDARD
END:VTIMEZONE
BEGIN:VEVENT
DTSTART;TZID=Europe/Madrid:20241210T190000
DTEND;TZID=Europe/Madrid:20241210T220000
DTSTAMP:20260423T111614
CREATED:20241204T084657Z
LAST-MODIFIED:20241204T085006Z
UID:15630-1733857200-1733868000@cafebreriaadhoc.com
SUMMARY:Mesa Redonda con autores y traductores de la editorial Funambulista en su 20 Aniversario y presentación de la última novedad La vida alegre\, de Luc Ferry.
DESCRIPTION:Participan en la mesa: Fernando Parra\, Eva Losada\, Javier Ruiz\, Bernardo Muñoz Carvajal\, Juan Ramón Martín\, Belén Quesada y Paloma Díaz. Moderará el editor Max Lacruz.\n\n\n\n\n\n\n\n\n\n\n\n\n\n\n\nLa vida feliz.\n\n\n\nTraducción de Miriam Herrera Jiménez y Max Lacruz \n\n\n\n«Cada vez son más los científicos que nos prometen que la revolución de la longevidad llegará mañana\, que nuestros nietos podrán vivir ciento cincuenta años o más\, aún jóvenes y con buena salud física y mental. Este libro hace balance de estas investigaciones\, separa la ciencia de la fantasía y plantea la pregunta fundamental: ¿por qué vivir tanto? Este es el tema principal de este libro\, que\, ante esta pregunta\, examina las dos concepciones existentes pero opuestas de una vida feliz. La primera\, que procede de los siglos pasados y que la psicología positiva ha vuelto a poner de moda\, nos invita a decir «sí a la realidad»\, a resignarnos al orden natural de las cosas para aceptar con serenidad la vejez y la muerte. En cambio\, las filosofías modernas abogan por una espiritualidad completamente distinta: la prolongación de la vida con buena salud podría ofrecer a la humanidad la oportunidad de ser por fin menos estrecha de miras\, menos violenta y\, por qué no\, más sabia que en el siglo XX». \n\n\n\n«Me parece genial llegar a vivir 300 años\, hay tantas mujeres que amar\, hay tantos libros que leer».Luc Ferry \n\n\n\n\n\n\n\n\n\n\n\n\n\n\n\nLuc Ferry\n\n\n\nLuc Ferry (Colombes\, Francia\, 1951) es un filósofo\, ensayista y político francés. Doctor en Ciencias Políticas y profesor de Filosofía y Ciencias Políticas\, ha sido investigador asociado en el Centro Nacional para la Investigación Científica de Francia. Desde 2002 hasta 2004\, fue ministro de Juventud\, Educación Nacional e Investigación antes de ser nombrado miembro del Comité Consultivo Nacional de Ética en 2009 por el presidente Nicolas Sarkozy. \n\n\n\n\n\n\n\n\n\n\n\nConsiderado como uno de los filósofos más destacados de Francia\, Luc Ferry\, a partir de las críticas al movimiento de Mayo de 68\, desarrolló una original filosofía política liberal\, centrada en particular en la ecología\, la tecnología\, la familia y la ética y en contra de los movimientos radicales.Es autor de más de treinta libros\, muchos de ellos traducidos a diversos idiomas\, entre los cuales: El hombre-Dios o el sentido de la vida (Tusquets\, 1997); Aprender a vivir: filosofía para mentes jóvenes (Taurus\, 2007); La tentación del cristianismo: de secta a civilización (Paidós\, 2010); La revolución transhumanista: cómo la tecnomedicina y la uberización del mundo van a transformar nuestras vidas (Alianza\, 2017). \n\n\n\n\n	\n		Comparte este evento\n		FacebookTwitterRedditLinkedInWhatsAppPinterestCorreo electrónico
URL:https://cafebreriaadhoc.com/evento/mesa-redonda-con-autores-y-traductores-de-la-editorial-funambulista-en-su-20-aniversario-y-presentacion-de-la-ultima-novedad-la-vida-alegre-de-luc-ferry/
CATEGORIES:Presentación literaria
ATTACH;FMTTYPE=image/jpeg:https://cafebreriaadhoc.com/wp-content/uploads/2024/12/cubierta_vidafeliz15-scaled-1.jpeg
END:VEVENT
BEGIN:VEVENT
DTSTART;TZID=Europe/Madrid:20241211T190000
DTEND;TZID=Europe/Madrid:20241211T220000
DTSTAMP:20260423T111614
CREATED:20241204T085628Z
LAST-MODIFIED:20241204T174332Z
UID:15639-1733943600-1733954400@cafebreriaadhoc.com
SUMMARY:Presentación de ¿Será esto la libertad? Memorias de una jueza en La Habana (Esstudio Ediciones)\, de Laura Valenzuela. 
DESCRIPTION:Presentará el libro junto a la autora la escritora Gabriela Guerra.\n\n\n\n\n\n\n\n\n\n\n\n\n\n\n\nSINOPSIS: \n\n\n\nAdoctrinada desde la cuna\, a los 7 años Yumi ya era una fiel defensora de la Revolución cubana. Con los años fue bañándose de realidad y enfrentando\, con esa rebeldía tan suya\, las injusticias del sistema. Aquella revolución que se vistió al mundo como un gobierno social perfecto fue la misma que la obligó a ejercer como jueza con tan solo 23 años\, a participar en actos de repudio contra disidentes\, a sufrir detenciones ilegales\, y a callar. \n\n\n\nMúltiples sucesos históricos acontecidos en Cuba entre los años 90 y los 2000 son contados en estas memorias desde la perspectiva de una cubana de a pie\, que no es hija de famosos\, de deportistas de élite\, o de dirigentes políticos del gobierno. \n\n\n\nSe trata de una historia real cargada de verdades que astillan la piel\, escenas asfixiantes\, culpa\, hipocresía y decepción\, donde no falta ese toque de humor que hace\, hay que decirlo\, únicos a los cubanos. \n\n\n\n*A fin de proteger la identidad de personas que actualmente se encuentran en riesgo de sufrir represalias\, se han empleado nombres ficticios para muchos de sus personajes. \n\n\n\n\n\n\n\n\n\n\n\nLaura Valenzuela\n\n\n\nLaura Valenzuela (La Haba-na\, 1982)\, se licenció en derecho por la Universidad de La Habana y ejerció como juez Profesicia de Cuba durante 3 años. Actualmente reside en España donde practica la abogacía con una destacada trayectoria profesional. Aunque Laura ha pasado gran parte de su vida escribiendo\, en servilletas\, en papeles viejos\, en pupitres\, es con estas memorias que ha decidido realizar su primera publicación. El humor\, mayormente irónico\, siempre acompaña a su bolígrafo\, porque como decía Oscar Wilde: «la vida es demasiado importante como para tomársela en serio». \n\n\n\nLaura no sabe si después de esta publicación podrá regresar a su país de origen\, algo que le desgarra el alma\, pero asume este riesgo porque debe cumplir una promesa: la de no olvidarse de sus presos políticos\, los que hablaron por ella. \n\n\n\n\n\n\n\n\n\n\n	\n		Comparte este evento\n		FacebookTwitterRedditLinkedInWhatsAppPinterestCorreo electrónico
URL:https://cafebreriaadhoc.com/evento/presentacion-de-sera-esto-la-libertad-memorias-de-una-jueza-en-la-habana-esstudio-ediciones-de-laura-valenzuela/
CATEGORIES:Presentación literaria
ATTACH;FMTTYPE=image/jpeg:https://cafebreriaadhoc.com/wp-content/uploads/2024/12/Cubierta-¿Sera-esto-la-libertad.jpeg
END:VEVENT
BEGIN:VEVENT
DTSTART;TZID=Europe/Madrid:20241212T190000
DTEND;TZID=Europe/Madrid:20241212T220000
DTSTAMP:20260423T111614
CREATED:20241204T090612Z
LAST-MODIFIED:20241204T091427Z
UID:15643-1734030000-1734040800@cafebreriaadhoc.com
SUMMARY:Presentación de El paraíso de los inocentes (Ed. Adeshoras)\, de Antón Riveiro Coello\, XXXI Premio Torrente Ballester de Narrativa. 
DESCRIPTION:Acompañará al autor en la presentación el profesor y escritor Diego Bernal.\n\n\n\n\n\n\n\n\n\n\n\n\n\n\nSINOPSIS: \n\n\n\nCuando en marzo de 2016 se produce el atentado yihadista de Zaventem\, en el que mueren más de treinta personas\, Helena\, una estudiante portuguesa\, se salva porque un tabique la protege de la explosión; Amira\, una activista siria que vive en el barrio Este de Alepo\, visita a un huérfano rescatado bajo los escombros; Alicia\, en su apartamento de Bruselas\, se pregunta por qué su pareja tarda tanto en llegar a casa y también por qué guarda grandes sumas de dinero en lo alto del armario; Isam\, un químico que trabaja en una fábrica de jabón en el barrio Oeste de Alepo\, teme la notificación del ejército para ingresar en sus filas y verse obligado a luchar en la guerra; y Alfredo\, un escritor en la cincuentena\, lee con pasión en un hotel de Oporto\, horas después de haber dejado a su hijo en el aeropuerto luso con destino a Bruselas. \n\n\n\n\n\nEl paraíso de los inocentes parte de la intensidad de estas cinco historias\, aparentemente independientes\, que acaban convergiendo y describen un viaje contemporáneo\, no solo sobre la destrucción del conflicto sirio y la tragedia humanitaria de los refugiados que buscan un nuevo paraíso en Europa\, sino también como un canto emocionado a la solidaridad\, la esperanza y la libertad. \n\n\n\nEsta novela\, merecedora del XXXI Premio Torrente Ballester de Narrativa en gallego en 2019\, está escrita desde el interior de personajes que atraviesan el horror con los ojos abiertos y buscan un exorcismo\, bien en la lucha\, el exilio\, el compromiso solidario o la literatura\, como intento desesperado de ajustar todo el dolor a la expectativa de una reconstrucción. \n\n\n\n\n\n\n\n\n\nAntón Riveiro Coello\n\n\n\n(Xinzo de Limia\,1964) es uno de los escritores más premiados y prestigiosos de los surgidos en los últimos años en la literatura  gallega. Autor de más de una docena de libros de éxito como A quinta de Saler\, Animalia\, Homónima\, Casas Baratas\, A esfinxe de amaranto o Os ollos de K\, entre otros\, ha logrado\, con sucesivas reediciones de sus obras\, la fidelidad de miles de lectores que sitúan a Los hijos de Bakunin (XII Premio Manuel García Barros) en el lugar privilegiado de las grandes novelas de la literatura gallega. \n\n\n\n \n\n\n\n\n\n\n\n\n\n\n\n\n\n\n\n\n	\n		Comparte este evento\n		FacebookTwitterRedditLinkedInWhatsAppPinterestCorreo electrónico
URL:https://cafebreriaadhoc.com/evento/presentacion-de-el-paraiso-de-los-inocentes-ed-adeshoras-de-anton-riveiro-coello/
CATEGORIES:Presentación literaria
ATTACH;FMTTYPE=image/jpeg:https://cafebreriaadhoc.com/wp-content/uploads/2024/12/Portada_El-paraiso-de-los-inocentes_web.jpg
END:VEVENT
BEGIN:VEVENT
DTSTART;TZID=Europe/Madrid:20241213T190000
DTEND;TZID=Europe/Madrid:20241213T220000
DTSTAMP:20260423T111614
CREATED:20241204T091832Z
LAST-MODIFIED:20241204T095202Z
UID:15656-1734116400-1734127200@cafebreriaadhoc.com
SUMMARY:Presentación de la nueva edición del poemario La sed (Ed. Tigres de papel)\, de Ada Salas.
DESCRIPTION:Junto a la autora\, presentarán el libro Pilar Martín Gila\, autora del prólogo e Isabel Navarro\, presidenta de la Asociación Genialogías de mujeres poetas.\n\n\n\n\n\n\n\n\n\n\n\n\n\n\nSINOPSIS: \n\n\n\nGenialogías recupera en 2024 La sed\, el tercer título de la poeta Ada Salas (Cáceres\, 1965)\, publicado originalmente en 1997. Un libro de concisión reflexiva y minimalista en el que asistimos a ese roce casi invisible del tiempo «que hiere la memoria»\, como dice Pilar Martín Gila en el prólogo\, donde «la palabra aparece como materia ella misma\, en sus dimensiones cognitivas y sensoriales\, un acto de entrega que volverá\, en retorno\, a encarnarse en la lectura entendida como préstamo de la voz del otro». \n\n\n\n\n\n \n\n\n\n\n\n\n\n\n\nAda Salas\n\n\n\nAda Salas nació en Cáceres en 1965. Estudió Filología Hispánica en La Universidad de Extremadura\, donde tuvo una beca de investigación. Además de a la escritura de poesía y ensayo\, se ha dedicado a la docencia en Institutos de Enseñanza Secundaria. \n\n\n\nHa publicado los siguientes libros de poesía: Arte y memoria del inocente (1988\, Universidad de Extremadura\, Premio “Juan Manuel Rozas”) Variaciones en blanco (1994\, Hiperión\, Premio “Hiperión”) La sed  (1997\, Hiperión) Noticia de la luz (2003\, Escuela de arte de Mérida)\, Lugar de la derrota (2003\, Hiperión)\, Esto no es el silencio (2008\, Hiperión\, Premio “Ciudad de Córdoba”)\, No duerme el animal (2009\, Hiperión)\, que recoge la casi totalidad de su obra hasta ese momento\, Limbo y otros poemas (Pre-Textos\, 2013) y Descendimiento (Pre-Textos\, 2018). \n\n\n\n\n\n\n\n\n\n\n\nEn colaboración con el fotógrafo Tete Alejandre ha publicado Reflejos (2006)\, y son fruto de su trabajo en común con el pintor pintor Jesús Placencia los títulos Ashes to Ashes (Editora Regional de Extremadura\, 2011) y Diez Mandamientos (La Oficina ediciones\, 2016). En 2021 apareció Criba\, que reúne poemas de la autora con obra gráfica de Laura Lio (Pezplata ediciones\, 2021). \n\n\n\nEn 2016 la editorial Fondo de Cultura Económica sacó a la luz la antología Escribir y borrar\, que incluye también una selección de su obra ensayística\, entre la que cabe destacar: el libro de prosas acerca de la escritura poética Alguien aquí (Hiperión\, 2005\, El margen\, el error\, la tachadura (de la metáfora y otros asuntos más o menos poéticos) (Diputación de Badajoz\, Premio de ensayo “Fernando Pérez”\, 2011)\, y Lengua del alma (“Poética y Poesía”\, Fundación Juan March\, 1919). \n\n\n\n\n\n\n\n\n	\n		Comparte este evento\n		FacebookTwitterRedditLinkedInWhatsAppPinterestCorreo electrónico
URL:https://cafebreriaadhoc.com/evento/presentacion-de-la-nueva-edicion-del-poemario-la-sed-ed-tigres-de-papel-de-ada-salas/
CATEGORIES:Presentación literaria
ATTACH;FMTTYPE=image/jpeg:https://cafebreriaadhoc.com/wp-content/uploads/2024/12/CUBIERTA-ADA-borde.jpg
END:VEVENT
BEGIN:VEVENT
DTSTART;TZID=Europe/Madrid:20241216T190000
DTEND;TZID=Europe/Madrid:20250106T220000
DTSTAMP:20260423T111614
CREATED:20241215T104313Z
LAST-MODIFIED:20241217T093010Z
UID:15727-1734375600-1736200800@cafebreriaadhoc.com
SUMMARY:¡La mejor combinación para tu regalo esta Navidad!
DESCRIPTION:¡La mejor combinación para tu regalo esta Navidad! \n\n\n\nEstas Navidades puede hacer un regalo súper especial: una combinación de literatura+visita al teatro de la Abadía. Por la compra de uno de los siguientes libros en Cafebrería Ad Hoc\, obtendrás un descuento del 20% en la entrada de la función que elijas en el Teatro de La Abadía. Toma nota de los autores y títulos y ¡lee disfrutando del teatro! \n\n\n\nUn libro de CARMEN MARTIN GAITE y hasta dos entradas para el espectáculo Caperucita en Manhattan o El cuarto de atrás. \n\n\n\nUn libro de CARMEN CONDE y El sillón K. \n\n\n\nUn libro de HAROLD PINTER y Viejos tiempos. \n\n\n\nUn libro de ESQUILO y Orestíada. \n\n\n\n¿No te parece un regalo maravilloso? \n\n\n\n\n\n\n\n\n\n \n\n\n\n\n\n\n\n\n	\n		Comparte este evento\n		FacebookTwitterRedditLinkedInWhatsAppPinterestCorreo electrónico
URL:https://cafebreriaadhoc.com/evento/la-mejor-combinacion-para-tu-regalo-esta-navidad/
CATEGORIES:Presentación literaria
ATTACH;FMTTYPE=image/jpeg:https://cafebreriaadhoc.com/wp-content/uploads/2024/12/Abadia.jpeg
END:VEVENT
BEGIN:VEVENT
DTSTART;TZID=Europe/Madrid:20241219T190000
DTEND;TZID=Europe/Madrid:20241219T220000
DTSTAMP:20260423T111614
CREATED:20241215T103326Z
LAST-MODIFIED:20241215T103401Z
UID:15715-1734634800-1734645600@cafebreriaadhoc.com
SUMMARY:Presentación de Las pandemias (Ed. Catarata)\, de Fernando Valladares.
DESCRIPTION:Intervendrá en la presentación junto al autor Margarita del Val\, viróloga e inmunóloga de Investigación del Centro de Biología Molecular Severo Ochoa del CSIC.\n\n\n\n\n\n\n\n\n\n\n\n\n\n\nSINOPSIS: \n\n\n\nLejos le queda a la humanidad la sensatez para autolimitarse en un planeta finito. Habiendo acabado con una buena parte de los predadores y\, por supuesto\, con los competidores más directos\, al Homo sapiens del siglo XXI solo le frenan las pandemias\, el cambio climático y la degradación ambiental que él mismo crea. La covid-19 ha sido la primera pandemia del siglo XXI y\, por desgracia\, no será la última. Rompiendo los equilibrios ecológicos\, manipulando especies\, alterando la biodiversidad y fragmentando y degradando ecosistemas estamos incrementando rápidamente el riesgo de zoonosis\, es decir\, de saltos de patógenos animales al ser humano y por tanto de pandemias. El cambio climático amplifica la mitad de las infecciones peligrosas para los humanos\, al igual que diversas actividades económicas\, que aumentan los brotes epidémicos. La historia de las pandemias nos permite aceptarlas\, la medicina atenuarlas\, pero solo aliándonos con la ecología y la evolución llegaremos a prevenirlas. Sabemos las ventajas de coexistir con los demás seres vivos y sabemos cómo hacerlo. Quizá ha llegado el momento de proponérselo en serio. \n\n\n\n\n\n \n\n\n\n\n\n\n\n\n\nFernando Valladares\n\n\n\nDoctor en Biología\, investigador del Consejo Superior de Investigaciones Científicas y profesor de Ecología en la Universidad Rey Juan Carlos. Es un científico altamente citado\, con numerosas investigaciones sobre el papel de la biodiversidad y los impactos del cambio climático y de la actividad humana en los ecosistemas. Es autor de más de 300 artículos científicos sobre adaptaciones de plantas y ecosistemas al cambio global. Ha sido galardonado con el Premio Rey Jaime I de Protección del Medio Ambiente\, el Premio de la Fundación BBVA a la conservación de la biodiversidad y la Medalla de Oro de la Cruz Roja por su compromiso ecosocial. Su labor de investigación la complementa con una intensa labor de divulgación dentro de su proyecto “La salud de la humanidad”. Ha publicado La salud planetaria en esta misma colección (2022). \n\n\n\n\n\n\n\n\n\n\n\n \n\n\n\n\n\n\n\n\n	\n		Comparte este evento\n		FacebookTwitterRedditLinkedInWhatsAppPinterestCorreo electrónico
URL:https://cafebreriaadhoc.com/evento/presentacion-de-las-pandemias-ed-catarata-de-fernando-valladares/
CATEGORIES:Presentación literaria
ATTACH;FMTTYPE=image/jpeg:https://cafebreriaadhoc.com/wp-content/uploads/2024/12/las-pandemias.jpg
END:VEVENT
END:VCALENDAR