BEGIN:VCALENDAR
VERSION:2.0
PRODID:-//Cafebrería ad Hoc - ECPv6.15.13.1//NONSGML v1.0//EN
CALSCALE:GREGORIAN
METHOD:PUBLISH
X-WR-CALNAME:Cafebrería ad Hoc
X-ORIGINAL-URL:https://cafebreriaadhoc.com
X-WR-CALDESC:Eventos para Cafebrería ad Hoc
REFRESH-INTERVAL;VALUE=DURATION:PT1H
X-Robots-Tag:noindex
X-PUBLISHED-TTL:PT1H
BEGIN:VTIMEZONE
TZID:Europe/Madrid
BEGIN:DAYLIGHT
TZOFFSETFROM:+0100
TZOFFSETTO:+0200
TZNAME:CEST
DTSTART:20210328T010000
END:DAYLIGHT
BEGIN:STANDARD
TZOFFSETFROM:+0200
TZOFFSETTO:+0100
TZNAME:CET
DTSTART:20211031T010000
END:STANDARD
BEGIN:DAYLIGHT
TZOFFSETFROM:+0100
TZOFFSETTO:+0200
TZNAME:CEST
DTSTART:20220327T010000
END:DAYLIGHT
BEGIN:STANDARD
TZOFFSETFROM:+0200
TZOFFSETTO:+0100
TZNAME:CET
DTSTART:20221030T010000
END:STANDARD
BEGIN:DAYLIGHT
TZOFFSETFROM:+0100
TZOFFSETTO:+0200
TZNAME:CEST
DTSTART:20230326T010000
END:DAYLIGHT
BEGIN:STANDARD
TZOFFSETFROM:+0200
TZOFFSETTO:+0100
TZNAME:CET
DTSTART:20231029T010000
END:STANDARD
END:VTIMEZONE
BEGIN:VEVENT
DTSTART;TZID=Europe/Madrid:20220701T193000
DTEND;TZID=Europe/Madrid:20220701T210000
DTSTAMP:20260422T004932
CREATED:20220618T105223Z
LAST-MODIFIED:20220623T061524Z
UID:11750-1656703800-1656709200@cafebreriaadhoc.com
SUMMARY:DANZA DE VERANO. Una exposición de Jesús Gironés para Cafebrería ad Hoc
DESCRIPTION:Hay tantos veranos como infancias. El verano tiene algo de tierra de nadie\, de ruptura de la rutina\, más del lado del ocio que del estudio o del trabajo. Es un tiempo en que el tiempo se deshace. Propicio a la aventura y a la lectura\, a la imaginación. A descubrir nuevas realidades.\n\n\n\nDANZA DE VERANO es una propuesta abierta a 41 artistas: fotografía. pintura\, dibujo\, collage\, obra digital o escultura. Una exposición que reivindica un tiempo de encuentro\, de fiesta\, de reunión\, de nocturnidad y alevosía. \n\n\n\nLa danza del arte que es la danza de la vida\, y de la muerte. Veranos de Moravia\, de Gloria Fuertes\, de Williams\, de Ana María Matute… De zarzaparrilla\, cócteles\, sangrías y cerveza. De amores de espuma y campos dorados. \n\n\n\n\n\n\n\n\n\n\n\n\n\n\n\n\n\n\n\n\n\n\n\n\n\n\n\n\n\n\n\n\n\n\n\n\n\n\n\n\n\n\n\n\n\n\n\n\n\n\n\n\n\n\n\n\n\nParticipantes en DANZA DE VERANO by Jesús Gironés: \n\n\n\nAna Musma | Agar Blasco | Alvar Haro | Aníbal Merlo | Bettina Geisselmann | Carlos Sánchez | Carlos Regueira | Carlos Díez Bustos | César Fernández Arias | Che Marchesi | David Trullo | Dafne Artigot | Eva Hiernaux | Eki Leceta | Florencia Kettner | Isabel López Venkateselu | lllán Arguello | Juan Gómez | Julia Vallespín | Javier Gerada | José Luis López Moral | Jonay García Albacete | Lucía Loren | Montse Gómez Osuna | Mariana Laín | Miluca Sanz | Mila Rodero | Mesa Esteban Drake | Mareta Espinosa | Nacho Casares | Olimpia Velasco | Pepe Domínguez | Pablo Sola | Pilar Cavestany | Patricia Mateo | Patricia Mayoral | Patricia López Landabaso | Roberto González Fernández | Saleta Rosón | Teresa Moro \n\n\n\nOs esperamos en la inauguración de esta esta propuesta que animará el verano madrileño como pocas exposiciones. \n\n\n\n\n\n\n\n\n	\n		Comparte este evento\n		FacebookTwitterRedditLinkedInWhatsAppPinterestCorreo electrónico
URL:https://cafebreriaadhoc.com/evento/danza-de-verano-una-exposicion-de-jesus-girones-y-cafebreria-ad-hoc/
LOCATION:Jesús Gironés
CATEGORIES:Arte,Inauguración
ATTACH;FMTTYPE=image/jpeg:https://cafebreriaadhoc.com/wp-content/uploads/2022/06/Banner_danza_de_verano.jpg
END:VEVENT
END:VCALENDAR