BEGIN:VCALENDAR
VERSION:2.0
PRODID:-//Cafebrería ad Hoc - ECPv6.15.13.1//NONSGML v1.0//EN
CALSCALE:GREGORIAN
METHOD:PUBLISH
X-WR-CALNAME:Cafebrería ad Hoc
X-ORIGINAL-URL:https://cafebreriaadhoc.com
X-WR-CALDESC:Eventos para Cafebrería ad Hoc
REFRESH-INTERVAL;VALUE=DURATION:PT1H
X-Robots-Tag:noindex
X-PUBLISHED-TTL:PT1H
BEGIN:VTIMEZONE
TZID:Europe/Madrid
BEGIN:DAYLIGHT
TZOFFSETFROM:+0100
TZOFFSETTO:+0200
TZNAME:CEST
DTSTART:20230326T010000
END:DAYLIGHT
BEGIN:STANDARD
TZOFFSETFROM:+0200
TZOFFSETTO:+0100
TZNAME:CET
DTSTART:20231029T010000
END:STANDARD
BEGIN:DAYLIGHT
TZOFFSETFROM:+0100
TZOFFSETTO:+0200
TZNAME:CEST
DTSTART:20240331T010000
END:DAYLIGHT
BEGIN:STANDARD
TZOFFSETFROM:+0200
TZOFFSETTO:+0100
TZNAME:CET
DTSTART:20241027T010000
END:STANDARD
BEGIN:DAYLIGHT
TZOFFSETFROM:+0100
TZOFFSETTO:+0200
TZNAME:CEST
DTSTART:20250330T010000
END:DAYLIGHT
BEGIN:STANDARD
TZOFFSETFROM:+0200
TZOFFSETTO:+0100
TZNAME:CET
DTSTART:20251026T010000
END:STANDARD
END:VTIMEZONE
BEGIN:VEVENT
DTSTART;TZID=Europe/Madrid:20240531T100000
DTEND;TZID=Europe/Madrid:20240615T220000
DTSTAMP:20260421T015846
CREATED:20240527T152706Z
LAST-MODIFIED:20240528T105219Z
UID:14559-1717149600-1718488800@cafebreriaadhoc.com
SUMMARY:Fiesta del libro 2024
DESCRIPTION:El próximo viernes comienza nuestra Fiesta del Libro 2024. \n\n\n\nComo ya sabéis\, desde hace un año Cafebrería ad Hoc celebra su particular Feria del Libro desde la librería buscando siempre la cercanía del propio barrio\, recomendando buena lecturas\, dando prioridad a la cercanía y a la amistad\, a los lazos que se generan día a día.Por eso\, y para celebrar juntos esta gran fiesta del libro\, hemos preparado un montón de sorpresas y regalos\, descuentos de hasta el 20%en libros y resto de artículos y mesas temáticas. ¿Suena bien\, no? \n\n\n\n¡Así que os esperamos con mucha ilusión desde el viernes 31 de mayo y hasta el sábado 15 de junio en nuestro horario habitual! \n\n\n\n\n\n\n\n\n\n\n\n\n\n\n\n\n\n\n\n\n\n\n\n\n\n\n\n\n\n\n\n	\n		Comparte este evento\n		FacebookTwitterRedditLinkedInWhatsAppPinterestCorreo electrónico
URL:https://cafebreriaadhoc.com/evento/fiesta-del-libro-2024/
CATEGORIES:Fiesta del libro
ATTACH;FMTTYPE=image/jpeg:https://cafebreriaadhoc.com/wp-content/uploads/2024/05/FL2024.jpeg
END:VEVENT
END:VCALENDAR