BEGIN:VCALENDAR
VERSION:2.0
PRODID:-//Cafebrería ad Hoc - ECPv6.15.13.1//NONSGML v1.0//EN
CALSCALE:GREGORIAN
METHOD:PUBLISH
X-ORIGINAL-URL:https://cafebreriaadhoc.com
X-WR-CALDESC:Eventos para Cafebrería ad Hoc
REFRESH-INTERVAL;VALUE=DURATION:PT1H
X-Robots-Tag:noindex
X-PUBLISHED-TTL:PT1H
BEGIN:VTIMEZONE
TZID:Europe/Madrid
BEGIN:DAYLIGHT
TZOFFSETFROM:+0100
TZOFFSETTO:+0200
TZNAME:CEST
DTSTART:20200329T010000
END:DAYLIGHT
BEGIN:STANDARD
TZOFFSETFROM:+0200
TZOFFSETTO:+0100
TZNAME:CET
DTSTART:20201025T010000
END:STANDARD
BEGIN:DAYLIGHT
TZOFFSETFROM:+0100
TZOFFSETTO:+0200
TZNAME:CEST
DTSTART:20210328T010000
END:DAYLIGHT
BEGIN:STANDARD
TZOFFSETFROM:+0200
TZOFFSETTO:+0100
TZNAME:CET
DTSTART:20211031T010000
END:STANDARD
BEGIN:DAYLIGHT
TZOFFSETFROM:+0100
TZOFFSETTO:+0200
TZNAME:CEST
DTSTART:20220327T010000
END:DAYLIGHT
BEGIN:STANDARD
TZOFFSETFROM:+0200
TZOFFSETTO:+0100
TZNAME:CET
DTSTART:20221030T010000
END:STANDARD
END:VTIMEZONE
BEGIN:VEVENT
DTSTART;TZID=Europe/Madrid:20211120T193000
DTEND;TZID=Europe/Madrid:20211120T210000
DTSTAMP:20260423T230148
CREATED:20211110T110033Z
LAST-MODIFIED:20211117T090013Z
UID:10518-1637436600-1637442000@cafebreriaadhoc.com
SUMMARY:Presentación de Golpes de luz (Ed. Destino)\, de Ledicia Costas
DESCRIPTION:Esta novela de Ledicia Costas es tierna y llena de humor sobre los secretos que marcan la vida de tres generaciones de una familia en la Galicia rural. \n\n\n\nAcompañará a la autora el periodista Noel Ceballos.\n\n\n\nEl narcotráfico en la Galicia de los años noventa\, el mundo de los cuidados y la búsqueda de la verdad envuelven esta historia llena de humor y habitada por unos personajes inolvidables. \n\n\n\nDespués del éxito de Infamia\, Ledicia Costas muestra de nuevo su gran talento creativo con Golpes de luz\, una novela tierna y salvaje. \n\n\n\n\n\n\n\nJulia es periodista\, acaba de separarse y decide dejar atrás Madrid y regresar a su pueblo\, en Galicia\, con su hijo Sebas\, para cambiar de aires y cuidar de su madre. El niño tiene diez años y está convencido de que su abuela Luz es el dios Thor\, porque nunca se separa de su martillo. Aunque esconda polvorones en las medias\, beba Sansón hasta ver doble y diga mentiras sin parar\, Sebas adora a su abuela. Es una diosa\, y ha convertido su jardín en un templo. Pero\, para Julia volver a la casa familiar supone enfrentarse a un pasado lleno de secretos que necesita desvelar. Y a la desaparición de su padre\, que hace más de treinta años se fue sin despedirse. \n\n\n\n\n\n\n\n \n\n\n\n\n\n\n\n\n\n\n\nLedicia Costas (Vigo\, 1979) es una autora gallega licenciada en Derecho. Lleva varios años dedicándose profesionalmente y en exclusiva a la literatura. Publicó su primer libro en el año 2000 y desde entonces ha escrito numerosas novelas infantiles y juveniles que han sido traducidas a varios idiomas. Por su extraordinaria narrativa\, ha obtenido importantes premios literarios\, como el Premio Nacional de Literatura Infantil y Juvenil y\, en dos ocasiones\, el Premio Lazarillo\, gracias a los cuales ha ido conquistando a miles de lectores. Infamia (Destino\, 2019)\, su primera novela para adultos\, la consolidó como una de las autoras con más proyección de la narrativa actual. Golpes de luz (Destino\, 2021) es su nueva y esperada novela. \n\n\n\n\n\n\n\n\n\n\n\n\n\nNoel Ceballos es periodista\, crítico de cine\, escritor y guionista. Pese a su juventud\, es un referente en el análisis de la cultura pop. Ha colaborado en Fotogramas\, GQ\, S Moda\, MTV y Cine 365\, y es autor de la novela La Escuela Nocturna (Editorial Alegoría\, 2014) y del blog Emperador de los Helados\, en el que lleva más de diez años analizando las últimas tendencias culturales. Ama el queso\, los vinilos y los lugares abandonados. No hay día que no mire fotos de Natalie Portman. \n\n\n\n\n\n\n\n\n\n\n\n\n	\n		Comparte este evento\n		FacebookTwitterRedditLinkedInWhatsAppPinterestCorreo electrónico
URL:https://cafebreriaadhoc.com/evento/presentacion-de-golpes-de-luz-destino-de-ledicia-costas/
CATEGORIES:Firma,INDEPRESENTES,Presentación literaria
ATTACH;FMTTYPE=image/jpeg:https://cafebreriaadhoc.com/wp-content/uploads/2021/11/portada_golpes-de-luz_ledicia-costas_202110141600.jpg
END:VEVENT
END:VCALENDAR