BEGIN:VCALENDAR
VERSION:2.0
PRODID:-//Cafebrería ad Hoc - ECPv6.15.13.1//NONSGML v1.0//EN
CALSCALE:GREGORIAN
METHOD:PUBLISH
X-ORIGINAL-URL:https://cafebreriaadhoc.com
X-WR-CALDESC:Eventos para Cafebrería ad Hoc
REFRESH-INTERVAL;VALUE=DURATION:PT1H
X-Robots-Tag:noindex
X-PUBLISHED-TTL:PT1H
BEGIN:VTIMEZONE
TZID:Europe/Madrid
BEGIN:DAYLIGHT
TZOFFSETFROM:+0100
TZOFFSETTO:+0200
TZNAME:CEST
DTSTART:20200329T010000
END:DAYLIGHT
BEGIN:STANDARD
TZOFFSETFROM:+0200
TZOFFSETTO:+0100
TZNAME:CET
DTSTART:20201025T010000
END:STANDARD
BEGIN:DAYLIGHT
TZOFFSETFROM:+0100
TZOFFSETTO:+0200
TZNAME:CEST
DTSTART:20210328T010000
END:DAYLIGHT
BEGIN:STANDARD
TZOFFSETFROM:+0200
TZOFFSETTO:+0100
TZNAME:CET
DTSTART:20211031T010000
END:STANDARD
BEGIN:DAYLIGHT
TZOFFSETFROM:+0100
TZOFFSETTO:+0200
TZNAME:CEST
DTSTART:20220327T010000
END:DAYLIGHT
BEGIN:STANDARD
TZOFFSETFROM:+0200
TZOFFSETTO:+0100
TZNAME:CET
DTSTART:20221030T010000
END:STANDARD
END:VTIMEZONE
BEGIN:VEVENT
DTSTART;TZID=Europe/Madrid:20211217T193000
DTEND;TZID=Europe/Madrid:20211217T210000
DTSTAMP:20260423T132250
CREATED:20211122T081244Z
LAST-MODIFIED:20211124T215324Z
UID:10624-1639769400-1639774800@cafebreriaadhoc.com
SUMMARY:Presentación de Soplo de vida: antología de animales\, (Ojos de sol)\, VVAA.
DESCRIPTION:Soplo de vida es una antología en torno a lo animal. Una suerte de bestiario donde se reúnen 28 grandes voces de la literatura hispanoamericana para hablar sobre la animalidad. \n\n\n\nPortada de Soplo de vida: antología de animales\, de la editorial Ojos de Sol.\n\n\n\nAutores que componen esta antología: \n\n\n\n\n\nVerónica Aranda\, Sandra Benito Fernández\, Adán Brand\, Ingrid Bringas\, Valeria Canelas\, César Cañedo\, Valeria Correa Fiz\, Andrea Sofía Crespo Madrid\, Lucía Cupertino\, Elisa Díaz Castelo\,  \n\n\n\n\n\nMiguel Ángel Feria\, Daniel Fernández Rodríguez\, Sesi García\, Berta García Faet\, Carlos García Mera\, Maricela Guerrero\, Alberto Guirao\, Pedro Martín Aguilar\, Diego Medina Poveda\,  \n\n\n\n\n\nCarla Nyman\, Federico Ocaña\, Ana Pérez Cañamares\, Sergio Pérez Torres\, Óscar Pirot\, Benito del Pliego\, Antonio Rivero Machina\, Andrea Toribio\, Karen Villeda. \n\n\n\n\n\nLa pluralidad de perspectivas y la variedad de formas al relacionarnos con los animales está claramente demostrada por las autoras y los autores reunidos en esta antología. Todos son representantes tanto de las voces nuevas como de aquellas ya consolidadas de la poesía hispánica. […] Así\, pueblan estas páginas\, al lado de los gatos y los perros —inestimables compañeros en nuestros hogares—\, animales de todas las latitudes: desde tortugas y toda clase de aves e insectos\, hasta caballos\, cocodrilos\, tlacuaches\, koalas\, ballenas\, serpientes\, peces y un largo etcétera. \n\n\n\nLos lectores encontrarán aquí las reflexiones acerca de los aspectos comunes compartidos entre los humanos y los animales. Ya también nuestra propia animalidad: las incursiones en las imágenes mitológicas\, los ejemplos de la observación zoológico-literaria de la fauna\, las formas — tan cercanas— de relacionarnos con los animales de compañía\, las cavilaciones en torno a la violencia y el sometimiento de los animales. Alude\, incluso\, a los asuntos de la actualidad mediática protagonizada por ellos. \n\n\n\nPara la presentación\, que será retransmitida por Facebook\, estarán presentes los autores Sandra Benito\, Federico Ocaña\, Carla Nyman y Miguel Ángel Feria.  \n\n\n\n\n\n\n\n\n\n\n	\n		Comparte este evento\n		FacebookTwitterRedditLinkedInWhatsAppPinterestCorreo electrónico
URL:https://cafebreriaadhoc.com/evento/presentacion-de-soplo-de-vida-antologia-de-animales-ojos-de-sol-vvaa/
CATEGORIES:Charla-coloquio,INDEPRESENTES,Presentación literaria
ATTACH;FMTTYPE=image/jpeg:https://cafebreriaadhoc.com/wp-content/uploads/2021/11/portada_soplo-de-vida.jpg
END:VEVENT
END:VCALENDAR