BEGIN:VCALENDAR
VERSION:2.0
PRODID:-//Cafebrería ad Hoc - ECPv6.15.13.1//NONSGML v1.0//EN
CALSCALE:GREGORIAN
METHOD:PUBLISH
X-WR-CALNAME:Cafebrería ad Hoc
X-ORIGINAL-URL:https://cafebreriaadhoc.com
X-WR-CALDESC:Eventos para Cafebrería ad Hoc
REFRESH-INTERVAL;VALUE=DURATION:PT1H
X-Robots-Tag:noindex
X-PUBLISHED-TTL:PT1H
BEGIN:VTIMEZONE
TZID:Europe/Madrid
BEGIN:DAYLIGHT
TZOFFSETFROM:+0100
TZOFFSETTO:+0200
TZNAME:CEST
DTSTART:20210328T010000
END:DAYLIGHT
BEGIN:STANDARD
TZOFFSETFROM:+0200
TZOFFSETTO:+0100
TZNAME:CET
DTSTART:20211031T010000
END:STANDARD
BEGIN:DAYLIGHT
TZOFFSETFROM:+0100
TZOFFSETTO:+0200
TZNAME:CEST
DTSTART:20220327T010000
END:DAYLIGHT
BEGIN:STANDARD
TZOFFSETFROM:+0200
TZOFFSETTO:+0100
TZNAME:CET
DTSTART:20221030T010000
END:STANDARD
BEGIN:DAYLIGHT
TZOFFSETFROM:+0100
TZOFFSETTO:+0200
TZNAME:CEST
DTSTART:20230326T010000
END:DAYLIGHT
BEGIN:STANDARD
TZOFFSETFROM:+0200
TZOFFSETTO:+0100
TZNAME:CET
DTSTART:20231029T010000
END:STANDARD
END:VTIMEZONE
BEGIN:VEVENT
DTSTART;TZID=Europe/Madrid:20220615T190000
DTEND;TZID=Europe/Madrid:20220615T203000
DTSTAMP:20260422T000502
CREATED:20220531T052036Z
LAST-MODIFIED:20220613T055408Z
UID:11692-1655319600-1655325000@cafebreriaadhoc.com
SUMMARY:Presentación del libro Mujer tenía que ser (Libros Cúpula)\, de Tania Llasera
DESCRIPTION:Acompañará a la autora la emprendedora Laura Baena (fundadora del Club de Malas Madres)\n\n\n\nEl libro más personal de la popular presentadora Tania Llasera\, en el que dice basta a una visión de la mujer que la reduce a un cuerpo\, la minusvalora y la empequeñece. Nunca más una mujer será juzgada por la mirada ajena. \n\n\n\n\n\n\n\n\n\n\n\n\n\n\n\n\n\n\n\n\n\n\n\n\n\n\n\nTania Llasera Alberdi (Bilbao\, 21 de julio de 1979) es una actriz y presentadora española. \n\n\n\nTania es una mezcla de sangre inglesa y vasca por dos generaciones\, tiene sangre obrera y aristocrática\, facha y roja\, feliz e infeliz. Tania\, cómo la mayoría de nosotros\, acoge lo bueno y lo malo de toda su genética. \n\n\n\nEl cocktail de culturas ha hecho que la Llasera tenga una visión distinta de la imagen de la que además vive\, porque se dedica al mundo de la comunicación. \n\n\n\nTania es presentadora de Mediaset\, y solamente quiere dar la talla como persona\, nada más. Ella es mucho más que una presentadora de televisión: es madre\, esposa\, artista\, es creativa\, y lo más importante y revolucionario hoy en día: es feliz tal y como es. \n\n\n\nTania sabe que es mucho más que una imagen\, ella vive de su imagen pero no es esclava de ella; y esto en nuestra sociedad aún choca mucho. \n\n\n\nLlasera es sinónimo de redes sociales\, y es una experta en haters y polémicas variadas. Ella es frágilmente fuerte\, sabe diferenciar claramente lo importante de lo que no lo es\, priorizando siempre lo natural y lo sano. Tania Llasera normaliza la normalidad. No hay famosa más ‘normal’. \n\n\n\nTania Llasera quiere hablarte del secreto de amarse a uno mismo y que te rebote lo que la gente/prensa diga… quiere hablar del culto a la imagen en ésta sociedad\, y de lo inculta que es la gente sobre el amor propio. \n\n\n\n\n\n\n\n\n\n\n\n\n	\n		Comparte este evento\n		FacebookTwitterRedditLinkedInWhatsAppPinterestCorreo electrónico
URL:https://cafebreriaadhoc.com/evento/presentacion-del-libro-mujer-tenias-que-ser-detania-llasera-libros-cupula/
CATEGORIES:Firma,INDEPRESENTES,Presentación literaria
ATTACH;FMTTYPE=image/jpeg:https://cafebreriaadhoc.com/wp-content/uploads/2022/05/Mujer_tenia_que_ser.jpg
END:VEVENT
END:VCALENDAR